BEGIN:VCALENDAR
VERSION:2.0
PRODID:-//Kisdorf.de - ECPv6.15.12.2//NONSGML v1.0//EN
CALSCALE:GREGORIAN
METHOD:PUBLISH
X-WR-CALNAME:Kisdorf.de
X-ORIGINAL-URL:https://kisdorf.de
X-WR-CALDESC:Veranstaltungen für Kisdorf.de
REFRESH-INTERVAL;VALUE=DURATION:PT1H
X-Robots-Tag:noindex
X-PUBLISHED-TTL:PT1H
BEGIN:VTIMEZONE
TZID:Europe/Berlin
BEGIN:DAYLIGHT
TZOFFSETFROM:+0100
TZOFFSETTO:+0200
TZNAME:CEST
DTSTART:20240331T010000
END:DAYLIGHT
BEGIN:STANDARD
TZOFFSETFROM:+0200
TZOFFSETTO:+0100
TZNAME:CET
DTSTART:20241027T010000
END:STANDARD
BEGIN:DAYLIGHT
TZOFFSETFROM:+0100
TZOFFSETTO:+0200
TZNAME:CEST
DTSTART:20250330T010000
END:DAYLIGHT
BEGIN:STANDARD
TZOFFSETFROM:+0200
TZOFFSETTO:+0100
TZNAME:CET
DTSTART:20251026T010000
END:STANDARD
BEGIN:DAYLIGHT
TZOFFSETFROM:+0100
TZOFFSETTO:+0200
TZNAME:CEST
DTSTART:20260329T010000
END:DAYLIGHT
BEGIN:STANDARD
TZOFFSETFROM:+0200
TZOFFSETTO:+0100
TZNAME:CET
DTSTART:20261025T010000
END:STANDARD
END:VTIMEZONE
BEGIN:VEVENT
DTSTART;TZID=Europe/Berlin:20250417T180000
DTEND;TZID=Europe/Berlin:20250417T200000
DTSTAMP:20260419T183812
CREATED:20250407T101137Z
LAST-MODIFIED:20250407T101137Z
UID:25298-1744912800-1744920000@kisdorf.de
SUMMARY:Abendgottesdienst am Gründonnerstag
DESCRIPTION:Herzliche Einladung zum Abendgottesdienst mit Tischabendmahl und gemeinsamem Abendessen in der Kirche!
URL:https://kisdorf.de/event/abendgottesdienst-am-gruendonnerstag/
LOCATION:Friedenskirche Kisdorf\, Etzberg 59\, Kisdorf
CATEGORIES:Gottesdienst
ATTACH;FMTTYPE=image/jpeg:https://kisdorf.de/wp-content/uploads/2025/04/20230406_191759.jpg
ORGANIZER;CN="Ev.-Luth. Kirchengemeinde Kisdorf":MAILTO:kg.kisdorf@altholstein.de
END:VEVENT
BEGIN:VEVENT
DTSTART;TZID=Europe/Berlin:20250417T190000
DTEND;TZID=Europe/Berlin:20250417T210000
DTSTAMP:20260419T183812
CREATED:20210717T082700Z
LAST-MODIFIED:20210717T082700Z
UID:14354-1744916400-1744923600@kisdorf.de
SUMMARY:Musikkapelle Kisdorf
DESCRIPTION:Orchesterprobe
URL:https://kisdorf.de/event/musikkapelle-kisdorf/2025-04-17/
LOCATION:Margarethenhoff Saal\, Sengel 1\, Kisdorf\, 24269\, Deutschland
CATEGORIES:Margarethenhoff Saal
END:VEVENT
END:VCALENDAR