BEGIN:VCALENDAR
VERSION:2.0
PRODID:-//Kisdorf.de - ECPv6.15.12.2//NONSGML v1.0//EN
CALSCALE:GREGORIAN
METHOD:PUBLISH
X-ORIGINAL-URL:https://kisdorf.de
X-WR-CALDESC:Veranstaltungen für Kisdorf.de
REFRESH-INTERVAL;VALUE=DURATION:PT1H
X-Robots-Tag:noindex
X-PUBLISHED-TTL:PT1H
BEGIN:VTIMEZONE
TZID:Europe/Berlin
BEGIN:DAYLIGHT
TZOFFSETFROM:+0100
TZOFFSETTO:+0200
TZNAME:CEST
DTSTART:20240331T010000
END:DAYLIGHT
BEGIN:STANDARD
TZOFFSETFROM:+0200
TZOFFSETTO:+0100
TZNAME:CET
DTSTART:20241027T010000
END:STANDARD
BEGIN:DAYLIGHT
TZOFFSETFROM:+0100
TZOFFSETTO:+0200
TZNAME:CEST
DTSTART:20250330T010000
END:DAYLIGHT
BEGIN:STANDARD
TZOFFSETFROM:+0200
TZOFFSETTO:+0100
TZNAME:CET
DTSTART:20251026T010000
END:STANDARD
BEGIN:DAYLIGHT
TZOFFSETFROM:+0100
TZOFFSETTO:+0200
TZNAME:CEST
DTSTART:20260329T010000
END:DAYLIGHT
BEGIN:STANDARD
TZOFFSETFROM:+0200
TZOFFSETTO:+0100
TZNAME:CET
DTSTART:20261025T010000
END:STANDARD
END:VTIMEZONE
BEGIN:VEVENT
DTSTART;TZID=Europe/Berlin:20250516T200000
DTEND;TZID=Europe/Berlin:20250516T220000
DTSTAMP:20260424T104939
CREATED:20241025T114418Z
LAST-MODIFIED:20241025T114418Z
UID:23566-1747425600-1747432800@kisdorf.de
SUMMARY:„Hempel`s Beatles-Tour” - Stefanie Hempel
DESCRIPTION:Stefanie Hempel gilt als DIE deutsche Beatles-Expertin und erfand vor 20 Jahren die musikalische Beatles-Tour in Hamburg. Musizierend mit einer kleinen Ukulele führt sie Fans\, Touristen und Journalisten aus der ganzen Welt durch das berühmte Rotlichtviertel St. Pauli. \nMit ihrer „Beatles-Show“ holt Stefanie Hempel ihre beliebte Tour voller Geschichten\, Lieblingssongs und großen Hits der Fab Four auf die Bühne. \nTauchen Sie ab ins St. Pauli der 60er Jahre – dorthin\, wo die Beatles laut John Lennon „erwachsen“ wurden. Sie erleben Einblicke hinter die Kulissen\, Anekdoten und Geschichten hinter den Songs. Hören und singen Sie die Hits der Beatles. Denn „Hempel‘s Beatles-Show“ ist interaktiv und Mitmachen überaus erwünscht! \n© Foto: Johanna Lippke \n\n\n\n\n\n\n\n\n\n\n\n\nPreise\nAbendkasse: 22\,00 € / Schüler 10\,00 €\nVorverkauf: 20\,00 € \nSichern Sie sich Ihre Tickets in den Vvk-Stellen oder per E-Mail. \n\n\n\n\n\n\n\n\n\n\n\n\nVorverkaufsstellen\n– Steen Decoration e.K.\, Kisdorf\n– Stöberstübchen\, Kisdorf\n– Buchhandlung Fiehland\, Kaltenkirchen\n– Buchhandlung Rahmer\, Henstedt-Ulzburg \nWeitere Möglichkeiten\nE-Mail-Bestellung: tickets@kulturinkisdorf.de \nBei Kartenbestellungen per E-Mail nennen Sie bitte Ihren Vor- und Nachnamen\, Ihren Wohnort und Ihre Telefonnummer. Die von Ihnen reservierten Karten werden verbindlich an der Abendkasse bis spätestens ½ Stunde vor Veranstaltungsbeginn für Sie hinterlegt.\nDie Karten können frühestens 1 Stunde vor Veranstaltungsbeginn an der Kasse abgeholt werden. \nSollten Sie verhindert sein\, bitten wir Sie herzlich um vorherige Absage. \n\n\n\n\n\n\n\n\n\n\n\n\nWir freuen uns auf Sie\, unsere Gäste! \nAdresse: Margarethenhoff\, Sengel 1\, 24629 Kisdorf
URL:https://kisdorf.de/event/hempels-beatles-tour-stefanie-hempel/
LOCATION:Margarethenhoff (Gesamt)\, Sengel 1\, Kisdorf\, 24269\, Deutschland
ATTACH;FMTTYPE=image/jpeg:https://kisdorf.de/wp-content/uploads/2024/10/2025-05-16-STEFANIE-HEMPEL-Hempel´s-Beatles-Show-Das-Original-C-Foto-Johanna-Lippke.jpg
ORGANIZER;CN="Tr%C3%A4ger-Verein Dorfhaus Kisdorf e.V.":MAILTO:hroch@sh-mobile.de
END:VEVENT
END:VCALENDAR