BEGIN:VCALENDAR
VERSION:2.0
PRODID:-//Kisdorf.de - ECPv6.15.12.2//NONSGML v1.0//EN
CALSCALE:GREGORIAN
METHOD:PUBLISH
X-WR-CALNAME:Kisdorf.de
X-ORIGINAL-URL:https://kisdorf.de
X-WR-CALDESC:Veranstaltungen für Kisdorf.de
REFRESH-INTERVAL;VALUE=DURATION:PT1H
X-Robots-Tag:noindex
X-PUBLISHED-TTL:PT1H
BEGIN:VTIMEZONE
TZID:Europe/Berlin
BEGIN:DAYLIGHT
TZOFFSETFROM:+0100
TZOFFSETTO:+0200
TZNAME:CEST
DTSTART:20240331T010000
END:DAYLIGHT
BEGIN:STANDARD
TZOFFSETFROM:+0200
TZOFFSETTO:+0100
TZNAME:CET
DTSTART:20241027T010000
END:STANDARD
BEGIN:DAYLIGHT
TZOFFSETFROM:+0100
TZOFFSETTO:+0200
TZNAME:CEST
DTSTART:20250330T010000
END:DAYLIGHT
BEGIN:STANDARD
TZOFFSETFROM:+0200
TZOFFSETTO:+0100
TZNAME:CET
DTSTART:20251026T010000
END:STANDARD
BEGIN:DAYLIGHT
TZOFFSETFROM:+0100
TZOFFSETTO:+0200
TZNAME:CEST
DTSTART:20260329T010000
END:DAYLIGHT
BEGIN:STANDARD
TZOFFSETFROM:+0200
TZOFFSETTO:+0100
TZNAME:CET
DTSTART:20261025T010000
END:STANDARD
END:VTIMEZONE
BEGIN:VEVENT
DTSTART;TZID=Europe/Berlin:20251012T080000
DTEND;TZID=Europe/Berlin:20251013T075959
DTSTAMP:20260422T122704
CREATED:20230226T201403Z
LAST-MODIFIED:20230226T201403Z
UID:16181-1760256000-1760342399@kisdorf.de
SUMMARY:Gastronomische Veranstaltung
DESCRIPTION:private Veranstaltung
URL:https://kisdorf.de/event/gastronomische-veranstaltung-5/2025-10-12/
LOCATION:Margarethenhoff (Gesamt)\, Sengel 1\, Kisdorf\, 24269\, Deutschland
ORGANIZER;CN="Restaurant Pellegrini":MAILTO:info@margarethenhoff.de
END:VEVENT
BEGIN:VEVENT
DTSTART;TZID=Europe/Berlin:20251012T170000
DTEND;TZID=Europe/Berlin:20251012T180000
DTSTAMP:20260422T122704
CREATED:20241203T125418Z
LAST-MODIFIED:20241203T125418Z
UID:24035-1760288400-1760292000@kisdorf.de
SUMMARY:Jan & das Meer Klavierkonzert
DESCRIPTION:„Mit drei Jahren haben Jan und die Ostsee beschlossen\, alle Strände und Meere gemeinsam zu besuchen.\nDa die ganze Ostsee aber unmöglich in seine Hosentasche passt\, hat er die Wellen in seine Finger gelegt.\nUnd da auch er sich nicht ganz dem Meer hingeben kann\, hat die Ostsee sich in seine Musik geschrieben. \nUnd so sind sie gemeinsam unterwegs.\nVon Sandbank zu Sandbank. Von Klavier zu Klavier. Vom weißen Sandstrand Warnemündes bis zum schwarzen Steinstrand auf Island. Immer ein Lied in den Fingern\, immer eine Melodie auf den Wellen.“ \nJan Simowitsch\, der ehemalige Leiter des Popinstituts in der Nordkirche\, kommt in die Kirche nach Kisdorf und spielt von Norddeutschland und Skandinavien inspirierte Klaviermusik. Oftmals vertont er hierfür die Stimmung von Orten\, die er mit dem Zelt besucht hat. So stehen auf seinem Programm auch die Ostsee-Stücke Maasholm und Nienhagen. Und von dort geht es auf die Reise über Schweden bis in den hohen Norden nach Grönland. Unter dem Titel „Piteraq“ hat er der Insel gleich 4 Klavierstücke gewidmet. Neben seiner Klaviermusik bringt Jan Simowitsch auch einige der Texte aus seinem hintergründig witzigen und nachdenklich berührenden Buch „Hand aufs Herz“ mit.
URL:https://kisdorf.de/event/jan-das-meer-klavierkonzert/
LOCATION:Kirche Kisdorf\, Etzberg 59\, Kisdorf\, Schleswig-Holstein\, 24629\, Deutschland
ATTACH;FMTTYPE=image/jpeg:https://kisdorf.de/wp-content/uploads/2024/12/Werbefoto-Jan-Simowitsch-2025.jpg
ORGANIZER;CN="Ev.-Luth. Kirchengemeinde Kisdorf":MAILTO:kg.kisdorf@altholstein.de
END:VEVENT
END:VCALENDAR