BEGIN:VCALENDAR
VERSION:2.0
PRODID:-//Kisdorf.de - ECPv6.15.12.2//NONSGML v1.0//EN
CALSCALE:GREGORIAN
METHOD:PUBLISH
X-WR-CALNAME:Kisdorf.de
X-ORIGINAL-URL:https://kisdorf.de
X-WR-CALDESC:Veranstaltungen für Kisdorf.de
REFRESH-INTERVAL;VALUE=DURATION:PT1H
X-Robots-Tag:noindex
X-PUBLISHED-TTL:PT1H
BEGIN:VTIMEZONE
TZID:Europe/Berlin
BEGIN:DAYLIGHT
TZOFFSETFROM:+0100
TZOFFSETTO:+0200
TZNAME:CEST
DTSTART:20230326T010000
END:DAYLIGHT
BEGIN:STANDARD
TZOFFSETFROM:+0200
TZOFFSETTO:+0100
TZNAME:CET
DTSTART:20231029T010000
END:STANDARD
BEGIN:DAYLIGHT
TZOFFSETFROM:+0100
TZOFFSETTO:+0200
TZNAME:CEST
DTSTART:20240331T010000
END:DAYLIGHT
BEGIN:STANDARD
TZOFFSETFROM:+0200
TZOFFSETTO:+0100
TZNAME:CET
DTSTART:20241027T010000
END:STANDARD
BEGIN:DAYLIGHT
TZOFFSETFROM:+0100
TZOFFSETTO:+0200
TZNAME:CEST
DTSTART:20250330T010000
END:DAYLIGHT
BEGIN:STANDARD
TZOFFSETFROM:+0200
TZOFFSETTO:+0100
TZNAME:CET
DTSTART:20251026T010000
END:STANDARD
END:VTIMEZONE
BEGIN:VEVENT
DTSTART;TZID=Europe/Berlin:20241203T190000
DTEND;TZID=Europe/Berlin:20241203T220000
DTSTAMP:20260421T124319
CREATED:20210620T174645Z
LAST-MODIFIED:20210620T174645Z
UID:13313-1733252400-1733263200@kisdorf.de
SUMMARY:Chor-Verein Kisdorf
DESCRIPTION:Es handelt sich bei der Veranstaltung um die wöchentliche Chorprobe des Chor-Vereins Kisdorf.
URL:https://kisdorf.de/event/singen-des-chor-verein-kisdorf/2024-12-03/
LOCATION:Margarethenhoff Saal\, Sengel 1\, Kisdorf\, 24269\, Deutschland
END:VEVENT
BEGIN:VEVENT
DTSTART;TZID=Europe/Berlin:20241205T190000
DTEND;TZID=Europe/Berlin:20241205T210000
DTSTAMP:20260421T124319
CREATED:20210717T082700Z
LAST-MODIFIED:20210717T082700Z
UID:13335-1733425200-1733432400@kisdorf.de
SUMMARY:Musikkapelle Kisdorf
DESCRIPTION:Orchesterprobe
URL:https://kisdorf.de/event/musikkapelle-kisdorf/2024-12-05/
LOCATION:Margarethenhoff Saal\, Sengel 1\, Kisdorf\, 24269\, Deutschland
CATEGORIES:Margarethenhoff Saal
END:VEVENT
BEGIN:VEVENT
DTSTART;TZID=Europe/Berlin:20241210T190000
DTEND;TZID=Europe/Berlin:20241210T220000
DTSTAMP:20260421T124319
CREATED:20210620T174645Z
LAST-MODIFIED:20210620T174645Z
UID:13353-1733857200-1733868000@kisdorf.de
SUMMARY:Chor-Verein Kisdorf
DESCRIPTION:Es handelt sich bei der Veranstaltung um die wöchentliche Chorprobe des Chor-Vereins Kisdorf.
URL:https://kisdorf.de/event/singen-des-chor-verein-kisdorf/2024-12-10/
LOCATION:Margarethenhoff Saal\, Sengel 1\, Kisdorf\, 24269\, Deutschland
END:VEVENT
BEGIN:VEVENT
DTSTART;TZID=Europe/Berlin:20241212T190000
DTEND;TZID=Europe/Berlin:20241212T210000
DTSTAMP:20260421T124319
CREATED:20210717T082700Z
LAST-MODIFIED:20210717T082700Z
UID:13357-1734030000-1734037200@kisdorf.de
SUMMARY:Musikkapelle Kisdorf
DESCRIPTION:Orchesterprobe
URL:https://kisdorf.de/event/musikkapelle-kisdorf/2024-12-12/
LOCATION:Margarethenhoff Saal\, Sengel 1\, Kisdorf\, 24269\, Deutschland
CATEGORIES:Margarethenhoff Saal
END:VEVENT
BEGIN:VEVENT
DTSTART;TZID=Europe/Berlin:20241217T190000
DTEND;TZID=Europe/Berlin:20241217T220000
DTSTAMP:20260421T124319
CREATED:20210620T174645Z
LAST-MODIFIED:20210620T174645Z
UID:13395-1734462000-1734472800@kisdorf.de
SUMMARY:Chor-Verein Kisdorf
DESCRIPTION:Es handelt sich bei der Veranstaltung um die wöchentliche Chorprobe des Chor-Vereins Kisdorf.
URL:https://kisdorf.de/event/singen-des-chor-verein-kisdorf/2024-12-17/
LOCATION:Margarethenhoff Saal\, Sengel 1\, Kisdorf\, 24269\, Deutschland
END:VEVENT
BEGIN:VEVENT
DTSTART;TZID=Europe/Berlin:20241219T190000
DTEND;TZID=Europe/Berlin:20241219T210000
DTSTAMP:20260421T124319
CREATED:20210717T082700Z
LAST-MODIFIED:20210717T082700Z
UID:13414-1734634800-1734642000@kisdorf.de
SUMMARY:Musikkapelle Kisdorf
DESCRIPTION:Orchesterprobe
URL:https://kisdorf.de/event/musikkapelle-kisdorf/2024-12-19/
LOCATION:Margarethenhoff Saal\, Sengel 1\, Kisdorf\, 24269\, Deutschland
CATEGORIES:Margarethenhoff Saal
END:VEVENT
BEGIN:VEVENT
DTSTART;TZID=Europe/Berlin:20241224T190000
DTEND;TZID=Europe/Berlin:20241224T220000
DTSTAMP:20260421T124319
CREATED:20210620T174645Z
LAST-MODIFIED:20210620T174645Z
UID:13428-1735066800-1735077600@kisdorf.de
SUMMARY:Chor-Verein Kisdorf
DESCRIPTION:Es handelt sich bei der Veranstaltung um die wöchentliche Chorprobe des Chor-Vereins Kisdorf.
URL:https://kisdorf.de/event/singen-des-chor-verein-kisdorf/2024-12-24/
LOCATION:Margarethenhoff Saal\, Sengel 1\, Kisdorf\, 24269\, Deutschland
END:VEVENT
BEGIN:VEVENT
DTSTART;TZID=Europe/Berlin:20241226T190000
DTEND;TZID=Europe/Berlin:20241226T210000
DTSTAMP:20260421T124319
CREATED:20210717T082700Z
LAST-MODIFIED:20210717T082700Z
UID:13436-1735239600-1735246800@kisdorf.de
SUMMARY:Musikkapelle Kisdorf
DESCRIPTION:Orchesterprobe
URL:https://kisdorf.de/event/musikkapelle-kisdorf/2024-12-26/
LOCATION:Margarethenhoff Saal\, Sengel 1\, Kisdorf\, 24269\, Deutschland
CATEGORIES:Margarethenhoff Saal
END:VEVENT
BEGIN:VEVENT
DTSTART;TZID=Europe/Berlin:20241226T193000
DTEND;TZID=Europe/Berlin:20241226T220000
DTSTAMP:20260421T124319
CREATED:20210122T161318Z
LAST-MODIFIED:20210122T161318Z
UID:24619-1735241400-1735250400@kisdorf.de
SUMMARY:WKB-Fraktionssitzung (Peerstall)
DESCRIPTION:
URL:https://kisdorf.de/event/wkb-fraktionssitzung-peerstall-2023-04-27/2024-12-26/
LOCATION:Margarethenhoff Peerstall\, Sengel 1\, Kisdorf\, 24629\, Deutschland
CATEGORIES:Margarethenhoff Peerstall
END:VEVENT
BEGIN:VEVENT
DTSTART;TZID=Europe/Berlin:20241231T190000
DTEND;TZID=Europe/Berlin:20241231T220000
DTSTAMP:20260421T124319
CREATED:20210620T174645Z
LAST-MODIFIED:20210620T174645Z
UID:13451-1735671600-1735682400@kisdorf.de
SUMMARY:Chor-Verein Kisdorf
DESCRIPTION:Es handelt sich bei der Veranstaltung um die wöchentliche Chorprobe des Chor-Vereins Kisdorf.
URL:https://kisdorf.de/event/singen-des-chor-verein-kisdorf/2024-12-31/
LOCATION:Margarethenhoff Saal\, Sengel 1\, Kisdorf\, 24269\, Deutschland
END:VEVENT
END:VCALENDAR