BEGIN:VCALENDAR
VERSION:2.0
PRODID:-//Kisdorf.de - ECPv6.15.12.2//NONSGML v1.0//EN
CALSCALE:GREGORIAN
METHOD:PUBLISH
X-WR-CALNAME:Kisdorf.de
X-ORIGINAL-URL:https://kisdorf.de
X-WR-CALDESC:Veranstaltungen für Kisdorf.de
REFRESH-INTERVAL;VALUE=DURATION:PT1H
X-Robots-Tag:noindex
X-PUBLISHED-TTL:PT1H
BEGIN:VTIMEZONE
TZID:Europe/Berlin
BEGIN:DAYLIGHT
TZOFFSETFROM:+0100
TZOFFSETTO:+0200
TZNAME:CEST
DTSTART:20240331T010000
END:DAYLIGHT
BEGIN:STANDARD
TZOFFSETFROM:+0200
TZOFFSETTO:+0100
TZNAME:CET
DTSTART:20241027T010000
END:STANDARD
BEGIN:DAYLIGHT
TZOFFSETFROM:+0100
TZOFFSETTO:+0200
TZNAME:CEST
DTSTART:20250330T010000
END:DAYLIGHT
BEGIN:STANDARD
TZOFFSETFROM:+0200
TZOFFSETTO:+0100
TZNAME:CET
DTSTART:20251026T010000
END:STANDARD
BEGIN:DAYLIGHT
TZOFFSETFROM:+0100
TZOFFSETTO:+0200
TZNAME:CEST
DTSTART:20260329T010000
END:DAYLIGHT
BEGIN:STANDARD
TZOFFSETFROM:+0200
TZOFFSETTO:+0100
TZNAME:CET
DTSTART:20261025T010000
END:STANDARD
END:VTIMEZONE
BEGIN:VEVENT
DTSTART;VALUE=DATE:20251117
DTEND;VALUE=DATE:20251126
DTSTAMP:20260424T180016
CREATED:20240106T142219Z
LAST-MODIFIED:20240106T144958Z
UID:17740-1763366400-1764057599@kisdorf.de
SUMMARY:Weihnachtsmarkt der Gemeinde Kisdorf
DESCRIPTION:Weihnachtsmarkt der Gemeinde Kisdorf \nAb 17.11 – Vorbereitung der Örtlichkeiten\, Ausräumen der Räumlichkeiten\, Zelte aufbauen etc. \nAm 21.11.-23.11 – Durchführung Weihnachtsmarkt \nAm 24.11. – Reinigung Margarethenhoff
URL:https://kisdorf.de/event/weihnachtsmarkt-der-gemeinde-kisdorf/
LOCATION:Margarethenhoff (Gesamt)\, Sengel 1\, Kisdorf\, 24269\, Deutschland
CATEGORIES:Kisdorfer Weihnachtsmarkt
ATTACH;FMTTYPE=image/jpeg:https://kisdorf.de/wp-content/uploads/2024/01/2025-11-21_bis_23-Weihnachtsmarkt-2.jpg
ORGANIZER;CN="Tr%C3%A4ger-Verein Dorfhaus Kisdorf e.V.":MAILTO:hroch@sh-mobile.de
END:VEVENT
BEGIN:VEVENT
DTSTART;TZID=Europe/Berlin:20251003T190000
DTEND;TZID=Europe/Berlin:20251003T210000
DTSTAMP:20260424T180016
CREATED:20250818T095102Z
LAST-MODIFIED:20250818T095102Z
UID:26519-1759518000-1759525200@kisdorf.de
SUMMARY:Laternenumzug
DESCRIPTION:In diesem Jahr lädt die Freiwillige Feuerwehr Kisdorf alle Kisdorfer Bürgerinnen und Bürger wieder zum Laternelaufen ein.\nDiese herbstliche Tradition wird musikalisch vom Spielmannszug „Grüne Jäger“ aus Winsen begleitet. \nAus Sicherheitsgründen ruft die Freiwillige Feuerwehr alle Besucher zum Verzicht auf Fackeln auf. \nDie Mitglieder der Jugendfeuerwehr Kisdorf verzichten in Ihrer Vorbildfunktion auch in diesem Jahr selbst auf das Tragen von Fackeln. \nEs besteht die Möglichkeit für alle Besucher sich bei den Mitgliedern der Freiwilligen Feuerwehr über die Möglichkeiten eines eigenen ehrenamtlichen Engagements zu informieren. \nFür das leibliche Wohl nach dem Umzug ist gesorgt.\nÜber eine rege Teilnahme würden wir uns freuen. \nFreiwillige Feuerwehr Kisdorf\nJugendfeuerwehr Kisdorf \n#JF Kisdorf #ffkisdorf #kisdorf #gemeinsamfürkisdorf #gemeinsamfürdenkreissegeberg #feuerwehrkisdorf #jugendfeuerwehrkisdorf \n\nWann?Fr.\, 03. Oktober\, 19:00 Uhr – 21:00 Uhr\nWo? \nKisdorf\, Feuerwehrgerätehaus
URL:https://kisdorf.de/event/laternenumzug/
LOCATION:Feuerwehrgerätehaus\, Achter de Höf 2\, Kisdorf\, 24629\, Deutschland
ATTACH;FMTTYPE=image/jpeg:https://kisdorf.de/wp-content/uploads/2025/08/IMG_5469.jpeg
ORGANIZER;CN="Feuerwehr Kisdorf":MAILTO:webmaster@feuerwehr-kisdorf.de
END:VEVENT
BEGIN:VEVENT
DTSTART;TZID=Europe/Berlin:20250914T133000
DTEND;TZID=Europe/Berlin:20250914T170000
DTSTAMP:20260424T180016
CREATED:20250818T095101Z
LAST-MODIFIED:20250818T095101Z
UID:26514-1757856600-1757869200@kisdorf.de
SUMMARY:Tag der offenen Tür Feuerwehr Kisdorf
DESCRIPTION:Die Freiwillige Feuerwehr Kisdorf lädt alle Anwohner*innen und Interessierte zu einem Tag der offenen Tür ein.\n\n\n\n\n\n\n\n\nEs gibt verschiedene Vorführungen\, Rundfahrten mit einem Feuerwehrauto und viele weitere interessante Sachen zu entdecken. \nWir freuen uns auf ihren Besuch \n#ffkisdorf #gemeinsamfürdenkreissegeberg #kisdorf #jfkisdorf #kisdorferwohld #feuerwehrkisdorf #jugendfeuerwehrkisdorf \n\nWann?So.\, 14. September\, 13:30 Uhr – 17:00 Uhr\nWo? \nFeuerwehr Kisdorf
URL:https://kisdorf.de/event/tag-der-offenen-tuer-feuerwehr-kisdorf/
LOCATION:Feuerwehrgerätehaus\, Achter de Höf 2\, Kisdorf\, 24629\, Deutschland
ATTACH;FMTTYPE=image/jpeg:https://kisdorf.de/wp-content/uploads/2025/08/11d7e482-a9f0-4430-832c-dd859003c5b2.jpeg
ORGANIZER;CN="Feuerwehr Kisdorf":MAILTO:webmaster@feuerwehr-kisdorf.de
END:VEVENT
END:VCALENDAR