BEGIN:VCALENDAR
VERSION:2.0
PRODID:-//Kisdorf.de - ECPv6.15.12.2//NONSGML v1.0//EN
CALSCALE:GREGORIAN
METHOD:PUBLISH
X-WR-CALNAME:Kisdorf.de
X-ORIGINAL-URL:https://kisdorf.de
X-WR-CALDESC:Veranstaltungen für Kisdorf.de
REFRESH-INTERVAL;VALUE=DURATION:PT1H
X-Robots-Tag:noindex
X-PUBLISHED-TTL:PT1H
BEGIN:VTIMEZONE
TZID:Europe/Berlin
BEGIN:DAYLIGHT
TZOFFSETFROM:+0100
TZOFFSETTO:+0200
TZNAME:CEST
DTSTART:20240331T010000
END:DAYLIGHT
BEGIN:STANDARD
TZOFFSETFROM:+0200
TZOFFSETTO:+0100
TZNAME:CET
DTSTART:20241027T010000
END:STANDARD
BEGIN:DAYLIGHT
TZOFFSETFROM:+0100
TZOFFSETTO:+0200
TZNAME:CEST
DTSTART:20250330T010000
END:DAYLIGHT
BEGIN:STANDARD
TZOFFSETFROM:+0200
TZOFFSETTO:+0100
TZNAME:CET
DTSTART:20251026T010000
END:STANDARD
BEGIN:DAYLIGHT
TZOFFSETFROM:+0100
TZOFFSETTO:+0200
TZNAME:CEST
DTSTART:20260329T010000
END:DAYLIGHT
BEGIN:STANDARD
TZOFFSETFROM:+0200
TZOFFSETTO:+0100
TZNAME:CET
DTSTART:20261025T010000
END:STANDARD
END:VTIMEZONE
BEGIN:VEVENT
DTSTART;TZID=Europe/Berlin:20250113T180000
DTEND;TZID=Europe/Berlin:20250113T193000
DTSTAMP:20260422T045050
CREATED:20250114T084511Z
LAST-MODIFIED:20250114T084511Z
UID:24504-1736791200-1736796600@kisdorf.de
SUMMARY:Träger-Verein Dorfhaus Kisdorf e.V. - Technik Überprüfung & Wartung
DESCRIPTION:Träger-Verein Dorfhaus Kisdorf e.V. – Technik Überprüfung & Wartung
URL:https://kisdorf.de/event/traeger-verein-dorfhaus-kisdorf-e-v-technik-ueberpruefung-wartung/2025-01-13/
LOCATION:Margarethenhoff Saal\, Sengel 1\, Kisdorf\, 24269\, Deutschland
ORGANIZER;CN="Tr%C3%A4ger-Verein Dorfhaus Kisdorf e.V.":MAILTO:hroch@sh-mobile.de
END:VEVENT
BEGIN:VEVENT
DTSTART;TZID=Europe/Berlin:20250114T190000
DTEND;TZID=Europe/Berlin:20250114T220000
DTSTAMP:20260422T045050
CREATED:20210620T174645Z
LAST-MODIFIED:20210620T174645Z
UID:13553-1736881200-1736892000@kisdorf.de
SUMMARY:Chor-Verein Kisdorf
DESCRIPTION:Es handelt sich bei der Veranstaltung um die wöchentliche Chorprobe des Chor-Vereins Kisdorf.
URL:https://kisdorf.de/event/singen-des-chor-verein-kisdorf/2025-01-14/
LOCATION:Margarethenhoff Saal\, Sengel 1\, Kisdorf\, 24269\, Deutschland
END:VEVENT
BEGIN:VEVENT
DTSTART;TZID=Europe/Berlin:20250115T170000
DTEND;TZID=Europe/Berlin:20250115T190000
DTSTAMP:20260422T045050
CREATED:20230629T164923Z
LAST-MODIFIED:20230629T164923Z
UID:15076-1736960400-1736967600@kisdorf.de
SUMMARY:Sprechstunde der Bürgermeisterin
DESCRIPTION:Im persönlichen Gespräch lässt sich vieles einfacher und schneller klären\, und es ist mir ein Bedürfnis\, stets ein offenes Ohr für Ihre Anliegen zu haben. \nBürgermeisterin-Sprechstunde jeweils am 3. Mittwoch eines Monats \nDas Treffen findet im Bürgermeisterinbüro im Margarethenhoff statt
URL:https://kisdorf.de/event/sprechstunde-der-buergermeisterin/2025-01-15/
LOCATION:Bürgermeisterbüro\, Sengel 1\, Kisdorf\, 24629\, Deutschland
CATEGORIES:Bürgermeisterbüro
ATTACH;FMTTYPE=image/png:https://kisdorf.de/wp-content/uploads/2023/06/birga-kreuzaler.png
END:VEVENT
BEGIN:VEVENT
DTSTART;TZID=Europe/Berlin:20250116T190000
DTEND;TZID=Europe/Berlin:20250116T210000
DTSTAMP:20260422T045050
CREATED:20210717T082700Z
LAST-MODIFIED:20210717T082700Z
UID:13575-1737054000-1737061200@kisdorf.de
SUMMARY:Musikkapelle Kisdorf
DESCRIPTION:Orchesterprobe
URL:https://kisdorf.de/event/musikkapelle-kisdorf/2025-01-16/
LOCATION:Margarethenhoff Saal\, Sengel 1\, Kisdorf\, 24269\, Deutschland
CATEGORIES:Margarethenhoff Saal
END:VEVENT
END:VCALENDAR