BEGIN:VCALENDAR
VERSION:2.0
PRODID:-//Kisdorf.de - ECPv6.15.12.2//NONSGML v1.0//EN
CALSCALE:GREGORIAN
METHOD:PUBLISH
X-ORIGINAL-URL:https://kisdorf.de
X-WR-CALDESC:Veranstaltungen für Kisdorf.de
REFRESH-INTERVAL;VALUE=DURATION:PT1H
X-Robots-Tag:noindex
X-PUBLISHED-TTL:PT1H
BEGIN:VTIMEZONE
TZID:Europe/Berlin
BEGIN:DAYLIGHT
TZOFFSETFROM:+0100
TZOFFSETTO:+0200
TZNAME:CEST
DTSTART:20240331T010000
END:DAYLIGHT
BEGIN:STANDARD
TZOFFSETFROM:+0200
TZOFFSETTO:+0100
TZNAME:CET
DTSTART:20241027T010000
END:STANDARD
BEGIN:DAYLIGHT
TZOFFSETFROM:+0100
TZOFFSETTO:+0200
TZNAME:CEST
DTSTART:20250330T010000
END:DAYLIGHT
BEGIN:STANDARD
TZOFFSETFROM:+0200
TZOFFSETTO:+0100
TZNAME:CET
DTSTART:20251026T010000
END:STANDARD
BEGIN:DAYLIGHT
TZOFFSETFROM:+0100
TZOFFSETTO:+0200
TZNAME:CEST
DTSTART:20260329T010000
END:DAYLIGHT
BEGIN:STANDARD
TZOFFSETFROM:+0200
TZOFFSETTO:+0100
TZNAME:CET
DTSTART:20261025T010000
END:STANDARD
END:VTIMEZONE
BEGIN:VEVENT
DTSTART;TZID=Europe/Berlin:20250302T080000
DTEND;TZID=Europe/Berlin:20250303T075959
DTSTAMP:20260422T000708
CREATED:20230226T201403Z
LAST-MODIFIED:20230226T201403Z
UID:14009-1740902400-1740988799@kisdorf.de
SUMMARY:Gastronomische Veranstaltung
DESCRIPTION:private Veranstaltung
URL:https://kisdorf.de/event/gastronomische-veranstaltung-5/2025-03-02/
LOCATION:Margarethenhoff (Gesamt)\, Sengel 1\, Kisdorf\, 24269\, Deutschland
ORGANIZER;CN="Restaurant Pellegrini":MAILTO:info@margarethenhoff.de
END:VEVENT
BEGIN:VEVENT
DTSTART;TZID=Europe/Berlin:20250303T180000
DTEND;TZID=Europe/Berlin:20250303T193000
DTSTAMP:20260422T000708
CREATED:20250114T084512Z
LAST-MODIFIED:20250114T084512Z
UID:24513-1741024800-1741030200@kisdorf.de
SUMMARY:Träger-Verein Dorfhaus Kisdorf e.V. - Technik Überprüfung & Wartung
DESCRIPTION:Träger-Verein Dorfhaus Kisdorf e.V. – Technik Überprüfung & Wartung
URL:https://kisdorf.de/event/traeger-verein-dorfhaus-kisdorf-e-v-technik-ueberpruefung-wartung/2025-03-03/
LOCATION:Margarethenhoff Saal\, Sengel 1\, Kisdorf\, 24269\, Deutschland
ORGANIZER;CN="Tr%C3%A4ger-Verein Dorfhaus Kisdorf e.V.":MAILTO:hroch@sh-mobile.de
END:VEVENT
BEGIN:VEVENT
DTSTART;TZID=Europe/Berlin:20250303T193000
DTEND;TZID=Europe/Berlin:20250303T220000
DTSTAMP:20260422T000708
CREATED:20250220T153615Z
LAST-MODIFIED:20250220T153615Z
UID:24934-1741030200-1741039200@kisdorf.de
SUMMARY:CDU Fraktionssitzung
DESCRIPTION:Fraktionssitzung
URL:https://kisdorf.de/event/cdu-fraktionssitzung-15/
LOCATION:Margarethenhoff Peerstall\, Sengel 1\, Kisdorf\, 24629\, Deutschland
END:VEVENT
BEGIN:VEVENT
DTSTART;TZID=Europe/Berlin:20250304T190000
DTEND;TZID=Europe/Berlin:20250304T220000
DTSTAMP:20260422T000708
CREATED:20210620T174645Z
LAST-MODIFIED:20210620T174645Z
UID:13971-1741114800-1741125600@kisdorf.de
SUMMARY:Chor-Verein Kisdorf
DESCRIPTION:Es handelt sich bei der Veranstaltung um die wöchentliche Chorprobe des Chor-Vereins Kisdorf.
URL:https://kisdorf.de/event/singen-des-chor-verein-kisdorf/2025-03-04/
LOCATION:Margarethenhoff Saal\, Sengel 1\, Kisdorf\, 24269\, Deutschland
END:VEVENT
BEGIN:VEVENT
DTSTART;TZID=Europe/Berlin:20250306T190000
DTEND;TZID=Europe/Berlin:20250306T210000
DTSTAMP:20260422T000708
CREATED:20210717T082700Z
LAST-MODIFIED:20210717T082700Z
UID:13980-1741287600-1741294800@kisdorf.de
SUMMARY:Musikkapelle Kisdorf
DESCRIPTION:Orchesterprobe
URL:https://kisdorf.de/event/musikkapelle-kisdorf/2025-03-06/
LOCATION:Margarethenhoff Saal\, Sengel 1\, Kisdorf\, 24269\, Deutschland
CATEGORIES:Margarethenhoff Saal
END:VEVENT
BEGIN:VEVENT
DTSTART;TZID=Europe/Berlin:20250308T080000
DTEND;TZID=Europe/Berlin:20250309T075959
DTSTAMP:20260422T000708
CREATED:20230226T201403Z
LAST-MODIFIED:20230226T201403Z
UID:14008-1741420800-1741507199@kisdorf.de
SUMMARY:Gastronomische Veranstaltung
DESCRIPTION:private Veranstaltung
URL:https://kisdorf.de/event/gastronomische-veranstaltung-5/2025-03-08/
LOCATION:Margarethenhoff (Gesamt)\, Sengel 1\, Kisdorf\, 24269\, Deutschland
ORGANIZER;CN="Restaurant Pellegrini":MAILTO:info@margarethenhoff.de
END:VEVENT
BEGIN:VEVENT
DTSTART;TZID=Europe/Berlin:20250309T080000
DTEND;TZID=Europe/Berlin:20250310T075959
DTSTAMP:20260422T000708
CREATED:20230226T201403Z
LAST-MODIFIED:20230226T201403Z
UID:14111-1741507200-1741593599@kisdorf.de
SUMMARY:Gastronomische Veranstaltung
DESCRIPTION:private Veranstaltung
URL:https://kisdorf.de/event/gastronomische-veranstaltung-5/2025-03-09/
LOCATION:Margarethenhoff (Gesamt)\, Sengel 1\, Kisdorf\, 24269\, Deutschland
ORGANIZER;CN="Restaurant Pellegrini":MAILTO:info@margarethenhoff.de
END:VEVENT
END:VCALENDAR