BEGIN:VCALENDAR
VERSION:2.0
PRODID:-//Kisdorf.de - ECPv6.15.12.2//NONSGML v1.0//EN
CALSCALE:GREGORIAN
METHOD:PUBLISH
X-ORIGINAL-URL:https://kisdorf.de
X-WR-CALDESC:Veranstaltungen für Kisdorf.de
REFRESH-INTERVAL;VALUE=DURATION:PT1H
X-Robots-Tag:noindex
X-PUBLISHED-TTL:PT1H
BEGIN:VTIMEZONE
TZID:Europe/Berlin
BEGIN:DAYLIGHT
TZOFFSETFROM:+0100
TZOFFSETTO:+0200
TZNAME:CEST
DTSTART:20240331T010000
END:DAYLIGHT
BEGIN:STANDARD
TZOFFSETFROM:+0200
TZOFFSETTO:+0100
TZNAME:CET
DTSTART:20241027T010000
END:STANDARD
BEGIN:DAYLIGHT
TZOFFSETFROM:+0100
TZOFFSETTO:+0200
TZNAME:CEST
DTSTART:20250330T010000
END:DAYLIGHT
BEGIN:STANDARD
TZOFFSETFROM:+0200
TZOFFSETTO:+0100
TZNAME:CET
DTSTART:20251026T010000
END:STANDARD
BEGIN:DAYLIGHT
TZOFFSETFROM:+0100
TZOFFSETTO:+0200
TZNAME:CEST
DTSTART:20260329T010000
END:DAYLIGHT
BEGIN:STANDARD
TZOFFSETFROM:+0200
TZOFFSETTO:+0100
TZNAME:CET
DTSTART:20261025T010000
END:STANDARD
END:VTIMEZONE
BEGIN:VEVENT
DTSTART;TZID=Europe/Berlin:20251026T080000
DTEND;TZID=Europe/Berlin:20251027T075959
DTSTAMP:20260419T164558
CREATED:20230226T201403Z
LAST-MODIFIED:20230226T201403Z
UID:16290-1761465600-1761551999@kisdorf.de
SUMMARY:Gastronomische Veranstaltung
DESCRIPTION:private Veranstaltung
URL:https://kisdorf.de/event/gastronomische-veranstaltung-5/2025-10-26/
LOCATION:Margarethenhoff (Gesamt)\, Sengel 1\, Kisdorf\, 24269\, Deutschland
ORGANIZER;CN="Restaurant Pellegrini":MAILTO:info@margarethenhoff.de
END:VEVENT
BEGIN:VEVENT
DTSTART;TZID=Europe/Berlin:20251028T190000
DTEND;TZID=Europe/Berlin:20251028T220000
DTSTAMP:20260419T164558
CREATED:20210620T174645Z
LAST-MODIFIED:20210620T174645Z
UID:16265-1761678000-1761688800@kisdorf.de
SUMMARY:Chor-Verein Kisdorf
DESCRIPTION:Es handelt sich bei der Veranstaltung um die wöchentliche Chorprobe des Chor-Vereins Kisdorf.
URL:https://kisdorf.de/event/singen-des-chor-verein-kisdorf/2025-10-28/
LOCATION:Margarethenhoff Saal\, Sengel 1\, Kisdorf\, 24269\, Deutschland
END:VEVENT
BEGIN:VEVENT
DTSTART;TZID=Europe/Berlin:20251030T190000
DTEND;TZID=Europe/Berlin:20251030T210000
DTSTAMP:20260419T164558
CREATED:20210717T082700Z
LAST-MODIFIED:20210717T082700Z
UID:16273-1761850800-1761858000@kisdorf.de
SUMMARY:Musikkapelle Kisdorf
DESCRIPTION:Orchesterprobe
URL:https://kisdorf.de/event/musikkapelle-kisdorf/2025-10-30/
LOCATION:Margarethenhoff Saal\, Sengel 1\, Kisdorf\, 24269\, Deutschland
CATEGORIES:Margarethenhoff Saal
END:VEVENT
BEGIN:VEVENT
DTSTART;TZID=Europe/Berlin:20251101T080000
DTEND;TZID=Europe/Berlin:20251102T075959
DTSTAMP:20260419T164558
CREATED:20230226T201403Z
LAST-MODIFIED:20230226T201403Z
UID:16289-1761984000-1762070399@kisdorf.de
SUMMARY:Gastronomische Veranstaltung
DESCRIPTION:private Veranstaltung
URL:https://kisdorf.de/event/gastronomische-veranstaltung-5/2025-11-01/
LOCATION:Margarethenhoff (Gesamt)\, Sengel 1\, Kisdorf\, 24269\, Deutschland
ORGANIZER;CN="Restaurant Pellegrini":MAILTO:info@margarethenhoff.de
END:VEVENT
BEGIN:VEVENT
DTSTART;TZID=Europe/Berlin:20251101T100000
DTEND;TZID=Europe/Berlin:20251101T120000
DTSTAMP:20260419T164558
CREATED:20250925T072503Z
LAST-MODIFIED:20250925T072503Z
UID:26856-1761991200-1761998400@kisdorf.de
SUMMARY:Gottesdienst der Adventgemeinde
DESCRIPTION:Herzliche Einladung zu unserem Gottesdienst am Sabbat (Samstag): \n10:00 Bibelgespräch \n11:00 Predigt-Gottesdienst: Gastprediger Rainer Geschke (Henstedt-Ulzburg) \nMit einem gemeinsamen Mittagessen schließen wir unsere Veranstaltung ab. \n  \nBIBELGESPRÄCH: Wir teilen wir uns in Kleingruppen auf\, tauschen uns über die Bibel aus\, stellen Fragen\, diskutieren oder hören einfach nur zu. Jeder ist dazu herzlich willkommen. \nDie Kinder und Jugendlichen haben in dieser Zeit ihre eigenen Gruppen und Themen. \nPREDIGT-GOTTESDIENST: Mit lebensnahen Themen nähern wir uns Gottes Wort und bekommen Impulse für unser Leben. Eingerahmt ist die Zeit von Liedern\, Gebeten und Erfahrungen. \nUNSER GEMEINDEPROFIL: \nWir begegnen Gott in Anbetung und Lobpreis und schöpfen daraus Kraft. \nWir begegnen einander offen und wertschätzend und erleben dadurch tiefe Gemeinschaft. \nVERANSTALTUNGSORT: \n24629 Kisdorf \, Etzberg 61
URL:https://kisdorf.de/event/gottesdienst-der-adventgemeinde-10/
LOCATION:Adventgemeinde Kisdorf\, Etzberg 61\, Kisdorf\, 24629\, Deutschland
CATEGORIES:Gottesdienst
ATTACH;FMTTYPE=image/jpeg:https://kisdorf.de/wp-content/uploads/2025/09/Fensterbild-oberer-Haelfte-4.jpg
ORGANIZER;CN="Adventgemeinde Kisdorf":MAILTO:Michael.Brunotte@adventisten.de
END:VEVENT
BEGIN:VEVENT
DTSTART;TZID=Europe/Berlin:20251102T080000
DTEND;TZID=Europe/Berlin:20251103T075959
DTSTAMP:20260419T164558
CREATED:20230226T201403Z
LAST-MODIFIED:20230226T201403Z
UID:16367-1762070400-1762156799@kisdorf.de
SUMMARY:Gastronomische Veranstaltung
DESCRIPTION:private Veranstaltung
URL:https://kisdorf.de/event/gastronomische-veranstaltung-5/2025-11-02/
LOCATION:Margarethenhoff (Gesamt)\, Sengel 1\, Kisdorf\, 24269\, Deutschland
ORGANIZER;CN="Restaurant Pellegrini":MAILTO:info@margarethenhoff.de
END:VEVENT
END:VCALENDAR