BEGIN:VCALENDAR
VERSION:2.0
PRODID:-//Kisdorf.de - ECPv6.15.12.2//NONSGML v1.0//EN
CALSCALE:GREGORIAN
METHOD:PUBLISH
X-WR-CALNAME:Kisdorf.de
X-ORIGINAL-URL:https://kisdorf.de
X-WR-CALDESC:Veranstaltungen für Kisdorf.de
REFRESH-INTERVAL;VALUE=DURATION:PT1H
X-Robots-Tag:noindex
X-PUBLISHED-TTL:PT1H
BEGIN:VTIMEZONE
TZID:Europe/Berlin
BEGIN:DAYLIGHT
TZOFFSETFROM:+0100
TZOFFSETTO:+0200
TZNAME:CEST
DTSTART:20250330T010000
END:DAYLIGHT
BEGIN:STANDARD
TZOFFSETFROM:+0200
TZOFFSETTO:+0100
TZNAME:CET
DTSTART:20251026T010000
END:STANDARD
BEGIN:DAYLIGHT
TZOFFSETFROM:+0100
TZOFFSETTO:+0200
TZNAME:CEST
DTSTART:20260329T010000
END:DAYLIGHT
BEGIN:STANDARD
TZOFFSETFROM:+0200
TZOFFSETTO:+0100
TZNAME:CET
DTSTART:20261025T010000
END:STANDARD
BEGIN:DAYLIGHT
TZOFFSETFROM:+0100
TZOFFSETTO:+0200
TZNAME:CEST
DTSTART:20270328T010000
END:DAYLIGHT
BEGIN:STANDARD
TZOFFSETFROM:+0200
TZOFFSETTO:+0100
TZNAME:CET
DTSTART:20271031T010000
END:STANDARD
END:VTIMEZONE
BEGIN:VEVENT
DTSTART;TZID=Europe/Berlin:20260527T140000
DTEND;TZID=Europe/Berlin:20260527T200000
DTSTAMP:20260420T133708
CREATED:20200226T183632Z
LAST-MODIFIED:20200226T183632Z
UID:21437-1779890400-1779912000@kisdorf.de
SUMMARY:Gastronomische Veranstaltung
DESCRIPTION:Privat
URL:https://kisdorf.de/event/gastronomische-veranstaltung-12/2026-05-27/
LOCATION:Margarethenhoff Saal\, Sengel 1\, Kisdorf\, 24269\, Deutschland
ORGANIZER;CN="Restaurant Pellegrini":MAILTO:info@margarethenhoff.de
END:VEVENT
BEGIN:VEVENT
DTSTART;TZID=Europe/Berlin:20260528T190000
DTEND;TZID=Europe/Berlin:20260528T210000
DTSTAMP:20260420T133708
CREATED:20210717T082700Z
LAST-MODIFIED:20210717T082700Z
UID:21449-1779994800-1780002000@kisdorf.de
SUMMARY:Musikkapelle Kisdorf
DESCRIPTION:Orchesterprobe
URL:https://kisdorf.de/event/musikkapelle-kisdorf/2026-05-28/
LOCATION:Margarethenhoff Saal\, Sengel 1\, Kisdorf\, 24269\, Deutschland
CATEGORIES:Margarethenhoff Saal
END:VEVENT
BEGIN:VEVENT
DTSTART;TZID=Europe/Berlin:20260602T190000
DTEND;TZID=Europe/Berlin:20260602T220000
DTSTAMP:20260420T133708
CREATED:20210620T174645Z
LAST-MODIFIED:20210620T174645Z
UID:21520-1780426800-1780437600@kisdorf.de
SUMMARY:Chor-Verein Kisdorf
DESCRIPTION:Es handelt sich bei der Veranstaltung um die wöchentliche Chorprobe des Chor-Vereins Kisdorf.
URL:https://kisdorf.de/event/singen-des-chor-verein-kisdorf/2026-06-02/
LOCATION:Margarethenhoff Saal\, Sengel 1\, Kisdorf\, 24269\, Deutschland
END:VEVENT
BEGIN:VEVENT
DTSTART;TZID=Europe/Berlin:20260603T140000
DTEND;TZID=Europe/Berlin:20260603T200000
DTSTAMP:20260420T133708
CREATED:20200226T183632Z
LAST-MODIFIED:20200226T183632Z
UID:21535-1780495200-1780516800@kisdorf.de
SUMMARY:Gastronomische Veranstaltung
DESCRIPTION:Privat
URL:https://kisdorf.de/event/gastronomische-veranstaltung-12/2026-06-03/
LOCATION:Margarethenhoff Saal\, Sengel 1\, Kisdorf\, 24269\, Deutschland
ORGANIZER;CN="Restaurant Pellegrini":MAILTO:info@margarethenhoff.de
END:VEVENT
BEGIN:VEVENT
DTSTART;TZID=Europe/Berlin:20260604T190000
DTEND;TZID=Europe/Berlin:20260604T210000
DTSTAMP:20260420T133708
CREATED:20210717T082700Z
LAST-MODIFIED:20210717T082700Z
UID:21565-1780599600-1780606800@kisdorf.de
SUMMARY:Musikkapelle Kisdorf
DESCRIPTION:Orchesterprobe
URL:https://kisdorf.de/event/musikkapelle-kisdorf/2026-06-04/
LOCATION:Margarethenhoff Saal\, Sengel 1\, Kisdorf\, 24269\, Deutschland
CATEGORIES:Margarethenhoff Saal
END:VEVENT
BEGIN:VEVENT
DTSTART;TZID=Europe/Berlin:20260605T200000
DTEND;TZID=Europe/Berlin:20260605T223000
DTSTAMP:20260420T133708
CREATED:20251113T152200Z
LAST-MODIFIED:20251113T152200Z
UID:27342-1780689600-1780698600@kisdorf.de
SUMMARY:Duo Graceland
DESCRIPTION:A tribute to Simon & Garfunkel
URL:https://kisdorf.de/event/duo-graceland/
LOCATION:Margarethenhoff Saal\, Sengel 1\, Kisdorf\, 24269\, Deutschland
CATEGORIES:Margarethenhoff Saal
ATTACH;FMTTYPE=image/jpeg:https://kisdorf.de/wp-content/uploads/2025/10/1_Bild_Duo-Graceland_cRichard-Dannenmann.jpg
ORGANIZER;CN="Tr%C3%A4ger-Verein Dorfhaus Kisdorf e.V.":MAILTO:hroch@sh-mobile.de
END:VEVENT
BEGIN:VEVENT
DTSTART;TZID=Europe/Berlin:20260609T190000
DTEND;TZID=Europe/Berlin:20260609T220000
DTSTAMP:20260420T133708
CREATED:20210620T174645Z
LAST-MODIFIED:20210620T174645Z
UID:21696-1781031600-1781042400@kisdorf.de
SUMMARY:Chor-Verein Kisdorf
DESCRIPTION:Es handelt sich bei der Veranstaltung um die wöchentliche Chorprobe des Chor-Vereins Kisdorf.
URL:https://kisdorf.de/event/singen-des-chor-verein-kisdorf/2026-06-09/
LOCATION:Margarethenhoff Saal\, Sengel 1\, Kisdorf\, 24269\, Deutschland
END:VEVENT
BEGIN:VEVENT
DTSTART;TZID=Europe/Berlin:20260610T140000
DTEND;TZID=Europe/Berlin:20260610T200000
DTSTAMP:20260420T133708
CREATED:20200226T183632Z
LAST-MODIFIED:20200226T183632Z
UID:21716-1781100000-1781121600@kisdorf.de
SUMMARY:Gastronomische Veranstaltung
DESCRIPTION:Privat
URL:https://kisdorf.de/event/gastronomische-veranstaltung-12/2026-06-10/
LOCATION:Margarethenhoff Saal\, Sengel 1\, Kisdorf\, 24269\, Deutschland
ORGANIZER;CN="Restaurant Pellegrini":MAILTO:info@margarethenhoff.de
END:VEVENT
BEGIN:VEVENT
DTSTART;TZID=Europe/Berlin:20260611T190000
DTEND;TZID=Europe/Berlin:20260611T210000
DTSTAMP:20260420T133708
CREATED:20210717T082700Z
LAST-MODIFIED:20210717T082700Z
UID:21724-1781204400-1781211600@kisdorf.de
SUMMARY:Musikkapelle Kisdorf
DESCRIPTION:Orchesterprobe
URL:https://kisdorf.de/event/musikkapelle-kisdorf/2026-06-11/
LOCATION:Margarethenhoff Saal\, Sengel 1\, Kisdorf\, 24269\, Deutschland
CATEGORIES:Margarethenhoff Saal
END:VEVENT
BEGIN:VEVENT
DTSTART;TZID=Europe/Berlin:20260616T190000
DTEND;TZID=Europe/Berlin:20260616T220000
DTSTAMP:20260420T133708
CREATED:20210620T174645Z
LAST-MODIFIED:20210620T174645Z
UID:21777-1781636400-1781647200@kisdorf.de
SUMMARY:Chor-Verein Kisdorf
DESCRIPTION:Es handelt sich bei der Veranstaltung um die wöchentliche Chorprobe des Chor-Vereins Kisdorf.
URL:https://kisdorf.de/event/singen-des-chor-verein-kisdorf/2026-06-16/
LOCATION:Margarethenhoff Saal\, Sengel 1\, Kisdorf\, 24269\, Deutschland
END:VEVENT
BEGIN:VEVENT
DTSTART;TZID=Europe/Berlin:20260617T140000
DTEND;TZID=Europe/Berlin:20260617T200000
DTSTAMP:20260420T133708
CREATED:20200226T183632Z
LAST-MODIFIED:20200226T183632Z
UID:21788-1781704800-1781726400@kisdorf.de
SUMMARY:Gastronomische Veranstaltung
DESCRIPTION:Privat
URL:https://kisdorf.de/event/gastronomische-veranstaltung-12/2026-06-17/
LOCATION:Margarethenhoff Saal\, Sengel 1\, Kisdorf\, 24269\, Deutschland
ORGANIZER;CN="Restaurant Pellegrini":MAILTO:info@margarethenhoff.de
END:VEVENT
BEGIN:VEVENT
DTSTART;TZID=Europe/Berlin:20260618T190000
DTEND;TZID=Europe/Berlin:20260618T210000
DTSTAMP:20260420T133708
CREATED:20210717T082700Z
LAST-MODIFIED:20210717T082700Z
UID:21805-1781809200-1781816400@kisdorf.de
SUMMARY:Musikkapelle Kisdorf
DESCRIPTION:Orchesterprobe
URL:https://kisdorf.de/event/musikkapelle-kisdorf/2026-06-18/
LOCATION:Margarethenhoff Saal\, Sengel 1\, Kisdorf\, 24269\, Deutschland
CATEGORIES:Margarethenhoff Saal
END:VEVENT
BEGIN:VEVENT
DTSTART;TZID=Europe/Berlin:20260623T190000
DTEND;TZID=Europe/Berlin:20260623T220000
DTSTAMP:20260420T133708
CREATED:20210620T174645Z
LAST-MODIFIED:20210620T174645Z
UID:21843-1782241200-1782252000@kisdorf.de
SUMMARY:Chor-Verein Kisdorf
DESCRIPTION:Es handelt sich bei der Veranstaltung um die wöchentliche Chorprobe des Chor-Vereins Kisdorf.
URL:https://kisdorf.de/event/singen-des-chor-verein-kisdorf/2026-06-23/
LOCATION:Margarethenhoff Saal\, Sengel 1\, Kisdorf\, 24269\, Deutschland
END:VEVENT
BEGIN:VEVENT
DTSTART;TZID=Europe/Berlin:20260624T140000
DTEND;TZID=Europe/Berlin:20260624T200000
DTSTAMP:20260420T133708
CREATED:20200226T183632Z
LAST-MODIFIED:20200226T183632Z
UID:21848-1782309600-1782331200@kisdorf.de
SUMMARY:Gastronomische Veranstaltung
DESCRIPTION:Privat
URL:https://kisdorf.de/event/gastronomische-veranstaltung-12/2026-06-24/
LOCATION:Margarethenhoff Saal\, Sengel 1\, Kisdorf\, 24269\, Deutschland
ORGANIZER;CN="Restaurant Pellegrini":MAILTO:info@margarethenhoff.de
END:VEVENT
BEGIN:VEVENT
DTSTART;TZID=Europe/Berlin:20260625T190000
DTEND;TZID=Europe/Berlin:20260625T210000
DTSTAMP:20260420T133708
CREATED:20210717T082700Z
LAST-MODIFIED:20210717T082700Z
UID:21869-1782414000-1782421200@kisdorf.de
SUMMARY:Musikkapelle Kisdorf
DESCRIPTION:Orchesterprobe
URL:https://kisdorf.de/event/musikkapelle-kisdorf/2026-06-25/
LOCATION:Margarethenhoff Saal\, Sengel 1\, Kisdorf\, 24269\, Deutschland
CATEGORIES:Margarethenhoff Saal
END:VEVENT
BEGIN:VEVENT
DTSTART;TZID=Europe/Berlin:20260630T190000
DTEND;TZID=Europe/Berlin:20260630T220000
DTSTAMP:20260420T133708
CREATED:20210620T174645Z
LAST-MODIFIED:20210620T174645Z
UID:21934-1782846000-1782856800@kisdorf.de
SUMMARY:Chor-Verein Kisdorf
DESCRIPTION:Es handelt sich bei der Veranstaltung um die wöchentliche Chorprobe des Chor-Vereins Kisdorf.
URL:https://kisdorf.de/event/singen-des-chor-verein-kisdorf/2026-06-30/
LOCATION:Margarethenhoff Saal\, Sengel 1\, Kisdorf\, 24269\, Deutschland
END:VEVENT
BEGIN:VEVENT
DTSTART;TZID=Europe/Berlin:20260701T140000
DTEND;TZID=Europe/Berlin:20260701T200000
DTSTAMP:20260420T133708
CREATED:20200226T183632Z
LAST-MODIFIED:20200226T183632Z
UID:21939-1782914400-1782936000@kisdorf.de
SUMMARY:Gastronomische Veranstaltung
DESCRIPTION:Privat
URL:https://kisdorf.de/event/gastronomische-veranstaltung-12/2026-07-01/
LOCATION:Margarethenhoff Saal\, Sengel 1\, Kisdorf\, 24269\, Deutschland
ORGANIZER;CN="Restaurant Pellegrini":MAILTO:info@margarethenhoff.de
END:VEVENT
BEGIN:VEVENT
DTSTART;TZID=Europe/Berlin:20260702T190000
DTEND;TZID=Europe/Berlin:20260702T210000
DTSTAMP:20260420T133708
CREATED:20210717T082700Z
LAST-MODIFIED:20210717T082700Z
UID:21946-1783018800-1783026000@kisdorf.de
SUMMARY:Musikkapelle Kisdorf
DESCRIPTION:Orchesterprobe
URL:https://kisdorf.de/event/musikkapelle-kisdorf/2026-07-02/
LOCATION:Margarethenhoff Saal\, Sengel 1\, Kisdorf\, 24269\, Deutschland
CATEGORIES:Margarethenhoff Saal
END:VEVENT
BEGIN:VEVENT
DTSTART;TZID=Europe/Berlin:20260707T190000
DTEND;TZID=Europe/Berlin:20260707T220000
DTSTAMP:20260420T133708
CREATED:20210620T174645Z
LAST-MODIFIED:20210620T174645Z
UID:22067-1783450800-1783461600@kisdorf.de
SUMMARY:Chor-Verein Kisdorf
DESCRIPTION:Es handelt sich bei der Veranstaltung um die wöchentliche Chorprobe des Chor-Vereins Kisdorf.
URL:https://kisdorf.de/event/singen-des-chor-verein-kisdorf/2026-07-07/
LOCATION:Margarethenhoff Saal\, Sengel 1\, Kisdorf\, 24269\, Deutschland
END:VEVENT
BEGIN:VEVENT
DTSTART;TZID=Europe/Berlin:20260708T140000
DTEND;TZID=Europe/Berlin:20260708T200000
DTSTAMP:20260420T133708
CREATED:20200226T183632Z
LAST-MODIFIED:20200226T183632Z
UID:22134-1783519200-1783540800@kisdorf.de
SUMMARY:Gastronomische Veranstaltung
DESCRIPTION:Privat
URL:https://kisdorf.de/event/gastronomische-veranstaltung-12/2026-07-08/
LOCATION:Margarethenhoff Saal\, Sengel 1\, Kisdorf\, 24269\, Deutschland
ORGANIZER;CN="Restaurant Pellegrini":MAILTO:info@margarethenhoff.de
END:VEVENT
BEGIN:VEVENT
DTSTART;TZID=Europe/Berlin:20260709T190000
DTEND;TZID=Europe/Berlin:20260709T210000
DTSTAMP:20260420T133708
CREATED:20210717T082700Z
LAST-MODIFIED:20210717T082700Z
UID:22143-1783623600-1783630800@kisdorf.de
SUMMARY:Musikkapelle Kisdorf
DESCRIPTION:Orchesterprobe
URL:https://kisdorf.de/event/musikkapelle-kisdorf/2026-07-09/
LOCATION:Margarethenhoff Saal\, Sengel 1\, Kisdorf\, 24269\, Deutschland
CATEGORIES:Margarethenhoff Saal
END:VEVENT
BEGIN:VEVENT
DTSTART;TZID=Europe/Berlin:20260714T190000
DTEND;TZID=Europe/Berlin:20260714T220000
DTSTAMP:20260420T133708
CREATED:20210620T174645Z
LAST-MODIFIED:20210620T174645Z
UID:22225-1784055600-1784066400@kisdorf.de
SUMMARY:Chor-Verein Kisdorf
DESCRIPTION:Es handelt sich bei der Veranstaltung um die wöchentliche Chorprobe des Chor-Vereins Kisdorf.
URL:https://kisdorf.de/event/singen-des-chor-verein-kisdorf/2026-07-14/
LOCATION:Margarethenhoff Saal\, Sengel 1\, Kisdorf\, 24269\, Deutschland
END:VEVENT
BEGIN:VEVENT
DTSTART;TZID=Europe/Berlin:20260715T140000
DTEND;TZID=Europe/Berlin:20260715T200000
DTSTAMP:20260420T133708
CREATED:20200226T183632Z
LAST-MODIFIED:20200226T183632Z
UID:22254-1784124000-1784145600@kisdorf.de
SUMMARY:Gastronomische Veranstaltung
DESCRIPTION:Privat
URL:https://kisdorf.de/event/gastronomische-veranstaltung-12/2026-07-15/
LOCATION:Margarethenhoff Saal\, Sengel 1\, Kisdorf\, 24269\, Deutschland
ORGANIZER;CN="Restaurant Pellegrini":MAILTO:info@margarethenhoff.de
END:VEVENT
BEGIN:VEVENT
DTSTART;TZID=Europe/Berlin:20260716T190000
DTEND;TZID=Europe/Berlin:20260716T210000
DTSTAMP:20260420T133708
CREATED:20210717T082700Z
LAST-MODIFIED:20210717T082700Z
UID:22281-1784228400-1784235600@kisdorf.de
SUMMARY:Musikkapelle Kisdorf
DESCRIPTION:Orchesterprobe
URL:https://kisdorf.de/event/musikkapelle-kisdorf/2026-07-16/
LOCATION:Margarethenhoff Saal\, Sengel 1\, Kisdorf\, 24269\, Deutschland
CATEGORIES:Margarethenhoff Saal
END:VEVENT
BEGIN:VEVENT
DTSTART;TZID=Europe/Berlin:20260721T190000
DTEND;TZID=Europe/Berlin:20260721T220000
DTSTAMP:20260420T133708
CREATED:20210620T174645Z
LAST-MODIFIED:20210620T174645Z
UID:22391-1784660400-1784671200@kisdorf.de
SUMMARY:Chor-Verein Kisdorf
DESCRIPTION:Es handelt sich bei der Veranstaltung um die wöchentliche Chorprobe des Chor-Vereins Kisdorf.
URL:https://kisdorf.de/event/singen-des-chor-verein-kisdorf/2026-07-21/
LOCATION:Margarethenhoff Saal\, Sengel 1\, Kisdorf\, 24269\, Deutschland
END:VEVENT
BEGIN:VEVENT
DTSTART;TZID=Europe/Berlin:20260722T140000
DTEND;TZID=Europe/Berlin:20260722T200000
DTSTAMP:20260420T133708
CREATED:20200226T183632Z
LAST-MODIFIED:20200226T183632Z
UID:22435-1784728800-1784750400@kisdorf.de
SUMMARY:Gastronomische Veranstaltung
DESCRIPTION:Privat
URL:https://kisdorf.de/event/gastronomische-veranstaltung-12/2026-07-22/
LOCATION:Margarethenhoff Saal\, Sengel 1\, Kisdorf\, 24269\, Deutschland
ORGANIZER;CN="Restaurant Pellegrini":MAILTO:info@margarethenhoff.de
END:VEVENT
BEGIN:VEVENT
DTSTART;TZID=Europe/Berlin:20260723T190000
DTEND;TZID=Europe/Berlin:20260723T210000
DTSTAMP:20260420T133708
CREATED:20210717T082700Z
LAST-MODIFIED:20210717T082700Z
UID:22442-1784833200-1784840400@kisdorf.de
SUMMARY:Musikkapelle Kisdorf
DESCRIPTION:Orchesterprobe
URL:https://kisdorf.de/event/musikkapelle-kisdorf/2026-07-23/
LOCATION:Margarethenhoff Saal\, Sengel 1\, Kisdorf\, 24269\, Deutschland
CATEGORIES:Margarethenhoff Saal
END:VEVENT
BEGIN:VEVENT
DTSTART;TZID=Europe/Berlin:20260728T190000
DTEND;TZID=Europe/Berlin:20260728T220000
DTSTAMP:20260420T133708
CREATED:20210620T174645Z
LAST-MODIFIED:20210620T174645Z
UID:22574-1785265200-1785276000@kisdorf.de
SUMMARY:Chor-Verein Kisdorf
DESCRIPTION:Es handelt sich bei der Veranstaltung um die wöchentliche Chorprobe des Chor-Vereins Kisdorf.
URL:https://kisdorf.de/event/singen-des-chor-verein-kisdorf/2026-07-28/
LOCATION:Margarethenhoff Saal\, Sengel 1\, Kisdorf\, 24269\, Deutschland
END:VEVENT
BEGIN:VEVENT
DTSTART;TZID=Europe/Berlin:20260729T140000
DTEND;TZID=Europe/Berlin:20260729T200000
DTSTAMP:20260420T133708
CREATED:20200226T183632Z
LAST-MODIFIED:20200226T183632Z
UID:22598-1785333600-1785355200@kisdorf.de
SUMMARY:Gastronomische Veranstaltung
DESCRIPTION:Privat
URL:https://kisdorf.de/event/gastronomische-veranstaltung-12/2026-07-29/
LOCATION:Margarethenhoff Saal\, Sengel 1\, Kisdorf\, 24269\, Deutschland
ORGANIZER;CN="Restaurant Pellegrini":MAILTO:info@margarethenhoff.de
END:VEVENT
BEGIN:VEVENT
DTSTART;TZID=Europe/Berlin:20260730T190000
DTEND;TZID=Europe/Berlin:20260730T210000
DTSTAMP:20260420T133708
CREATED:20210717T082700Z
LAST-MODIFIED:20210717T082700Z
UID:22629-1785438000-1785445200@kisdorf.de
SUMMARY:Musikkapelle Kisdorf
DESCRIPTION:Orchesterprobe
URL:https://kisdorf.de/event/musikkapelle-kisdorf/2026-07-30/
LOCATION:Margarethenhoff Saal\, Sengel 1\, Kisdorf\, 24269\, Deutschland
CATEGORIES:Margarethenhoff Saal
END:VEVENT
END:VCALENDAR