BEGIN:VCALENDAR
VERSION:2.0
PRODID:-//Kisdorf.de - ECPv6.15.12.2//NONSGML v1.0//EN
CALSCALE:GREGORIAN
METHOD:PUBLISH
X-WR-CALNAME:Kisdorf.de
X-ORIGINAL-URL:https://kisdorf.de
X-WR-CALDESC:Veranstaltungen für Kisdorf.de
REFRESH-INTERVAL;VALUE=DURATION:PT1H
X-Robots-Tag:noindex
X-PUBLISHED-TTL:PT1H
BEGIN:VTIMEZONE
TZID:Europe/Berlin
BEGIN:DAYLIGHT
TZOFFSETFROM:+0100
TZOFFSETTO:+0200
TZNAME:CEST
DTSTART:20250330T010000
END:DAYLIGHT
BEGIN:STANDARD
TZOFFSETFROM:+0200
TZOFFSETTO:+0100
TZNAME:CET
DTSTART:20251026T010000
END:STANDARD
BEGIN:DAYLIGHT
TZOFFSETFROM:+0100
TZOFFSETTO:+0200
TZNAME:CEST
DTSTART:20260329T010000
END:DAYLIGHT
BEGIN:STANDARD
TZOFFSETFROM:+0200
TZOFFSETTO:+0100
TZNAME:CET
DTSTART:20261025T010000
END:STANDARD
BEGIN:DAYLIGHT
TZOFFSETFROM:+0100
TZOFFSETTO:+0200
TZNAME:CEST
DTSTART:20270328T010000
END:DAYLIGHT
BEGIN:STANDARD
TZOFFSETFROM:+0200
TZOFFSETTO:+0100
TZNAME:CET
DTSTART:20271031T010000
END:STANDARD
END:VTIMEZONE
BEGIN:VEVENT
DTSTART;TZID=Europe/Berlin:20260811T190000
DTEND;TZID=Europe/Berlin:20260811T220000
DTSTAMP:20260424T174301
CREATED:20210620T174645Z
LAST-MODIFIED:20210620T174645Z
UID:22775-1786474800-1786485600@kisdorf.de
SUMMARY:Chor-Verein Kisdorf
DESCRIPTION:Es handelt sich bei der Veranstaltung um die wöchentliche Chorprobe des Chor-Vereins Kisdorf.
URL:https://kisdorf.de/event/singen-des-chor-verein-kisdorf/2026-08-11/
LOCATION:Margarethenhoff Saal\, Sengel 1\, Kisdorf\, 24269\, Deutschland
END:VEVENT
BEGIN:VEVENT
DTSTART;TZID=Europe/Berlin:20260812T140000
DTEND;TZID=Europe/Berlin:20260812T200000
DTSTAMP:20260424T174301
CREATED:20200226T183632Z
LAST-MODIFIED:20200226T183632Z
UID:22782-1786543200-1786564800@kisdorf.de
SUMMARY:Gastronomische Veranstaltung
DESCRIPTION:Privat
URL:https://kisdorf.de/event/gastronomische-veranstaltung-12/2026-08-12/
LOCATION:Margarethenhoff Saal\, Sengel 1\, Kisdorf\, 24269\, Deutschland
ORGANIZER;CN="Restaurant Pellegrini":MAILTO:info@margarethenhoff.de
END:VEVENT
BEGIN:VEVENT
DTSTART;TZID=Europe/Berlin:20260813T190000
DTEND;TZID=Europe/Berlin:20260813T210000
DTSTAMP:20260424T174301
CREATED:20210717T082700Z
LAST-MODIFIED:20210717T082700Z
UID:22805-1786647600-1786654800@kisdorf.de
SUMMARY:Musikkapelle Kisdorf
DESCRIPTION:Orchesterprobe
URL:https://kisdorf.de/event/musikkapelle-kisdorf/2026-08-13/
LOCATION:Margarethenhoff Saal\, Sengel 1\, Kisdorf\, 24269\, Deutschland
CATEGORIES:Margarethenhoff Saal
END:VEVENT
BEGIN:VEVENT
DTSTART;TZID=Europe/Berlin:20260818T190000
DTEND;TZID=Europe/Berlin:20260818T220000
DTSTAMP:20260424T174301
CREATED:20210620T174645Z
LAST-MODIFIED:20210620T174645Z
UID:22863-1787079600-1787090400@kisdorf.de
SUMMARY:Chor-Verein Kisdorf
DESCRIPTION:Es handelt sich bei der Veranstaltung um die wöchentliche Chorprobe des Chor-Vereins Kisdorf.
URL:https://kisdorf.de/event/singen-des-chor-verein-kisdorf/2026-08-18/
LOCATION:Margarethenhoff Saal\, Sengel 1\, Kisdorf\, 24269\, Deutschland
END:VEVENT
BEGIN:VEVENT
DTSTART;TZID=Europe/Berlin:20260819T140000
DTEND;TZID=Europe/Berlin:20260819T200000
DTSTAMP:20260424T174301
CREATED:20200226T183632Z
LAST-MODIFIED:20200226T183632Z
UID:22879-1787148000-1787169600@kisdorf.de
SUMMARY:Gastronomische Veranstaltung
DESCRIPTION:Privat
URL:https://kisdorf.de/event/gastronomische-veranstaltung-12/2026-08-19/
LOCATION:Margarethenhoff Saal\, Sengel 1\, Kisdorf\, 24269\, Deutschland
ORGANIZER;CN="Restaurant Pellegrini":MAILTO:info@margarethenhoff.de
END:VEVENT
BEGIN:VEVENT
DTSTART;TZID=Europe/Berlin:20260820T190000
DTEND;TZID=Europe/Berlin:20260820T210000
DTSTAMP:20260424T174301
CREATED:20210717T082700Z
LAST-MODIFIED:20210717T082700Z
UID:22885-1787252400-1787259600@kisdorf.de
SUMMARY:Musikkapelle Kisdorf
DESCRIPTION:Orchesterprobe
URL:https://kisdorf.de/event/musikkapelle-kisdorf/2026-08-20/
LOCATION:Margarethenhoff Saal\, Sengel 1\, Kisdorf\, 24269\, Deutschland
CATEGORIES:Margarethenhoff Saal
END:VEVENT
BEGIN:VEVENT
DTSTART;TZID=Europe/Berlin:20260825T190000
DTEND;TZID=Europe/Berlin:20260825T220000
DTSTAMP:20260424T174301
CREATED:20210620T174645Z
LAST-MODIFIED:20210620T174645Z
UID:22912-1787684400-1787695200@kisdorf.de
SUMMARY:Chor-Verein Kisdorf
DESCRIPTION:Es handelt sich bei der Veranstaltung um die wöchentliche Chorprobe des Chor-Vereins Kisdorf.
URL:https://kisdorf.de/event/singen-des-chor-verein-kisdorf/2026-08-25/
LOCATION:Margarethenhoff Saal\, Sengel 1\, Kisdorf\, 24269\, Deutschland
END:VEVENT
BEGIN:VEVENT
DTSTART;TZID=Europe/Berlin:20260826T140000
DTEND;TZID=Europe/Berlin:20260826T200000
DTSTAMP:20260424T174301
CREATED:20200226T183632Z
LAST-MODIFIED:20200226T183632Z
UID:22930-1787752800-1787774400@kisdorf.de
SUMMARY:Gastronomische Veranstaltung
DESCRIPTION:Privat
URL:https://kisdorf.de/event/gastronomische-veranstaltung-12/2026-08-26/
LOCATION:Margarethenhoff Saal\, Sengel 1\, Kisdorf\, 24269\, Deutschland
ORGANIZER;CN="Restaurant Pellegrini":MAILTO:info@margarethenhoff.de
END:VEVENT
BEGIN:VEVENT
DTSTART;TZID=Europe/Berlin:20260827T190000
DTEND;TZID=Europe/Berlin:20260827T210000
DTSTAMP:20260424T174301
CREATED:20210717T082700Z
LAST-MODIFIED:20210717T082700Z
UID:22942-1787857200-1787864400@kisdorf.de
SUMMARY:Musikkapelle Kisdorf
DESCRIPTION:Orchesterprobe
URL:https://kisdorf.de/event/musikkapelle-kisdorf/2026-08-27/
LOCATION:Margarethenhoff Saal\, Sengel 1\, Kisdorf\, 24269\, Deutschland
CATEGORIES:Margarethenhoff Saal
END:VEVENT
BEGIN:VEVENT
DTSTART;TZID=Europe/Berlin:20260901T190000
DTEND;TZID=Europe/Berlin:20260901T220000
DTSTAMP:20260424T174301
CREATED:20210620T174645Z
LAST-MODIFIED:20210620T174645Z
UID:22991-1788289200-1788300000@kisdorf.de
SUMMARY:Chor-Verein Kisdorf
DESCRIPTION:Es handelt sich bei der Veranstaltung um die wöchentliche Chorprobe des Chor-Vereins Kisdorf.
URL:https://kisdorf.de/event/singen-des-chor-verein-kisdorf/2026-09-01/
LOCATION:Margarethenhoff Saal\, Sengel 1\, Kisdorf\, 24269\, Deutschland
END:VEVENT
BEGIN:VEVENT
DTSTART;TZID=Europe/Berlin:20260902T140000
DTEND;TZID=Europe/Berlin:20260902T200000
DTSTAMP:20260424T174301
CREATED:20200226T183632Z
LAST-MODIFIED:20200226T183632Z
UID:22994-1788357600-1788379200@kisdorf.de
SUMMARY:Gastronomische Veranstaltung
DESCRIPTION:Privat
URL:https://kisdorf.de/event/gastronomische-veranstaltung-12/2026-09-02/
LOCATION:Margarethenhoff Saal\, Sengel 1\, Kisdorf\, 24269\, Deutschland
ORGANIZER;CN="Restaurant Pellegrini":MAILTO:info@margarethenhoff.de
END:VEVENT
BEGIN:VEVENT
DTSTART;TZID=Europe/Berlin:20260903T190000
DTEND;TZID=Europe/Berlin:20260903T210000
DTSTAMP:20260424T174301
CREATED:20210717T082700Z
LAST-MODIFIED:20210717T082700Z
UID:23004-1788462000-1788469200@kisdorf.de
SUMMARY:Musikkapelle Kisdorf
DESCRIPTION:Orchesterprobe
URL:https://kisdorf.de/event/musikkapelle-kisdorf/2026-09-03/
LOCATION:Margarethenhoff Saal\, Sengel 1\, Kisdorf\, 24269\, Deutschland
CATEGORIES:Margarethenhoff Saal
END:VEVENT
BEGIN:VEVENT
DTSTART;TZID=Europe/Berlin:20260908T190000
DTEND;TZID=Europe/Berlin:20260908T220000
DTSTAMP:20260424T174301
CREATED:20210620T174645Z
LAST-MODIFIED:20210620T174645Z
UID:23035-1788894000-1788904800@kisdorf.de
SUMMARY:Chor-Verein Kisdorf
DESCRIPTION:Es handelt sich bei der Veranstaltung um die wöchentliche Chorprobe des Chor-Vereins Kisdorf.
URL:https://kisdorf.de/event/singen-des-chor-verein-kisdorf/2026-09-08/
LOCATION:Margarethenhoff Saal\, Sengel 1\, Kisdorf\, 24269\, Deutschland
END:VEVENT
BEGIN:VEVENT
DTSTART;TZID=Europe/Berlin:20260909T140000
DTEND;TZID=Europe/Berlin:20260909T200000
DTSTAMP:20260424T174301
CREATED:20200226T183632Z
LAST-MODIFIED:20200226T183632Z
UID:23042-1788962400-1788984000@kisdorf.de
SUMMARY:Gastronomische Veranstaltung
DESCRIPTION:Privat
URL:https://kisdorf.de/event/gastronomische-veranstaltung-12/2026-09-09/
LOCATION:Margarethenhoff Saal\, Sengel 1\, Kisdorf\, 24269\, Deutschland
ORGANIZER;CN="Restaurant Pellegrini":MAILTO:info@margarethenhoff.de
END:VEVENT
BEGIN:VEVENT
DTSTART;TZID=Europe/Berlin:20260910T190000
DTEND;TZID=Europe/Berlin:20260910T210000
DTSTAMP:20260424T174301
CREATED:20210717T082700Z
LAST-MODIFIED:20210717T082700Z
UID:23056-1789066800-1789074000@kisdorf.de
SUMMARY:Musikkapelle Kisdorf
DESCRIPTION:Orchesterprobe
URL:https://kisdorf.de/event/musikkapelle-kisdorf/2026-09-10/
LOCATION:Margarethenhoff Saal\, Sengel 1\, Kisdorf\, 24269\, Deutschland
CATEGORIES:Margarethenhoff Saal
END:VEVENT
BEGIN:VEVENT
DTSTART;TZID=Europe/Berlin:20260915T190000
DTEND;TZID=Europe/Berlin:20260915T220000
DTSTAMP:20260424T174301
CREATED:20210620T174645Z
LAST-MODIFIED:20210620T174645Z
UID:23122-1789498800-1789509600@kisdorf.de
SUMMARY:Chor-Verein Kisdorf
DESCRIPTION:Es handelt sich bei der Veranstaltung um die wöchentliche Chorprobe des Chor-Vereins Kisdorf.
URL:https://kisdorf.de/event/singen-des-chor-verein-kisdorf/2026-09-15/
LOCATION:Margarethenhoff Saal\, Sengel 1\, Kisdorf\, 24269\, Deutschland
END:VEVENT
BEGIN:VEVENT
DTSTART;TZID=Europe/Berlin:20260916T140000
DTEND;TZID=Europe/Berlin:20260916T200000
DTSTAMP:20260424T174301
CREATED:20200226T183632Z
LAST-MODIFIED:20200226T183632Z
UID:23133-1789567200-1789588800@kisdorf.de
SUMMARY:Gastronomische Veranstaltung
DESCRIPTION:Privat
URL:https://kisdorf.de/event/gastronomische-veranstaltung-12/2026-09-16/
LOCATION:Margarethenhoff Saal\, Sengel 1\, Kisdorf\, 24269\, Deutschland
ORGANIZER;CN="Restaurant Pellegrini":MAILTO:info@margarethenhoff.de
END:VEVENT
BEGIN:VEVENT
DTSTART;TZID=Europe/Berlin:20260917T190000
DTEND;TZID=Europe/Berlin:20260917T210000
DTSTAMP:20260424T174301
CREATED:20210717T082700Z
LAST-MODIFIED:20210717T082700Z
UID:23149-1789671600-1789678800@kisdorf.de
SUMMARY:Musikkapelle Kisdorf
DESCRIPTION:Orchesterprobe
URL:https://kisdorf.de/event/musikkapelle-kisdorf/2026-09-17/
LOCATION:Margarethenhoff Saal\, Sengel 1\, Kisdorf\, 24269\, Deutschland
CATEGORIES:Margarethenhoff Saal
END:VEVENT
BEGIN:VEVENT
DTSTART;TZID=Europe/Berlin:20260922T190000
DTEND;TZID=Europe/Berlin:20260922T220000
DTSTAMP:20260424T174301
CREATED:20210620T174645Z
LAST-MODIFIED:20210620T174645Z
UID:23198-1790103600-1790114400@kisdorf.de
SUMMARY:Chor-Verein Kisdorf
DESCRIPTION:Es handelt sich bei der Veranstaltung um die wöchentliche Chorprobe des Chor-Vereins Kisdorf.
URL:https://kisdorf.de/event/singen-des-chor-verein-kisdorf/2026-09-22/
LOCATION:Margarethenhoff Saal\, Sengel 1\, Kisdorf\, 24269\, Deutschland
END:VEVENT
BEGIN:VEVENT
DTSTART;TZID=Europe/Berlin:20260923T140000
DTEND;TZID=Europe/Berlin:20260923T200000
DTSTAMP:20260424T174301
CREATED:20200226T183632Z
LAST-MODIFIED:20200226T183632Z
UID:23210-1790172000-1790193600@kisdorf.de
SUMMARY:Gastronomische Veranstaltung
DESCRIPTION:Privat
URL:https://kisdorf.de/event/gastronomische-veranstaltung-12/2026-09-23/
LOCATION:Margarethenhoff Saal\, Sengel 1\, Kisdorf\, 24269\, Deutschland
ORGANIZER;CN="Restaurant Pellegrini":MAILTO:info@margarethenhoff.de
END:VEVENT
BEGIN:VEVENT
DTSTART;TZID=Europe/Berlin:20260924T190000
DTEND;TZID=Europe/Berlin:20260924T210000
DTSTAMP:20260424T174301
CREATED:20210717T082700Z
LAST-MODIFIED:20210717T082700Z
UID:23221-1790276400-1790283600@kisdorf.de
SUMMARY:Musikkapelle Kisdorf
DESCRIPTION:Orchesterprobe
URL:https://kisdorf.de/event/musikkapelle-kisdorf/2026-09-24/
LOCATION:Margarethenhoff Saal\, Sengel 1\, Kisdorf\, 24269\, Deutschland
CATEGORIES:Margarethenhoff Saal
END:VEVENT
BEGIN:VEVENT
DTSTART;TZID=Europe/Berlin:20260929T190000
DTEND;TZID=Europe/Berlin:20260929T220000
DTSTAMP:20260424T174301
CREATED:20210620T174645Z
LAST-MODIFIED:20210620T174645Z
UID:23267-1790708400-1790719200@kisdorf.de
SUMMARY:Chor-Verein Kisdorf
DESCRIPTION:Es handelt sich bei der Veranstaltung um die wöchentliche Chorprobe des Chor-Vereins Kisdorf.
URL:https://kisdorf.de/event/singen-des-chor-verein-kisdorf/2026-09-29/
LOCATION:Margarethenhoff Saal\, Sengel 1\, Kisdorf\, 24269\, Deutschland
END:VEVENT
BEGIN:VEVENT
DTSTART;TZID=Europe/Berlin:20260930T140000
DTEND;TZID=Europe/Berlin:20260930T200000
DTSTAMP:20260424T174301
CREATED:20200226T183632Z
LAST-MODIFIED:20200226T183632Z
UID:23276-1790776800-1790798400@kisdorf.de
SUMMARY:Gastronomische Veranstaltung
DESCRIPTION:Privat
URL:https://kisdorf.de/event/gastronomische-veranstaltung-12/2026-09-30/
LOCATION:Margarethenhoff Saal\, Sengel 1\, Kisdorf\, 24269\, Deutschland
ORGANIZER;CN="Restaurant Pellegrini":MAILTO:info@margarethenhoff.de
END:VEVENT
BEGIN:VEVENT
DTSTART;TZID=Europe/Berlin:20261001T190000
DTEND;TZID=Europe/Berlin:20261001T210000
DTSTAMP:20260424T174301
CREATED:20210717T082700Z
LAST-MODIFIED:20210717T082700Z
UID:23289-1790881200-1790888400@kisdorf.de
SUMMARY:Musikkapelle Kisdorf
DESCRIPTION:Orchesterprobe
URL:https://kisdorf.de/event/musikkapelle-kisdorf/2026-10-01/
LOCATION:Margarethenhoff Saal\, Sengel 1\, Kisdorf\, 24269\, Deutschland
CATEGORIES:Margarethenhoff Saal
END:VEVENT
BEGIN:VEVENT
DTSTART;TZID=Europe/Berlin:20261006T190000
DTEND;TZID=Europe/Berlin:20261006T220000
DTSTAMP:20260424T174301
CREATED:20210620T174645Z
LAST-MODIFIED:20210620T174645Z
UID:23330-1791313200-1791324000@kisdorf.de
SUMMARY:Chor-Verein Kisdorf
DESCRIPTION:Es handelt sich bei der Veranstaltung um die wöchentliche Chorprobe des Chor-Vereins Kisdorf.
URL:https://kisdorf.de/event/singen-des-chor-verein-kisdorf/2026-10-06/
LOCATION:Margarethenhoff Saal\, Sengel 1\, Kisdorf\, 24269\, Deutschland
END:VEVENT
BEGIN:VEVENT
DTSTART;TZID=Europe/Berlin:20261007T140000
DTEND;TZID=Europe/Berlin:20261007T200000
DTSTAMP:20260424T174301
CREATED:20200226T183632Z
LAST-MODIFIED:20200226T183632Z
UID:23410-1791381600-1791403200@kisdorf.de
SUMMARY:Gastronomische Veranstaltung
DESCRIPTION:Privat
URL:https://kisdorf.de/event/gastronomische-veranstaltung-12/2026-10-07/
LOCATION:Margarethenhoff Saal\, Sengel 1\, Kisdorf\, 24269\, Deutschland
ORGANIZER;CN="Restaurant Pellegrini":MAILTO:info@margarethenhoff.de
END:VEVENT
BEGIN:VEVENT
DTSTART;TZID=Europe/Berlin:20261008T190000
DTEND;TZID=Europe/Berlin:20261008T210000
DTSTAMP:20260424T174301
CREATED:20210717T082700Z
LAST-MODIFIED:20210717T082700Z
UID:23413-1791486000-1791493200@kisdorf.de
SUMMARY:Musikkapelle Kisdorf
DESCRIPTION:Orchesterprobe
URL:https://kisdorf.de/event/musikkapelle-kisdorf/2026-10-08/
LOCATION:Margarethenhoff Saal\, Sengel 1\, Kisdorf\, 24269\, Deutschland
CATEGORIES:Margarethenhoff Saal
END:VEVENT
BEGIN:VEVENT
DTSTART;TZID=Europe/Berlin:20261013T190000
DTEND;TZID=Europe/Berlin:20261013T220000
DTSTAMP:20260424T174301
CREATED:20210620T174645Z
LAST-MODIFIED:20210620T174645Z
UID:23438-1791918000-1791928800@kisdorf.de
SUMMARY:Chor-Verein Kisdorf
DESCRIPTION:Es handelt sich bei der Veranstaltung um die wöchentliche Chorprobe des Chor-Vereins Kisdorf.
URL:https://kisdorf.de/event/singen-des-chor-verein-kisdorf/2026-10-13/
LOCATION:Margarethenhoff Saal\, Sengel 1\, Kisdorf\, 24269\, Deutschland
END:VEVENT
BEGIN:VEVENT
DTSTART;TZID=Europe/Berlin:20261014T140000
DTEND;TZID=Europe/Berlin:20261014T200000
DTSTAMP:20260424T174301
CREATED:20200226T183632Z
LAST-MODIFIED:20200226T183632Z
UID:23447-1791986400-1792008000@kisdorf.de
SUMMARY:Gastronomische Veranstaltung
DESCRIPTION:Privat
URL:https://kisdorf.de/event/gastronomische-veranstaltung-12/2026-10-14/
LOCATION:Margarethenhoff Saal\, Sengel 1\, Kisdorf\, 24269\, Deutschland
ORGANIZER;CN="Restaurant Pellegrini":MAILTO:info@margarethenhoff.de
END:VEVENT
BEGIN:VEVENT
DTSTART;TZID=Europe/Berlin:20261015T190000
DTEND;TZID=Europe/Berlin:20261015T210000
DTSTAMP:20260424T174301
CREATED:20210717T082700Z
LAST-MODIFIED:20210717T082700Z
UID:23456-1792090800-1792098000@kisdorf.de
SUMMARY:Musikkapelle Kisdorf
DESCRIPTION:Orchesterprobe
URL:https://kisdorf.de/event/musikkapelle-kisdorf/2026-10-15/
LOCATION:Margarethenhoff Saal\, Sengel 1\, Kisdorf\, 24269\, Deutschland
CATEGORIES:Margarethenhoff Saal
END:VEVENT
END:VCALENDAR