BEGIN:VCALENDAR
VERSION:2.0
PRODID:-//Kisdorf.de - ECPv6.15.12.2//NONSGML v1.0//EN
CALSCALE:GREGORIAN
METHOD:PUBLISH
X-WR-CALNAME:Kisdorf.de
X-ORIGINAL-URL:https://kisdorf.de
X-WR-CALDESC:Veranstaltungen für Kisdorf.de
REFRESH-INTERVAL;VALUE=DURATION:PT1H
X-Robots-Tag:noindex
X-PUBLISHED-TTL:PT1H
BEGIN:VTIMEZONE
TZID:Europe/Berlin
BEGIN:DAYLIGHT
TZOFFSETFROM:+0100
TZOFFSETTO:+0200
TZNAME:CEST
DTSTART:20230326T010000
END:DAYLIGHT
BEGIN:STANDARD
TZOFFSETFROM:+0200
TZOFFSETTO:+0100
TZNAME:CET
DTSTART:20231029T010000
END:STANDARD
BEGIN:DAYLIGHT
TZOFFSETFROM:+0100
TZOFFSETTO:+0200
TZNAME:CEST
DTSTART:20240331T010000
END:DAYLIGHT
BEGIN:STANDARD
TZOFFSETFROM:+0200
TZOFFSETTO:+0100
TZNAME:CET
DTSTART:20241027T010000
END:STANDARD
BEGIN:DAYLIGHT
TZOFFSETFROM:+0100
TZOFFSETTO:+0200
TZNAME:CEST
DTSTART:20250330T010000
END:DAYLIGHT
BEGIN:STANDARD
TZOFFSETFROM:+0200
TZOFFSETTO:+0100
TZNAME:CET
DTSTART:20251026T010000
END:STANDARD
BEGIN:DAYLIGHT
TZOFFSETFROM:+0100
TZOFFSETTO:+0200
TZNAME:CEST
DTSTART:20260329T010000
END:DAYLIGHT
BEGIN:STANDARD
TZOFFSETFROM:+0200
TZOFFSETTO:+0100
TZNAME:CET
DTSTART:20261025T010000
END:STANDARD
END:VTIMEZONE
BEGIN:VEVENT
DTSTART;TZID=Europe/Berlin:20250731T200000
DTEND;TZID=Europe/Berlin:20250731T220000
DTSTAMP:20260426T004755
CREATED:20250708T122017Z
LAST-MODIFIED:20250708T122017Z
UID:26127-1753992000-1753999200@kisdorf.de
SUMMARY:BSV Vorstand
DESCRIPTION:Vorstandssitzung
URL:https://kisdorf.de/event/bsv-vorstand/
LOCATION:Margarethenhoff Peerstall\, Sengel 1\, Kisdorf\, 24629\, Deutschland
CATEGORIES:Margarethenhoff Peerstall
END:VEVENT
BEGIN:VEVENT
DTSTART;TZID=Europe/Berlin:20250728T153000
DTEND;TZID=Europe/Berlin:20250728T193000
DTSTAMP:20260426T004755
CREATED:20250217T072158Z
LAST-MODIFIED:20250217T072158Z
UID:24820-1753716600-1753731000@kisdorf.de
SUMMARY:Blutspende-Termine in Kisdorf
DESCRIPTION:Blutspendeaktion\, um von freiwilligen Spendern unentgeltlich Blutkonserven zu erhalten\, damit kranken Menschen geholfen werden kann.
URL:https://kisdorf.de/event/blutspende-termine-in-kisdorf-3/
LOCATION:Margarethenhoff Saal\, Sengel 1\, Kisdorf\, 24269\, Deutschland
CATEGORIES:Margarethenhoff Saal
ORGANIZER;CN="DRK-Ortsverein Kisdorf und Umgebung e.V.":MAILTO:Klaus.Redecke@t-online.de
END:VEVENT
BEGIN:VEVENT
DTSTART;TZID=Europe/Berlin:20250724T193000
DTEND;TZID=Europe/Berlin:20250724T220000
DTSTAMP:20260426T004755
CREATED:20250128T105551Z
LAST-MODIFIED:20250128T105551Z
UID:24663-1753385400-1753394400@kisdorf.de
SUMMARY:WKB Fraktionssitzung
DESCRIPTION:monatliche Fraktionssitzung
URL:https://kisdorf.de/event/wkb-fraktionssitzung-2/2025-07-24/
LOCATION:Margarethenhoff Peerstall\, Sengel 1\, Kisdorf\, 24629\, Deutschland
END:VEVENT
BEGIN:VEVENT
DTSTART;TZID=Europe/Berlin:20250715T140000
DTEND;TZID=Europe/Berlin:20250715T170000
DTSTAMP:20260426T004755
CREATED:20250708T122017Z
LAST-MODIFIED:20250708T122017Z
UID:26145-1752588000-1752598800@kisdorf.de
SUMMARY:Kreativ-Werkstatt
DESCRIPTION:Gleichgesinnte treffen sich unter fachkundiger Anleitung am 1. + 3. Dienstag im Monat\, um in geselliger Runde gemeinsam  \nkreativ zu sein /  Ideen auszutauschen und evtl. umzusetzen /  Mut zu machen für „Unbekanntes“ /  gegenseitig Hilfe anzubieten \nZiel soll sein\, bei Bedarf sein Können kostenfrei und ohne Eigennutz an andere Teilnehmer weiterzugeben.
URL:https://kisdorf.de/event/kreativ-werkstatt-3/
LOCATION:Margarethenhoff Peerstall\, Sengel 1\, Kisdorf\, 24629\, Deutschland
CATEGORIES:Margarethenhoff Peerstall
ORGANIZER;CN="Annegret Steiner":MAILTO:as-kreativart@gmx.de
END:VEVENT
BEGIN:VEVENT
DTSTART;TZID=Europe/Berlin:20250703T200000
DTEND;TZID=Europe/Berlin:20250703T220000
DTSTAMP:20260426T004755
CREATED:20250613T123220Z
LAST-MODIFIED:20250613T123220Z
UID:25836-1751572800-1751580000@kisdorf.de
SUMMARY:Vorstandssitzung BSV Kisdorf (eine geschlossene Veranstaltung)
DESCRIPTION:Vorstandssitzung BSV Kisdorf
URL:https://kisdorf.de/event/vorstandssitzung-bsv-kisdorf-eine-geschlossene-veranstaltung/
LOCATION:Margarethenhoff Peerstall\, Sengel 1\, Kisdorf\, 24629\, Deutschland
CATEGORIES:Margarethenhoff Peerstall
END:VEVENT
BEGIN:VEVENT
DTSTART;TZID=Europe/Berlin:20250702T173000
DTEND;TZID=Europe/Berlin:20250702T220000
DTSTAMP:20260426T004755
CREATED:20250106T080359Z
LAST-MODIFIED:20250602T081246Z
UID:24395-1751477400-1751493600@kisdorf.de
SUMMARY:CDU Fraktionssitzung (geschlossene Veranstaltung)
DESCRIPTION:Fraktionssitzung
URL:https://kisdorf.de/event/cdu-fraktionssitzung-9/
LOCATION:Margarethenhoff Peerstall\, Sengel 1\, Kisdorf\, 24629\, Deutschland
END:VEVENT
BEGIN:VEVENT
DTSTART;TZID=Europe/Berlin:20250626T193000
DTEND;TZID=Europe/Berlin:20250626T220000
DTSTAMP:20260426T004755
CREATED:20250128T105551Z
LAST-MODIFIED:20250128T105551Z
UID:24662-1750966200-1750975200@kisdorf.de
SUMMARY:WKB Fraktionssitzung
DESCRIPTION:monatliche Fraktionssitzung
URL:https://kisdorf.de/event/wkb-fraktionssitzung-2/2025-06-26/
LOCATION:Margarethenhoff Peerstall\, Sengel 1\, Kisdorf\, 24629\, Deutschland
END:VEVENT
BEGIN:VEVENT
DTSTART;TZID=Europe/Berlin:20250617T140000
DTEND;TZID=Europe/Berlin:20250617T170000
DTSTAMP:20260426T004755
CREATED:20241216T110524Z
LAST-MODIFIED:20241216T110524Z
UID:24174-1750168800-1750179600@kisdorf.de
SUMMARY:Kreativ-Werkstatt - AK im TV Dorfhaus Kisdorf
DESCRIPTION:Gleichgesinnte treffen sich 2x monatlich\, um in geselliger Runde gemeinsam kreativ zu sein.
URL:https://kisdorf.de/event/kreativ-werkstatt-ak-im-tv-dorfhaus-kisdorf-25/
LOCATION:Margarethenhoff Peerstall\, Sengel 1\, Kisdorf\, 24629\, Deutschland
CATEGORIES:Margarethenhoff Peerstall
ORGANIZER;CN="Annegret Steiner":MAILTO:as-kreativart@gmx.de
END:VEVENT
BEGIN:VEVENT
DTSTART;TZID=Europe/Berlin:20250610T193000
DTEND;TZID=Europe/Berlin:20250610T213000
DTSTAMP:20260426T004755
CREATED:20250604T112826Z
LAST-MODIFIED:20250604T112826Z
UID:25815-1749583800-1749591000@kisdorf.de
SUMMARY:Ausschuss für Verkehr und Umweltschutz
DESCRIPTION:15. öffentliche Sitzung des Ausschusses für Verkehr und Umweltschutz
URL:https://kisdorf.de/event/ausschuss-fuer-verkehr-und-umweltschutz-8/
LOCATION:Margarethenhoff Peerstall\, Sengel 1\, Kisdorf\, 24629\, Deutschland
ATTACH;FMTTYPE=image/jpeg:https://kisdorf.de/wp-content/uploads/2025/06/tree-2916763_1280_cr.jpg
END:VEVENT
BEGIN:VEVENT
DTSTART;TZID=Europe/Berlin:20250604T193000
DTEND;TZID=Europe/Berlin:20250604T220000
DTSTAMP:20260426T004755
CREATED:20250106T080359Z
LAST-MODIFIED:20250106T080359Z
UID:24391-1749065400-1749074400@kisdorf.de
SUMMARY:CDU Fraktionssitzung
DESCRIPTION:Fraktionssitzung
URL:https://kisdorf.de/event/cdu-fraktionssitzung-8/
LOCATION:Margarethenhoff Peerstall\, Sengel 1\, Kisdorf\, 24629\, Deutschland
END:VEVENT
BEGIN:VEVENT
DTSTART;TZID=Europe/Berlin:20250603T140000
DTEND;TZID=Europe/Berlin:20250603T170000
DTSTAMP:20260426T004755
CREATED:20241216T110524Z
LAST-MODIFIED:20241216T110524Z
UID:24170-1748959200-1748970000@kisdorf.de
SUMMARY:Kreativ-Werkstatt - AK im TV Dorfhaus Kisdorf
DESCRIPTION:Gleichgesinnte treffen sich 2x monatlich\, um in geselliger Runde gemeinsam kreativ zu sein.
URL:https://kisdorf.de/event/kreativ-werkstatt-ak-im-tv-dorfhaus-kisdorf-24/
LOCATION:Margarethenhoff Peerstall\, Sengel 1\, Kisdorf\, 24629\, Deutschland
CATEGORIES:Margarethenhoff Peerstall
ORGANIZER;CN="Annegret Steiner":MAILTO:as-kreativart@gmx.de
END:VEVENT
BEGIN:VEVENT
DTSTART;TZID=Europe/Berlin:20250527T193000
DTEND;TZID=Europe/Berlin:20250527T213000
DTSTAMP:20260426T004755
CREATED:20250521T140446Z
LAST-MODIFIED:20250521T140522Z
UID:25646-1748374200-1748381400@kisdorf.de
SUMMARY:Ausschuss für Verkehr und Umweltschutz
DESCRIPTION:Öffentliche Sitzung des Ausschusses für Verkehr und Umweltschutz Kisdorf
URL:https://kisdorf.de/event/ausschuss-fuer-verkehr-und-umweltschutz-2/
LOCATION:Margarethenhoff Peerstall\, Sengel 1\, Kisdorf\, 24629\, Deutschland
CATEGORIES:Margarethenhoff Peerstall
ATTACH;FMTTYPE=image/jpeg:https://kisdorf.de/wp-content/uploads/2025/05/tree-2916763_1280_cr.jpg
END:VEVENT
BEGIN:VEVENT
DTSTART;TZID=Europe/Berlin:20250522T193000
DTEND;TZID=Europe/Berlin:20250522T220000
DTSTAMP:20260426T004755
CREATED:20250128T105550Z
LAST-MODIFIED:20250128T105550Z
UID:24661-1747942200-1747951200@kisdorf.de
SUMMARY:WKB Fraktionssitzung
DESCRIPTION:monatliche Fraktionssitzung
URL:https://kisdorf.de/event/wkb-fraktionssitzung-2/2025-05-22/
LOCATION:Margarethenhoff Peerstall\, Sengel 1\, Kisdorf\, 24629\, Deutschland
END:VEVENT
BEGIN:VEVENT
DTSTART;TZID=Europe/Berlin:20250520T140000
DTEND;TZID=Europe/Berlin:20250520T170000
DTSTAMP:20260426T004755
CREATED:20241216T110524Z
LAST-MODIFIED:20241216T110524Z
UID:24166-1747749600-1747760400@kisdorf.de
SUMMARY:Kreativ-Werkstatt - AK im TV Dorfhaus Kisdorf
DESCRIPTION:Gleichgesinnte treffen sich 2x monatlich\, um in geselliger Runde gemeinsam kreativ zu sein.
URL:https://kisdorf.de/event/kreativ-werkstatt-ak-im-tv-dorfhaus-kisdorf-23/
LOCATION:Margarethenhoff Peerstall\, Sengel 1\, Kisdorf\, 24629\, Deutschland
CATEGORIES:Margarethenhoff Peerstall
ORGANIZER;CN="Annegret Steiner":MAILTO:as-kreativart@gmx.de
END:VEVENT
BEGIN:VEVENT
DTSTART;TZID=Europe/Berlin:20250508T193000
DTEND;TZID=Europe/Berlin:20250508T220000
DTSTAMP:20260426T004755
CREATED:20250106T080359Z
LAST-MODIFIED:20250423T092849Z
UID:24387-1746732600-1746741600@kisdorf.de
SUMMARY:CDU Fraktionssitzung (geschlossene Veranstaltung)
DESCRIPTION:Fraktionssitzung
URL:https://kisdorf.de/event/cdu-fraktionssitzung-7/
LOCATION:Margarethenhoff Peerstall\, Sengel 1\, Kisdorf\, 24629\, Deutschland
END:VEVENT
BEGIN:VEVENT
DTSTART;TZID=Europe/Berlin:20250506T140000
DTEND;TZID=Europe/Berlin:20250506T170000
DTSTAMP:20260426T004755
CREATED:20241216T110523Z
LAST-MODIFIED:20241216T110523Z
UID:24162-1746540000-1746550800@kisdorf.de
SUMMARY:Kreativ-Werkstatt - AK im TV Dorfhaus Kisdorf
DESCRIPTION:Gleichgesinnte treffen sich 2x monatlich\, um in geselliger Runde gemeinsam kreativ zu sein.
URL:https://kisdorf.de/event/kreativ-werkstatt-ak-im-tv-dorfhaus-kisdorf-22/
LOCATION:Margarethenhoff Peerstall\, Sengel 1\, Kisdorf\, 24629\, Deutschland
CATEGORIES:Margarethenhoff Peerstall
ORGANIZER;CN="Annegret Steiner":MAILTO:as-kreativart@gmx.de
END:VEVENT
BEGIN:VEVENT
DTSTART;TZID=Europe/Berlin:20250505T153000
DTEND;TZID=Europe/Berlin:20250505T193000
DTSTAMP:20260426T004755
CREATED:20250217T072158Z
LAST-MODIFIED:20250217T072158Z
UID:24816-1746459000-1746473400@kisdorf.de
SUMMARY:Blutspende-Termine in Kisdorf
DESCRIPTION:Blutspendeaktion\, um von freiwilligen Spendern unentgeltlich Blutkonserven zu erhalten\, damit kranken Menschen geholfen werden kann.
URL:https://kisdorf.de/event/blutspende-termine-in-kisdorf-2/
LOCATION:Margarethenhoff Saal\, Sengel 1\, Kisdorf\, 24269\, Deutschland
CATEGORIES:Margarethenhoff Saal
ORGANIZER;CN="DRK-Ortsverein Kisdorf und Umgebung e.V.":MAILTO:Klaus.Redecke@t-online.de
END:VEVENT
BEGIN:VEVENT
DTSTART;TZID=Europe/Berlin:20250429T193000
DTEND;TZID=Europe/Berlin:20250429T213000
DTSTAMP:20260426T004755
CREATED:20250410T163341Z
LAST-MODIFIED:20250410T163341Z
UID:25388-1745955000-1745962200@kisdorf.de
SUMMARY:Finanzausschuss
DESCRIPTION:Finanzausschuss der Gemeinde Kisdorf
URL:https://kisdorf.de/event/finanzausschuss/
LOCATION:Margarethenhoff Peerstall\, Sengel 1\, Kisdorf\, 24629\, Deutschland
CATEGORIES:Margarethenhoff Peerstall
END:VEVENT
BEGIN:VEVENT
DTSTART;TZID=Europe/Berlin:20250428T183000
DTEND;TZID=Europe/Berlin:20250428T210000
DTSTAMP:20260426T004755
CREATED:20250424T140750Z
LAST-MODIFIED:20250424T140750Z
UID:25508-1745865000-1745874000@kisdorf.de
SUMMARY:Arbeitstreffen AK1 (geschlossene Veranstaltung)
DESCRIPTION:Jan Otterstetter und Kätti Weinreich
URL:https://kisdorf.de/event/arbeitstreffen-ak1-geschlossene-veranstaltung/
LOCATION:Margarethenhoff Peerstall\, Sengel 1\, Kisdorf\, 24629\, Deutschland
ORGANIZER;CN="Tr%C3%A4ger-Verein Dorfhaus Kisdorf e.V.":MAILTO:hroch@sh-mobile.de
END:VEVENT
BEGIN:VEVENT
DTSTART;TZID=Europe/Berlin:20250424T193000
DTEND;TZID=Europe/Berlin:20250424T220000
DTSTAMP:20260426T004755
CREATED:20250128T105550Z
LAST-MODIFIED:20250128T105550Z
UID:24660-1745523000-1745532000@kisdorf.de
SUMMARY:WKB Fraktionssitzung
DESCRIPTION:monatliche Fraktionssitzung
URL:https://kisdorf.de/event/wkb-fraktionssitzung-2/2025-04-24/
LOCATION:Margarethenhoff Peerstall\, Sengel 1\, Kisdorf\, 24629\, Deutschland
END:VEVENT
BEGIN:VEVENT
DTSTART;TZID=Europe/Berlin:20250423T190000
DTEND;TZID=Europe/Berlin:20250423T210000
DTSTAMP:20260426T004755
CREATED:20250410T163105Z
LAST-MODIFIED:20250410T163105Z
UID:25394-1745434800-1745442000@kisdorf.de
SUMMARY:Gesprächsrunde Karklohweg
DESCRIPTION:
URL:https://kisdorf.de/event/gespraechsrunde-karklohweg/
LOCATION:Margarethenhoff Peerstall\, Sengel 1\, Kisdorf\, 24629\, Deutschland
CATEGORIES:Margarethenhoff Peerstall
END:VEVENT
BEGIN:VEVENT
DTSTART;TZID=Europe/Berlin:20250408T190000
DTEND;TZID=Europe/Berlin:20250408T210000
DTSTAMP:20260426T004755
CREATED:20250407T101400Z
LAST-MODIFIED:20250407T101400Z
UID:25340-1744138800-1744146000@kisdorf.de
SUMMARY:Treffen AK1 Künstler-26-Team (geschlossene Veranstaltung)
DESCRIPTION:Vorplanungstreffen
URL:https://kisdorf.de/event/treffen-ak1-kuenstler-26-team-geschlossene-veranstaltung/
LOCATION:Margarethenhoff Peerstall\, Sengel 1\, Kisdorf\, 24629\, Deutschland
ORGANIZER;CN="Tr%C3%A4ger-Verein Dorfhaus Kisdorf e.V.":MAILTO:hroch@sh-mobile.de
END:VEVENT
BEGIN:VEVENT
DTSTART;TZID=Europe/Berlin:20250401T180000
DTEND;TZID=Europe/Berlin:20250401T200000
DTSTAMP:20260426T004755
CREATED:20250321T075422Z
LAST-MODIFIED:20250321T075422Z
UID:25197-1743530400-1743537600@kisdorf.de
SUMMARY:BSV Kisdorf Vorstandssitzung
DESCRIPTION:BSV Kisdorf Vorstandssitzung Gesamtverein
URL:https://kisdorf.de/event/bsv-kisdorf-vorstandssitzung/
LOCATION:Margarethenhoff Peerstall\, Sengel 1\, Kisdorf\, 24629\, Deutschland
ATTACH;FMTTYPE=image/png:https://kisdorf.de/wp-content/uploads/2025/03/BSV_Logo_256.png
END:VEVENT
BEGIN:VEVENT
DTSTART;TZID=Europe/Berlin:20250327T193000
DTEND;TZID=Europe/Berlin:20250327T220000
DTSTAMP:20260426T004755
CREATED:20250128T105550Z
LAST-MODIFIED:20250128T105550Z
UID:24657-1743103800-1743112800@kisdorf.de
SUMMARY:WKB Fraktionssitzung
DESCRIPTION:monatliche Fraktionssitzung
URL:https://kisdorf.de/event/wkb-fraktionssitzung-2/2025-03-27/
LOCATION:Margarethenhoff Peerstall\, Sengel 1\, Kisdorf\, 24629\, Deutschland
END:VEVENT
BEGIN:VEVENT
DTSTART;TZID=Europe/Berlin:20241226T193000
DTEND;TZID=Europe/Berlin:20241226T220000
DTSTAMP:20260426T004755
CREATED:20210122T161318Z
LAST-MODIFIED:20210122T161318Z
UID:24619-1735241400-1735250400@kisdorf.de
SUMMARY:WKB-Fraktionssitzung (Peerstall)
DESCRIPTION:
URL:https://kisdorf.de/event/wkb-fraktionssitzung-peerstall-2023-04-27/2024-12-26/
LOCATION:Margarethenhoff Peerstall\, Sengel 1\, Kisdorf\, 24629\, Deutschland
CATEGORIES:Margarethenhoff Peerstall
END:VEVENT
BEGIN:VEVENT
DTSTART;TZID=Europe/Berlin:20241128T193000
DTEND;TZID=Europe/Berlin:20241128T220000
DTSTAMP:20260426T004755
CREATED:20210122T161318Z
LAST-MODIFIED:20250124T080935Z
UID:13696-1732822200-1732831200@kisdorf.de
SUMMARY:WKB-Fraktionssitzung (Peerstall)
DESCRIPTION:
URL:https://kisdorf.de/event/wkb-fraktionssitzung-peerstall-2023-04-27/2024-11-28/
LOCATION:Margarethenhoff Peerstall\, Sengel 1\, Kisdorf\, 24629\, Deutschland
CATEGORIES:Margarethenhoff Peerstall
END:VEVENT
BEGIN:VEVENT
DTSTART;TZID=Europe/Berlin:20241024T193000
DTEND;TZID=Europe/Berlin:20241024T220000
DTSTAMP:20260426T004755
CREATED:20210122T161318Z
LAST-MODIFIED:20250124T080934Z
UID:13695-1729798200-1729807200@kisdorf.de
SUMMARY:WKB-Fraktionssitzung (Peerstall)
DESCRIPTION:
URL:https://kisdorf.de/event/wkb-fraktionssitzung-peerstall-2023-04-27/2024-10-24/
LOCATION:Margarethenhoff Peerstall\, Sengel 1\, Kisdorf\, 24629\, Deutschland
CATEGORIES:Margarethenhoff Peerstall
END:VEVENT
BEGIN:VEVENT
DTSTART;TZID=Europe/Berlin:20240926T193000
DTEND;TZID=Europe/Berlin:20240926T220000
DTSTAMP:20260426T004755
CREATED:20210122T161318Z
LAST-MODIFIED:20250124T080934Z
UID:13694-1727379000-1727388000@kisdorf.de
SUMMARY:WKB-Fraktionssitzung (Peerstall)
DESCRIPTION:
URL:https://kisdorf.de/event/wkb-fraktionssitzung-peerstall-2023-04-27/2024-09-26/
LOCATION:Margarethenhoff Peerstall\, Sengel 1\, Kisdorf\, 24629\, Deutschland
CATEGORIES:Margarethenhoff Peerstall
END:VEVENT
BEGIN:VEVENT
DTSTART;TZID=Europe/Berlin:20240822T193000
DTEND;TZID=Europe/Berlin:20240822T220000
DTSTAMP:20260426T004755
CREATED:20210122T161318Z
LAST-MODIFIED:20250124T080933Z
UID:13693-1724355000-1724364000@kisdorf.de
SUMMARY:WKB-Fraktionssitzung (Peerstall)
DESCRIPTION:
URL:https://kisdorf.de/event/wkb-fraktionssitzung-peerstall-2023-04-27/2024-08-22/
LOCATION:Margarethenhoff Peerstall\, Sengel 1\, Kisdorf\, 24629\, Deutschland
CATEGORIES:Margarethenhoff Peerstall
END:VEVENT
BEGIN:VEVENT
DTSTART;TZID=Europe/Berlin:20240725T193000
DTEND;TZID=Europe/Berlin:20240725T220000
DTSTAMP:20260426T004755
CREATED:20210122T161318Z
LAST-MODIFIED:20250124T080933Z
UID:13692-1721935800-1721944800@kisdorf.de
SUMMARY:WKB-Fraktionssitzung (Peerstall)
DESCRIPTION:
URL:https://kisdorf.de/event/wkb-fraktionssitzung-peerstall-2023-04-27/2024-07-25/
LOCATION:Margarethenhoff Peerstall\, Sengel 1\, Kisdorf\, 24629\, Deutschland
CATEGORIES:Margarethenhoff Peerstall
END:VEVENT
END:VCALENDAR