BEGIN:VCALENDAR
VERSION:2.0
PRODID:-//Kisdorf.de - ECPv6.15.12.2//NONSGML v1.0//EN
CALSCALE:GREGORIAN
METHOD:PUBLISH
X-ORIGINAL-URL:https://kisdorf.de
X-WR-CALDESC:Veranstaltungen für Kisdorf.de
REFRESH-INTERVAL;VALUE=DURATION:PT1H
X-Robots-Tag:noindex
X-PUBLISHED-TTL:PT1H
BEGIN:VTIMEZONE
TZID:Europe/Berlin
BEGIN:DAYLIGHT
TZOFFSETFROM:+0100
TZOFFSETTO:+0200
TZNAME:CEST
DTSTART:20210328T010000
END:DAYLIGHT
BEGIN:STANDARD
TZOFFSETFROM:+0200
TZOFFSETTO:+0100
TZNAME:CET
DTSTART:20211031T010000
END:STANDARD
BEGIN:DAYLIGHT
TZOFFSETFROM:+0100
TZOFFSETTO:+0200
TZNAME:CEST
DTSTART:20220327T010000
END:DAYLIGHT
BEGIN:STANDARD
TZOFFSETFROM:+0200
TZOFFSETTO:+0100
TZNAME:CET
DTSTART:20221030T010000
END:STANDARD
BEGIN:DAYLIGHT
TZOFFSETFROM:+0100
TZOFFSETTO:+0200
TZNAME:CEST
DTSTART:20230326T010000
END:DAYLIGHT
BEGIN:STANDARD
TZOFFSETFROM:+0200
TZOFFSETTO:+0100
TZNAME:CET
DTSTART:20231029T010000
END:STANDARD
BEGIN:DAYLIGHT
TZOFFSETFROM:+0100
TZOFFSETTO:+0200
TZNAME:CEST
DTSTART:20240331T010000
END:DAYLIGHT
BEGIN:STANDARD
TZOFFSETFROM:+0200
TZOFFSETTO:+0100
TZNAME:CET
DTSTART:20241027T010000
END:STANDARD
BEGIN:DAYLIGHT
TZOFFSETFROM:+0100
TZOFFSETTO:+0200
TZNAME:CEST
DTSTART:20250330T010000
END:DAYLIGHT
BEGIN:STANDARD
TZOFFSETFROM:+0200
TZOFFSETTO:+0100
TZNAME:CET
DTSTART:20251026T010000
END:STANDARD
BEGIN:DAYLIGHT
TZOFFSETFROM:+0100
TZOFFSETTO:+0200
TZNAME:CEST
DTSTART:20260329T010000
END:DAYLIGHT
BEGIN:STANDARD
TZOFFSETFROM:+0200
TZOFFSETTO:+0100
TZNAME:CET
DTSTART:20261025T010000
END:STANDARD
END:VTIMEZONE
BEGIN:VEVENT
DTSTART;TZID=Europe/Berlin:20250423T190000
DTEND;TZID=Europe/Berlin:20250423T210000
DTSTAMP:20260426T041834
CREATED:20250410T163105Z
LAST-MODIFIED:20250410T163105Z
UID:25394-1745434800-1745442000@kisdorf.de
SUMMARY:Gesprächsrunde Karklohweg
DESCRIPTION:
URL:https://kisdorf.de/event/gespraechsrunde-karklohweg/
LOCATION:Margarethenhoff Peerstall\, Sengel 1\, Kisdorf\, 24629\, Deutschland
CATEGORIES:Margarethenhoff Peerstall
END:VEVENT
BEGIN:VEVENT
DTSTART;TZID=Europe/Berlin:20250408T190000
DTEND;TZID=Europe/Berlin:20250408T210000
DTSTAMP:20260426T041834
CREATED:20250407T101400Z
LAST-MODIFIED:20250407T101400Z
UID:25340-1744138800-1744146000@kisdorf.de
SUMMARY:Treffen AK1 Künstler-26-Team (geschlossene Veranstaltung)
DESCRIPTION:Vorplanungstreffen
URL:https://kisdorf.de/event/treffen-ak1-kuenstler-26-team-geschlossene-veranstaltung/
LOCATION:Margarethenhoff Peerstall\, Sengel 1\, Kisdorf\, 24629\, Deutschland
ORGANIZER;CN="Tr%C3%A4ger-Verein Dorfhaus Kisdorf e.V.":MAILTO:hroch@sh-mobile.de
END:VEVENT
BEGIN:VEVENT
DTSTART;TZID=Europe/Berlin:20250401T180000
DTEND;TZID=Europe/Berlin:20250401T200000
DTSTAMP:20260426T041834
CREATED:20250321T075422Z
LAST-MODIFIED:20250321T075422Z
UID:25197-1743530400-1743537600@kisdorf.de
SUMMARY:BSV Kisdorf Vorstandssitzung
DESCRIPTION:BSV Kisdorf Vorstandssitzung Gesamtverein
URL:https://kisdorf.de/event/bsv-kisdorf-vorstandssitzung/
LOCATION:Margarethenhoff Peerstall\, Sengel 1\, Kisdorf\, 24629\, Deutschland
ATTACH;FMTTYPE=image/png:https://kisdorf.de/wp-content/uploads/2025/03/BSV_Logo_256.png
END:VEVENT
BEGIN:VEVENT
DTSTART;TZID=Europe/Berlin:20250327T193000
DTEND;TZID=Europe/Berlin:20250327T220000
DTSTAMP:20260426T041835
CREATED:20250128T105550Z
LAST-MODIFIED:20250128T105550Z
UID:24657-1743103800-1743112800@kisdorf.de
SUMMARY:WKB Fraktionssitzung
DESCRIPTION:monatliche Fraktionssitzung
URL:https://kisdorf.de/event/wkb-fraktionssitzung-2/2025-03-27/
LOCATION:Margarethenhoff Peerstall\, Sengel 1\, Kisdorf\, 24629\, Deutschland
END:VEVENT
BEGIN:VEVENT
DTSTART;TZID=Europe/Berlin:20241226T193000
DTEND;TZID=Europe/Berlin:20241226T220000
DTSTAMP:20260426T041835
CREATED:20210122T161318Z
LAST-MODIFIED:20210122T161318Z
UID:24619-1735241400-1735250400@kisdorf.de
SUMMARY:WKB-Fraktionssitzung (Peerstall)
DESCRIPTION:
URL:https://kisdorf.de/event/wkb-fraktionssitzung-peerstall-2023-04-27/2024-12-26/
LOCATION:Margarethenhoff Peerstall\, Sengel 1\, Kisdorf\, 24629\, Deutschland
CATEGORIES:Margarethenhoff Peerstall
END:VEVENT
BEGIN:VEVENT
DTSTART;TZID=Europe/Berlin:20241128T193000
DTEND;TZID=Europe/Berlin:20241128T220000
DTSTAMP:20260426T041835
CREATED:20210122T161318Z
LAST-MODIFIED:20250124T080935Z
UID:13696-1732822200-1732831200@kisdorf.de
SUMMARY:WKB-Fraktionssitzung (Peerstall)
DESCRIPTION:
URL:https://kisdorf.de/event/wkb-fraktionssitzung-peerstall-2023-04-27/2024-11-28/
LOCATION:Margarethenhoff Peerstall\, Sengel 1\, Kisdorf\, 24629\, Deutschland
CATEGORIES:Margarethenhoff Peerstall
END:VEVENT
BEGIN:VEVENT
DTSTART;TZID=Europe/Berlin:20241024T193000
DTEND;TZID=Europe/Berlin:20241024T220000
DTSTAMP:20260426T041835
CREATED:20210122T161318Z
LAST-MODIFIED:20250124T080934Z
UID:13695-1729798200-1729807200@kisdorf.de
SUMMARY:WKB-Fraktionssitzung (Peerstall)
DESCRIPTION:
URL:https://kisdorf.de/event/wkb-fraktionssitzung-peerstall-2023-04-27/2024-10-24/
LOCATION:Margarethenhoff Peerstall\, Sengel 1\, Kisdorf\, 24629\, Deutschland
CATEGORIES:Margarethenhoff Peerstall
END:VEVENT
BEGIN:VEVENT
DTSTART;TZID=Europe/Berlin:20240926T193000
DTEND;TZID=Europe/Berlin:20240926T220000
DTSTAMP:20260426T041835
CREATED:20210122T161318Z
LAST-MODIFIED:20250124T080934Z
UID:13694-1727379000-1727388000@kisdorf.de
SUMMARY:WKB-Fraktionssitzung (Peerstall)
DESCRIPTION:
URL:https://kisdorf.de/event/wkb-fraktionssitzung-peerstall-2023-04-27/2024-09-26/
LOCATION:Margarethenhoff Peerstall\, Sengel 1\, Kisdorf\, 24629\, Deutschland
CATEGORIES:Margarethenhoff Peerstall
END:VEVENT
BEGIN:VEVENT
DTSTART;TZID=Europe/Berlin:20240822T193000
DTEND;TZID=Europe/Berlin:20240822T220000
DTSTAMP:20260426T041835
CREATED:20210122T161318Z
LAST-MODIFIED:20250124T080933Z
UID:13693-1724355000-1724364000@kisdorf.de
SUMMARY:WKB-Fraktionssitzung (Peerstall)
DESCRIPTION:
URL:https://kisdorf.de/event/wkb-fraktionssitzung-peerstall-2023-04-27/2024-08-22/
LOCATION:Margarethenhoff Peerstall\, Sengel 1\, Kisdorf\, 24629\, Deutschland
CATEGORIES:Margarethenhoff Peerstall
END:VEVENT
BEGIN:VEVENT
DTSTART;TZID=Europe/Berlin:20240725T193000
DTEND;TZID=Europe/Berlin:20240725T220000
DTSTAMP:20260426T041835
CREATED:20210122T161318Z
LAST-MODIFIED:20250124T080933Z
UID:13692-1721935800-1721944800@kisdorf.de
SUMMARY:WKB-Fraktionssitzung (Peerstall)
DESCRIPTION:
URL:https://kisdorf.de/event/wkb-fraktionssitzung-peerstall-2023-04-27/2024-07-25/
LOCATION:Margarethenhoff Peerstall\, Sengel 1\, Kisdorf\, 24629\, Deutschland
CATEGORIES:Margarethenhoff Peerstall
END:VEVENT
BEGIN:VEVENT
DTSTART;TZID=Europe/Berlin:20240627T193000
DTEND;TZID=Europe/Berlin:20240627T220000
DTSTAMP:20260426T041835
CREATED:20210122T161318Z
LAST-MODIFIED:20250124T080932Z
UID:13691-1719516600-1719525600@kisdorf.de
SUMMARY:WKB-Fraktionssitzung (Peerstall)
DESCRIPTION:
URL:https://kisdorf.de/event/wkb-fraktionssitzung-peerstall-2023-04-27/2024-06-27/
LOCATION:Margarethenhoff Peerstall\, Sengel 1\, Kisdorf\, 24629\, Deutschland
CATEGORIES:Margarethenhoff Peerstall
END:VEVENT
BEGIN:VEVENT
DTSTART;TZID=Europe/Berlin:20240602T080000
DTEND;TZID=Europe/Berlin:20240602T170000
DTSTAMP:20260426T041835
CREATED:20231121T101617Z
LAST-MODIFIED:20231121T101617Z
UID:17115-1717315200-1717347600@kisdorf.de
SUMMARY:Gastronomische Veranstaltung
DESCRIPTION:Gastronomische Veranstaltung Diele + Peerstall
URL:https://kisdorf.de/event/gastronomische-veranstaltung-27/2024-06-02/
LOCATION:Margarethenhoff Diele\, Sengel 1\, Kisdorf\, 24269\, Deutschland
ORGANIZER;CN="Restaurant Pellegrini":MAILTO:info@margarethenhoff.de
END:VEVENT
BEGIN:VEVENT
DTSTART;TZID=Europe/Berlin:20240526T080000
DTEND;TZID=Europe/Berlin:20240526T170000
DTSTAMP:20260426T041835
CREATED:20231121T101617Z
LAST-MODIFIED:20231121T101617Z
UID:17114-1716710400-1716742800@kisdorf.de
SUMMARY:Gastronomische Veranstaltung
DESCRIPTION:Gastronomische Veranstaltung Diele + Peerstall
URL:https://kisdorf.de/event/gastronomische-veranstaltung-27/2024-05-26/
LOCATION:Margarethenhoff Diele\, Sengel 1\, Kisdorf\, 24269\, Deutschland
ORGANIZER;CN="Restaurant Pellegrini":MAILTO:info@margarethenhoff.de
END:VEVENT
BEGIN:VEVENT
DTSTART;TZID=Europe/Berlin:20240523T193000
DTEND;TZID=Europe/Berlin:20240523T220000
DTSTAMP:20260426T041835
CREATED:20210122T161318Z
LAST-MODIFIED:20250124T080932Z
UID:13690-1716492600-1716501600@kisdorf.de
SUMMARY:WKB-Fraktionssitzung (Peerstall)
DESCRIPTION:
URL:https://kisdorf.de/event/wkb-fraktionssitzung-peerstall-2023-04-27/2024-05-23/
LOCATION:Margarethenhoff Peerstall\, Sengel 1\, Kisdorf\, 24629\, Deutschland
CATEGORIES:Margarethenhoff Peerstall
END:VEVENT
BEGIN:VEVENT
DTSTART;TZID=Europe/Berlin:20240519T080000
DTEND;TZID=Europe/Berlin:20240519T170000
DTSTAMP:20260426T041835
CREATED:20231121T101617Z
LAST-MODIFIED:20231121T101617Z
UID:17113-1716105600-1716138000@kisdorf.de
SUMMARY:Gastronomische Veranstaltung
DESCRIPTION:Gastronomische Veranstaltung Diele + Peerstall
URL:https://kisdorf.de/event/gastronomische-veranstaltung-27/2024-05-19/
LOCATION:Margarethenhoff Diele\, Sengel 1\, Kisdorf\, 24269\, Deutschland
ORGANIZER;CN="Restaurant Pellegrini":MAILTO:info@margarethenhoff.de
END:VEVENT
BEGIN:VEVENT
DTSTART;TZID=Europe/Berlin:20240512T080000
DTEND;TZID=Europe/Berlin:20240512T170000
DTSTAMP:20260426T041835
CREATED:20231121T101617Z
LAST-MODIFIED:20231121T101617Z
UID:17112-1715500800-1715533200@kisdorf.de
SUMMARY:Gastronomische Veranstaltung
DESCRIPTION:Gastronomische Veranstaltung Diele + Peerstall
URL:https://kisdorf.de/event/gastronomische-veranstaltung-27/2024-05-12/
LOCATION:Margarethenhoff Diele\, Sengel 1\, Kisdorf\, 24269\, Deutschland
ORGANIZER;CN="Restaurant Pellegrini":MAILTO:info@margarethenhoff.de
END:VEVENT
BEGIN:VEVENT
DTSTART;TZID=Europe/Berlin:20240505T080000
DTEND;TZID=Europe/Berlin:20240505T170000
DTSTAMP:20260426T041835
CREATED:20231121T101617Z
LAST-MODIFIED:20231121T101617Z
UID:17111-1714896000-1714928400@kisdorf.de
SUMMARY:Gastronomische Veranstaltung
DESCRIPTION:Gastronomische Veranstaltung Diele + Peerstall
URL:https://kisdorf.de/event/gastronomische-veranstaltung-27/2024-05-05/
LOCATION:Margarethenhoff Diele\, Sengel 1\, Kisdorf\, 24269\, Deutschland
ORGANIZER;CN="Restaurant Pellegrini":MAILTO:info@margarethenhoff.de
END:VEVENT
BEGIN:VEVENT
DTSTART;TZID=Europe/Berlin:20240428T080000
DTEND;TZID=Europe/Berlin:20240428T170000
DTSTAMP:20260426T041835
CREATED:20231121T101617Z
LAST-MODIFIED:20231121T101617Z
UID:17110-1714291200-1714323600@kisdorf.de
SUMMARY:Gastronomische Veranstaltung
DESCRIPTION:Gastronomische Veranstaltung Diele + Peerstall
URL:https://kisdorf.de/event/gastronomische-veranstaltung-27/2024-04-28/
LOCATION:Margarethenhoff Diele\, Sengel 1\, Kisdorf\, 24269\, Deutschland
ORGANIZER;CN="Restaurant Pellegrini":MAILTO:info@margarethenhoff.de
END:VEVENT
BEGIN:VEVENT
DTSTART;TZID=Europe/Berlin:20240425T193000
DTEND;TZID=Europe/Berlin:20240425T220000
DTSTAMP:20260426T041835
CREATED:20210122T161318Z
LAST-MODIFIED:20250124T080931Z
UID:13689-1714073400-1714082400@kisdorf.de
SUMMARY:WKB-Fraktionssitzung (Peerstall)
DESCRIPTION:
URL:https://kisdorf.de/event/wkb-fraktionssitzung-peerstall-2023-04-27/2024-04-25/
LOCATION:Margarethenhoff Peerstall\, Sengel 1\, Kisdorf\, 24629\, Deutschland
CATEGORIES:Margarethenhoff Peerstall
END:VEVENT
BEGIN:VEVENT
DTSTART;TZID=Europe/Berlin:20240114T080000
DTEND;TZID=Europe/Berlin:20240114T170000
DTSTAMP:20260426T041835
CREATED:20231121T101617Z
LAST-MODIFIED:20231121T101617Z
UID:17084-1705219200-1705251600@kisdorf.de
SUMMARY:Gastronomische Veranstaltung
DESCRIPTION:Gastronomische Veranstaltung Diele + Peerstall
URL:https://kisdorf.de/event/gastronomische-veranstaltung-27/2024-01-14/
LOCATION:Margarethenhoff Diele\, Sengel 1\, Kisdorf\, 24269\, Deutschland
ORGANIZER;CN="Restaurant Pellegrini":MAILTO:info@margarethenhoff.de
END:VEVENT
BEGIN:VEVENT
DTSTART;TZID=Europe/Berlin:20230427T193000
DTEND;TZID=Europe/Berlin:20230427T220000
DTSTAMP:20260426T041835
CREATED:20210122T161318Z
LAST-MODIFIED:20250124T080918Z
UID:13677-1682623800-1682632800@kisdorf.de
SUMMARY:WKB-Fraktionssitzung (Peerstall)
DESCRIPTION:
URL:https://kisdorf.de/event/wkb-fraktionssitzung-peerstall-2023-04-27/2023-04-27/
LOCATION:Margarethenhoff Peerstall\, Sengel 1\, Kisdorf\, 24629\, Deutschland
CATEGORIES:Margarethenhoff Peerstall
END:VEVENT
BEGIN:VEVENT
DTSTART;TZID=Europe/Berlin:20220422T100000
DTEND;TZID=Europe/Berlin:20220422T123000
DTSTAMP:20260426T041835
CREATED:20220507T160942Z
LAST-MODIFIED:20220507T160942Z
UID:10841-1650621600-1650630600@kisdorf.de
SUMMARY:Malgruppe im Träger-Verein Dorfhaus Kisdorf e.V.
DESCRIPTION:Immer Freitags trifft sich die Malgruppe im Träger-Verein Dorfhaus Kisdorf e.V. zum kreativen und künstlerischen Austausch und zur Erstellung neuer Werke. \nEinige der Werke sind in der Groot Deel im Dorfhaus ausgestellt und können ganzjährig begutachtet werden.
URL:https://kisdorf.de/event/malgruppe-im-traeger-verein-dorfhaus-kisdorf-e-v/2022-04-22/
LOCATION:Margarethenhoff Peerstall\, Sengel 1\, Kisdorf\, 24629\, Deutschland
ORGANIZER;CN="Tr%C3%A4ger-Verein Dorfhaus Kisdorf e.V.":MAILTO:hroch@sh-mobile.de
END:VEVENT
END:VCALENDAR