BEGIN:VCALENDAR
VERSION:2.0
PRODID:-//Kisdorf.de - ECPv6.15.12.2//NONSGML v1.0//EN
CALSCALE:GREGORIAN
METHOD:PUBLISH
X-ORIGINAL-URL:https://kisdorf.de
X-WR-CALDESC:Veranstaltungen für Kisdorf.de
REFRESH-INTERVAL;VALUE=DURATION:PT1H
X-Robots-Tag:noindex
X-PUBLISHED-TTL:PT1H
BEGIN:VTIMEZONE
TZID:Europe/Berlin
BEGIN:DAYLIGHT
TZOFFSETFROM:+0100
TZOFFSETTO:+0200
TZNAME:CEST
DTSTART:20240331T010000
END:DAYLIGHT
BEGIN:STANDARD
TZOFFSETFROM:+0200
TZOFFSETTO:+0100
TZNAME:CET
DTSTART:20241027T010000
END:STANDARD
BEGIN:DAYLIGHT
TZOFFSETFROM:+0100
TZOFFSETTO:+0200
TZNAME:CEST
DTSTART:20250330T010000
END:DAYLIGHT
BEGIN:STANDARD
TZOFFSETFROM:+0200
TZOFFSETTO:+0100
TZNAME:CET
DTSTART:20251026T010000
END:STANDARD
BEGIN:DAYLIGHT
TZOFFSETFROM:+0100
TZOFFSETTO:+0200
TZNAME:CEST
DTSTART:20260329T010000
END:DAYLIGHT
BEGIN:STANDARD
TZOFFSETFROM:+0200
TZOFFSETTO:+0100
TZNAME:CET
DTSTART:20261025T010000
END:STANDARD
BEGIN:DAYLIGHT
TZOFFSETFROM:+0100
TZOFFSETTO:+0200
TZNAME:CEST
DTSTART:20270328T010000
END:DAYLIGHT
BEGIN:STANDARD
TZOFFSETFROM:+0200
TZOFFSETTO:+0100
TZNAME:CET
DTSTART:20271031T010000
END:STANDARD
END:VTIMEZONE
BEGIN:VEVENT
DTSTART;TZID=Europe/Berlin:20260304T193000
DTEND;TZID=Europe/Berlin:20260304T220000
DTSTAMP:20260419T203519
CREATED:20260114T073312Z
LAST-MODIFIED:20260114T073312Z
UID:28217-1772652600-1772661600@kisdorf.de
SUMMARY:CDU Fraktionssitzung (geschlossene Veranstaltung)
DESCRIPTION:Fraktionssitzung
URL:https://kisdorf.de/event/cdu-fraktionssitzung-geschlossene-veranstaltung-2/
LOCATION:Margarethenhoff Peerstall\, Sengel 1\, Kisdorf\, 24629\, Deutschland
END:VEVENT
BEGIN:VEVENT
DTSTART;TZID=Europe/Berlin:20260303T200000
DTEND;TZID=Europe/Berlin:20260303T220000
DTSTAMP:20260419T203519
CREATED:20260114T073529Z
LAST-MODIFIED:20260114T073529Z
UID:28289-1772568000-1772575200@kisdorf.de
SUMMARY:BSV Kisdorf Vorstand (geschlossene Veranstaltung)
DESCRIPTION:Vorstandssitzung
URL:https://kisdorf.de/event/bsv-kisdorf-vorstand-geschlossene-veranstaltung/
LOCATION:Margarethenhoff Peerstall\, Sengel 1\, Kisdorf\, 24629\, Deutschland
CATEGORIES:Margarethenhoff Peerstall
END:VEVENT
BEGIN:VEVENT
DTSTART;TZID=Europe/Berlin:20260303T140000
DTEND;TZID=Europe/Berlin:20260303T170000
DTSTAMP:20260419T203519
CREATED:20251021T092809Z
LAST-MODIFIED:20251021T092809Z
UID:27137-1772546400-1772557200@kisdorf.de
SUMMARY:Kreativ-Werkstatt - AK im TV Dorfhaus Kisdorf
DESCRIPTION:Gleichgesinnte treffen sich unter fachkundiger Anleitung am 1. + 3. Dienstag im Monat\, um in geselliger Runde gemeinsam \nkreativ zu sein /  Ideen auszutauschen und evtl. umzusetzen /  Mut zu machen für „Unbekanntes“ /  gegenseitig Hilfe anzubieten \nZiel soll sein\, bei Bedarf sein Können kostenfrei und ohne Eigennutz an andere Teilnehmer weiterzugeben.
URL:https://kisdorf.de/event/kreativ-werkstatt-ak-im-tv-dorfhaus-kisdorf-11/
LOCATION:Margarethenhoff Peerstall\, Sengel 1\, Kisdorf\, 24629\, Deutschland
CATEGORIES:Margarethenhoff Peerstall
ORGANIZER;CN="Annegret Steiner":MAILTO:as-kreativart@gmx.de
END:VEVENT
BEGIN:VEVENT
DTSTART;TZID=Europe/Berlin:20260302T190000
DTEND;TZID=Europe/Berlin:20260302T210000
DTSTAMP:20260419T203519
CREATED:20260226T073405Z
LAST-MODIFIED:20260226T073526Z
UID:28821-1772478000-1772485200@kisdorf.de
SUMMARY:Arbeitsgruppe \,Bau Turbo' (eine geschlossene Veranstaltung)
DESCRIPTION:Tagung Arbeitsgruppe
URL:https://kisdorf.de/event/arbeitsgruppe-bau-turbo-eine-geschlossene-veranstaltung/
LOCATION:Margarethenhoff Peerstall\, Sengel 1\, Kisdorf\, 24629\, Deutschland
CATEGORIES:Margarethenhoff Peerstall
END:VEVENT
BEGIN:VEVENT
DTSTART;TZID=Europe/Berlin:20260227T100000
DTEND;TZID=Europe/Berlin:20260227T123000
DTSTAMP:20260419T203519
CREATED:20220507T160942Z
LAST-MODIFIED:20220507T160942Z
UID:19730-1772186400-1772195400@kisdorf.de
SUMMARY:Malgruppe im Träger-Verein Dorfhaus Kisdorf e.V.
DESCRIPTION:Immer Freitags trifft sich die Malgruppe im Träger-Verein Dorfhaus Kisdorf e.V. zum kreativen und künstlerischen Austausch und zur Erstellung neuer Werke. \nEinige der Werke sind in der Groot Deel im Dorfhaus ausgestellt und können ganzjährig begutachtet werden.
URL:https://kisdorf.de/event/malgruppe-im-traeger-verein-dorfhaus-kisdorf-e-v/2026-02-27/
LOCATION:Margarethenhoff Peerstall\, Sengel 1\, Kisdorf\, 24629\, Deutschland
ORGANIZER;CN="Tr%C3%A4ger-Verein Dorfhaus Kisdorf e.V.":MAILTO:hroch@sh-mobile.de
END:VEVENT
BEGIN:VEVENT
DTSTART;TZID=Europe/Berlin:20260226T193000
DTEND;TZID=Europe/Berlin:20260226T220000
DTSTAMP:20260419T203519
CREATED:20250128T105550Z
LAST-MODIFIED:20250128T105550Z
UID:25005-1772134200-1772143200@kisdorf.de
SUMMARY:WKB Fraktionssitzung
DESCRIPTION:monatliche Fraktionssitzung
URL:https://kisdorf.de/event/wkb-fraktionssitzung-2/2026-02-26/
LOCATION:Margarethenhoff Peerstall\, Sengel 1\, Kisdorf\, 24629\, Deutschland
END:VEVENT
BEGIN:VEVENT
DTSTART;TZID=Europe/Berlin:20260224T193000
DTEND;TZID=Europe/Berlin:20260224T210000
DTSTAMP:20260419T203519
CREATED:20260203T122021Z
LAST-MODIFIED:20260203T122021Z
UID:28495-1771961400-1771966800@kisdorf.de
SUMMARY:AG Umwelt (geschlossene Veranstaltung)
DESCRIPTION:Arbeitsgruppe Umwelt \nThema: Bläühwiese
URL:https://kisdorf.de/event/ag-umwelt-geschlossene-veranstaltung-2/
LOCATION:Margarethenhoff Peerstall\, Sengel 1\, Kisdorf\, 24629\, Deutschland
ORGANIZER;CN="AG Umwelt":MAILTO:reciekli@gmail.com
END:VEVENT
BEGIN:VEVENT
DTSTART;TZID=Europe/Berlin:20260223T193000
DTEND;TZID=Europe/Berlin:20260223T220000
DTSTAMP:20260419T203519
CREATED:20260216T123001Z
LAST-MODIFIED:20260216T123052Z
UID:28687-1771875000-1771884000@kisdorf.de
SUMMARY:Treffen Arbeitskreise Träger-Verein Dorfhaus Kisdorf e.V. (eine geschlossene Veranstaltung)
DESCRIPTION:Treffen AK1 mit Thema Werbemittel
URL:https://kisdorf.de/event/treffen-arbeitskreise-traeger-verein-dorfhaus-kisdorf-e-v-2/
LOCATION:Margarethenhoff Peerstall\, Sengel 1\, Kisdorf\, 24629\, Deutschland
CATEGORIES:Margarethenhoff Peerstall
ORGANIZER;CN="Tr%C3%A4ger-Verein Dorfhaus Kisdorf e.V.":MAILTO:hroch@sh-mobile.de
END:VEVENT
BEGIN:VEVENT
DTSTART;TZID=Europe/Berlin:20260220T100000
DTEND;TZID=Europe/Berlin:20260220T123000
DTSTAMP:20260419T203519
CREATED:20220507T160942Z
LAST-MODIFIED:20220507T160942Z
UID:19259-1771581600-1771590600@kisdorf.de
SUMMARY:Malgruppe im Träger-Verein Dorfhaus Kisdorf e.V.
DESCRIPTION:Immer Freitags trifft sich die Malgruppe im Träger-Verein Dorfhaus Kisdorf e.V. zum kreativen und künstlerischen Austausch und zur Erstellung neuer Werke. \nEinige der Werke sind in der Groot Deel im Dorfhaus ausgestellt und können ganzjährig begutachtet werden.
URL:https://kisdorf.de/event/malgruppe-im-traeger-verein-dorfhaus-kisdorf-e-v/2026-02-20/
LOCATION:Margarethenhoff Peerstall\, Sengel 1\, Kisdorf\, 24629\, Deutschland
ORGANIZER;CN="Tr%C3%A4ger-Verein Dorfhaus Kisdorf e.V.":MAILTO:hroch@sh-mobile.de
END:VEVENT
BEGIN:VEVENT
DTSTART;TZID=Europe/Berlin:20260217T140000
DTEND;TZID=Europe/Berlin:20260217T170000
DTSTAMP:20260419T203519
CREATED:20251021T092808Z
LAST-MODIFIED:20251021T092808Z
UID:27133-1771336800-1771347600@kisdorf.de
SUMMARY:Kreativ-Werkstatt - AK im TV Dorfhaus Kisdorf
DESCRIPTION:Gleichgesinnte treffen sich unter fachkundiger Anleitung am 1. + 3. Dienstag im Monat\, um in geselliger Runde gemeinsam \nkreativ zu sein /  Ideen auszutauschen und evtl. umzusetzen /  Mut zu machen für „Unbekanntes“ /  gegenseitig Hilfe anzubieten \nZiel soll sein\, bei Bedarf sein Können kostenfrei und ohne Eigennutz an andere Teilnehmer weiterzugeben.
URL:https://kisdorf.de/event/kreativ-werkstatt-ak-im-tv-dorfhaus-kisdorf-10/
LOCATION:Margarethenhoff Peerstall\, Sengel 1\, Kisdorf\, 24629\, Deutschland
CATEGORIES:Margarethenhoff Peerstall
ORGANIZER;CN="Annegret Steiner":MAILTO:as-kreativart@gmx.de
END:VEVENT
BEGIN:VEVENT
DTSTART;TZID=Europe/Berlin:20260213T100000
DTEND;TZID=Europe/Berlin:20260213T123000
DTSTAMP:20260419T203519
CREATED:20220507T160942Z
LAST-MODIFIED:20220507T160942Z
UID:19126-1770976800-1770985800@kisdorf.de
SUMMARY:Malgruppe im Träger-Verein Dorfhaus Kisdorf e.V.
DESCRIPTION:Immer Freitags trifft sich die Malgruppe im Träger-Verein Dorfhaus Kisdorf e.V. zum kreativen und künstlerischen Austausch und zur Erstellung neuer Werke. \nEinige der Werke sind in der Groot Deel im Dorfhaus ausgestellt und können ganzjährig begutachtet werden.
URL:https://kisdorf.de/event/malgruppe-im-traeger-verein-dorfhaus-kisdorf-e-v/2026-02-13/
LOCATION:Margarethenhoff Peerstall\, Sengel 1\, Kisdorf\, 24629\, Deutschland
ORGANIZER;CN="Tr%C3%A4ger-Verein Dorfhaus Kisdorf e.V.":MAILTO:hroch@sh-mobile.de
END:VEVENT
BEGIN:VEVENT
DTSTART;TZID=Europe/Berlin:20260211T190000
DTEND;TZID=Europe/Berlin:20260211T220000
DTSTAMP:20260419T203519
CREATED:20260206T094254Z
LAST-MODIFIED:20260206T094254Z
UID:28555-1770836400-1770847200@kisdorf.de
SUMMARY:Arbeitsgruppe des Bau- und Planungsausschusses
DESCRIPTION:AG-Sitzung
URL:https://kisdorf.de/event/arbeitsgruppe-des-bau-und-planungsausschusses/
LOCATION:Margarethenhoff Peerstall\, Sengel 1\, Kisdorf\, 24629\, Deutschland
CATEGORIES:Margarethenhoff Peerstall
END:VEVENT
BEGIN:VEVENT
DTSTART;TZID=Europe/Berlin:20260209T190000
DTEND;TZID=Europe/Berlin:20260209T220000
DTSTAMP:20260419T203519
CREATED:20260203T122011Z
LAST-MODIFIED:20260203T122011Z
UID:28503-1770663600-1770674400@kisdorf.de
SUMMARY:Sitzung Träger Verein Dorfhaus Kisdorf e.V. (geschlossene Veranstaltung)
DESCRIPTION:Sitzung Träger Verein Dorfhaus Kisdorf e.V.  Thema: Werbemittel \n 
URL:https://kisdorf.de/event/sitzung-traeger-verein-dorfhaus-kisdorf-e-v-geschlossene-veranstaltung/
LOCATION:Margarethenhoff Peerstall\, Sengel 1\, Kisdorf\, 24629\, Deutschland
CATEGORIES:Margarethenhoff Peerstall
ORGANIZER;CN="Tr%C3%A4ger-Verein Dorfhaus Kisdorf e.V.":MAILTO:hroch@sh-mobile.de
END:VEVENT
BEGIN:VEVENT
DTSTART;TZID=Europe/Berlin:20260206T100000
DTEND;TZID=Europe/Berlin:20260206T123000
DTSTAMP:20260419T203519
CREATED:20220507T160942Z
LAST-MODIFIED:20220507T160942Z
UID:18999-1770372000-1770381000@kisdorf.de
SUMMARY:Malgruppe im Träger-Verein Dorfhaus Kisdorf e.V.
DESCRIPTION:Immer Freitags trifft sich die Malgruppe im Träger-Verein Dorfhaus Kisdorf e.V. zum kreativen und künstlerischen Austausch und zur Erstellung neuer Werke. \nEinige der Werke sind in der Groot Deel im Dorfhaus ausgestellt und können ganzjährig begutachtet werden.
URL:https://kisdorf.de/event/malgruppe-im-traeger-verein-dorfhaus-kisdorf-e-v/2026-02-06/
LOCATION:Margarethenhoff Peerstall\, Sengel 1\, Kisdorf\, 24629\, Deutschland
ORGANIZER;CN="Tr%C3%A4ger-Verein Dorfhaus Kisdorf e.V.":MAILTO:hroch@sh-mobile.de
END:VEVENT
BEGIN:VEVENT
DTSTART;TZID=Europe/Berlin:20260204T193000
DTEND;TZID=Europe/Berlin:20260204T220000
DTSTAMP:20260419T203519
CREATED:20260114T073308Z
LAST-MODIFIED:20260114T073308Z
UID:28213-1770233400-1770242400@kisdorf.de
SUMMARY:CDU Fraktionssitzung (geschlossene Veranstaltung)
DESCRIPTION:Fraktionssitzung
URL:https://kisdorf.de/event/cdu-fraktionssitzung-geschlossene-veranstaltung/
LOCATION:Margarethenhoff Peerstall\, Sengel 1\, Kisdorf\, 24629\, Deutschland
END:VEVENT
BEGIN:VEVENT
DTSTART;TZID=Europe/Berlin:20260203T140000
DTEND;TZID=Europe/Berlin:20260203T170000
DTSTAMP:20260419T203519
CREATED:20251021T092808Z
LAST-MODIFIED:20251021T092808Z
UID:27129-1770127200-1770138000@kisdorf.de
SUMMARY:Kreativ-Werkstatt - AK im TV Dorfhaus Kisdorf
DESCRIPTION:Gleichgesinnte treffen sich unter fachkundiger Anleitung am 1. + 3. Dienstag im Monat\, um in geselliger Runde gemeinsam \nkreativ zu sein /  Ideen auszutauschen und evtl. umzusetzen /  Mut zu machen für „Unbekanntes“ /  gegenseitig Hilfe anzubieten \nZiel soll sein\, bei Bedarf sein Können kostenfrei und ohne Eigennutz an andere Teilnehmer weiterzugeben.
URL:https://kisdorf.de/event/kreativ-werkstatt-ak-im-tv-dorfhaus-kisdorf-9/
LOCATION:Margarethenhoff Peerstall\, Sengel 1\, Kisdorf\, 24629\, Deutschland
CATEGORIES:Margarethenhoff Peerstall
ORGANIZER;CN="Annegret Steiner":MAILTO:as-kreativart@gmx.de
END:VEVENT
BEGIN:VEVENT
DTSTART;TZID=Europe/Berlin:20260130T100000
DTEND;TZID=Europe/Berlin:20260130T123000
DTSTAMP:20260419T203519
CREATED:20220507T160942Z
LAST-MODIFIED:20220507T160942Z
UID:18801-1769767200-1769776200@kisdorf.de
SUMMARY:Malgruppe im Träger-Verein Dorfhaus Kisdorf e.V.
DESCRIPTION:Immer Freitags trifft sich die Malgruppe im Träger-Verein Dorfhaus Kisdorf e.V. zum kreativen und künstlerischen Austausch und zur Erstellung neuer Werke. \nEinige der Werke sind in der Groot Deel im Dorfhaus ausgestellt und können ganzjährig begutachtet werden.
URL:https://kisdorf.de/event/malgruppe-im-traeger-verein-dorfhaus-kisdorf-e-v/2026-01-30/
LOCATION:Margarethenhoff Peerstall\, Sengel 1\, Kisdorf\, 24629\, Deutschland
ORGANIZER;CN="Tr%C3%A4ger-Verein Dorfhaus Kisdorf e.V.":MAILTO:hroch@sh-mobile.de
END:VEVENT
BEGIN:VEVENT
DTSTART;TZID=Europe/Berlin:20260127T193000
DTEND;TZID=Europe/Berlin:20260127T210000
DTSTAMP:20260419T203519
CREATED:20251104T131316Z
LAST-MODIFIED:20251104T131316Z
UID:27466-1769542200-1769547600@kisdorf.de
SUMMARY:AG Umwelt (geschlossene Veranstaltung)
DESCRIPTION:
URL:https://kisdorf.de/event/ag-umwelt-geschlossene-veranstaltung/
LOCATION:Margarethenhoff Peerstall\, Sengel 1\, Kisdorf\, 24629\, Deutschland
CATEGORIES:Margarethenhoff Peerstall
ORGANIZER;CN="AG Umwelt":MAILTO:reciekli@gmail.com
END:VEVENT
BEGIN:VEVENT
DTSTART;TZID=Europe/Berlin:20260123T100000
DTEND;TZID=Europe/Berlin:20260123T123000
DTSTAMP:20260419T203519
CREATED:20220507T160942Z
LAST-MODIFIED:20220507T160942Z
UID:18575-1769162400-1769171400@kisdorf.de
SUMMARY:Malgruppe im Träger-Verein Dorfhaus Kisdorf e.V.
DESCRIPTION:Immer Freitags trifft sich die Malgruppe im Träger-Verein Dorfhaus Kisdorf e.V. zum kreativen und künstlerischen Austausch und zur Erstellung neuer Werke. \nEinige der Werke sind in der Groot Deel im Dorfhaus ausgestellt und können ganzjährig begutachtet werden.
URL:https://kisdorf.de/event/malgruppe-im-traeger-verein-dorfhaus-kisdorf-e-v/2026-01-23/
LOCATION:Margarethenhoff Peerstall\, Sengel 1\, Kisdorf\, 24629\, Deutschland
ORGANIZER;CN="Tr%C3%A4ger-Verein Dorfhaus Kisdorf e.V.":MAILTO:hroch@sh-mobile.de
END:VEVENT
BEGIN:VEVENT
DTSTART;TZID=Europe/Berlin:20260122T193000
DTEND;TZID=Europe/Berlin:20260122T220000
DTSTAMP:20260419T203519
CREATED:20250128T105551Z
LAST-MODIFIED:20250128T105551Z
UID:24669-1769110200-1769119200@kisdorf.de
SUMMARY:WKB Fraktionssitzung
DESCRIPTION:monatliche Fraktionssitzung
URL:https://kisdorf.de/event/wkb-fraktionssitzung-2/2026-01-22/
LOCATION:Margarethenhoff Peerstall\, Sengel 1\, Kisdorf\, 24629\, Deutschland
END:VEVENT
BEGIN:VEVENT
DTSTART;TZID=Europe/Berlin:20260120T140000
DTEND;TZID=Europe/Berlin:20260120T170000
DTSTAMP:20260419T203519
CREATED:20251021T092808Z
LAST-MODIFIED:20251021T092808Z
UID:27125-1768917600-1768928400@kisdorf.de
SUMMARY:Kreativ-Werkstatt - AK im TV Dorfhaus Kisdorf
DESCRIPTION:Gleichgesinnte treffen sich unter fachkundiger Anleitung am 1. + 3. Dienstag im Monat\, um in geselliger Runde gemeinsam \nkreativ zu sein /  Ideen auszutauschen und evtl. umzusetzen /  Mut zu machen für „Unbekanntes“ /  gegenseitig Hilfe anzubieten \nZiel soll sein\, bei Bedarf sein Können kostenfrei und ohne Eigennutz an andere Teilnehmer weiterzugeben.
URL:https://kisdorf.de/event/kreativ-werkstatt-ak-im-tv-dorfhaus-kisdorf-8/
LOCATION:Margarethenhoff Peerstall\, Sengel 1\, Kisdorf\, 24629\, Deutschland
CATEGORIES:Margarethenhoff Peerstall
ORGANIZER;CN="Annegret Steiner":MAILTO:as-kreativart@gmx.de
END:VEVENT
BEGIN:VEVENT
DTSTART;TZID=Europe/Berlin:20260116T100000
DTEND;TZID=Europe/Berlin:20260116T123000
DTSTAMP:20260419T203519
CREATED:20220507T160942Z
LAST-MODIFIED:20220507T160942Z
UID:18503-1768557600-1768566600@kisdorf.de
SUMMARY:Malgruppe im Träger-Verein Dorfhaus Kisdorf e.V.
DESCRIPTION:Immer Freitags trifft sich die Malgruppe im Träger-Verein Dorfhaus Kisdorf e.V. zum kreativen und künstlerischen Austausch und zur Erstellung neuer Werke. \nEinige der Werke sind in der Groot Deel im Dorfhaus ausgestellt und können ganzjährig begutachtet werden.
URL:https://kisdorf.de/event/malgruppe-im-traeger-verein-dorfhaus-kisdorf-e-v/2026-01-16/
LOCATION:Margarethenhoff Peerstall\, Sengel 1\, Kisdorf\, 24629\, Deutschland
ORGANIZER;CN="Tr%C3%A4ger-Verein Dorfhaus Kisdorf e.V.":MAILTO:hroch@sh-mobile.de
END:VEVENT
BEGIN:VEVENT
DTSTART;TZID=Europe/Berlin:20260114T183000
DTEND;TZID=Europe/Berlin:20260114T213000
DTSTAMP:20260419T203519
CREATED:20251217T185347Z
LAST-MODIFIED:20251217T185347Z
UID:28036-1768415400-1768426200@kisdorf.de
SUMMARY:WKB Vorstandssitzung
DESCRIPTION:WKB Vorstandssitzung
URL:https://kisdorf.de/event/wkb-vorstandssitzung-2/
LOCATION:Margarethenhoff Peerstall\, Sengel 1\, Kisdorf\, 24629\, Deutschland
END:VEVENT
BEGIN:VEVENT
DTSTART;TZID=Europe/Berlin:20260113T200000
DTEND;TZID=Europe/Berlin:20260113T220000
DTSTAMP:20260419T203519
CREATED:20251118T062113Z
LAST-MODIFIED:20251118T062113Z
UID:27640-1768334400-1768341600@kisdorf.de
SUMMARY:BSV Kisdorf Vorstand
DESCRIPTION:Vorstandssitzung
URL:https://kisdorf.de/event/bsv-kisdorf-vorstand-3/
LOCATION:Margarethenhoff Peerstall\, Sengel 1\, Kisdorf\, 24629\, Deutschland
CATEGORIES:Margarethenhoff Peerstall
END:VEVENT
BEGIN:VEVENT
DTSTART;TZID=Europe/Berlin:20260112T193000
DTEND;TZID=Europe/Berlin:20260112T213000
DTSTAMP:20260419T203519
CREATED:20251218T075903Z
LAST-MODIFIED:20251218T075903Z
UID:28046-1768246200-1768253400@kisdorf.de
SUMMARY:Ausschuss für Verkehr und Umweltschutz
DESCRIPTION:Öffentliche Sitzung des Ausschusses für Verkehr und Umweltschutz
URL:https://kisdorf.de/event/ausschuss-fuer-verkehr-und-umweltschutz-9/
LOCATION:Margarethenhoff Peerstall\, Sengel 1\, Kisdorf\, 24629\, Deutschland
END:VEVENT
BEGIN:VEVENT
DTSTART;TZID=Europe/Berlin:20260107T193000
DTEND;TZID=Europe/Berlin:20260107T220000
DTSTAMP:20260419T203519
CREATED:20251212T152435Z
LAST-MODIFIED:20251212T152435Z
UID:27959-1767814200-1767823200@kisdorf.de
SUMMARY:CDU Fraktionssitzung
DESCRIPTION:Fraktionssitzung
URL:https://kisdorf.de/event/cdu-fraktionssitzung/
LOCATION:Margarethenhoff Peerstall\, Sengel 1\, Kisdorf\, 24629\, Deutschland
END:VEVENT
BEGIN:VEVENT
DTSTART;TZID=Europe/Berlin:20260106T140000
DTEND;TZID=Europe/Berlin:20260106T170000
DTSTAMP:20260419T203519
CREATED:20251021T092808Z
LAST-MODIFIED:20251021T092808Z
UID:27121-1767708000-1767718800@kisdorf.de
SUMMARY:Kreativ-Werkstatt - AK im TV Dorfhaus Kisdorf
DESCRIPTION:Gleichgesinnte treffen sich unter fachkundiger Anleitung am 1. + 3. Dienstag im Monat\, um in geselliger Runde gemeinsam \nkreativ zu sein /  Ideen auszutauschen und evtl. umzusetzen /  Mut zu machen für „Unbekanntes“ /  gegenseitig Hilfe anzubieten \nZiel soll sein\, bei Bedarf sein Können kostenfrei und ohne Eigennutz an andere Teilnehmer weiterzugeben.
URL:https://kisdorf.de/event/kreativ-werkstatt-ak-im-tv-dorfhaus-kisdorf/
LOCATION:Margarethenhoff Peerstall\, Sengel 1\, Kisdorf\, 24629\, Deutschland
CATEGORIES:Margarethenhoff Peerstall
ORGANIZER;CN="Annegret Steiner":MAILTO:as-kreativart@gmx.de
END:VEVENT
BEGIN:VEVENT
DTSTART;TZID=Europe/Berlin:20251225T193000
DTEND;TZID=Europe/Berlin:20251225T220000
DTSTAMP:20260419T203519
CREATED:20250128T105551Z
LAST-MODIFIED:20250128T105551Z
UID:24668-1766691000-1766700000@kisdorf.de
SUMMARY:WKB Fraktionssitzung
DESCRIPTION:monatliche Fraktionssitzung
URL:https://kisdorf.de/event/wkb-fraktionssitzung-2/2025-12-25/
LOCATION:Margarethenhoff Peerstall\, Sengel 1\, Kisdorf\, 24629\, Deutschland
END:VEVENT
BEGIN:VEVENT
DTSTART;TZID=Europe/Berlin:20251217T190000
DTEND;TZID=Europe/Berlin:20251217T220000
DTSTAMP:20260419T203519
CREATED:20251212T152433Z
LAST-MODIFIED:20251212T152433Z
UID:27850-1765998000-1766008800@kisdorf.de
SUMMARY:WKB Vorstandssitzung
DESCRIPTION:WKB VSS
URL:https://kisdorf.de/event/wkb-vorstandssitzung/
LOCATION:Margarethenhoff Peerstall\, Sengel 1\, Kisdorf\, 24629\, Deutschland
END:VEVENT
BEGIN:VEVENT
DTSTART;TZID=Europe/Berlin:20251217T170000
DTEND;TZID=Europe/Berlin:20251217T190000
DTSTAMP:20260419T203519
CREATED:20251217T185347Z
LAST-MODIFIED:20251217T185347Z
UID:28021-1765990800-1765998000@kisdorf.de
SUMMARY:BSV Kisdorf Vorstandssitzung
DESCRIPTION:BSV Kisdorf Vorstandssitzung
URL:https://kisdorf.de/event/bsv-kisdorf-vorstandssitzung-5/
LOCATION:Margarethenhoff Peerstall\, Sengel 1\, Kisdorf\, 24629\, Deutschland
CATEGORIES:Margarethenhoff Peerstall
END:VEVENT
END:VCALENDAR