BEGIN:VCALENDAR
VERSION:2.0
PRODID:-//Kisdorf.de - ECPv6.15.12.2//NONSGML v1.0//EN
CALSCALE:GREGORIAN
METHOD:PUBLISH
X-ORIGINAL-URL:https://kisdorf.de
X-WR-CALDESC:Veranstaltungen für Kisdorf.de
REFRESH-INTERVAL;VALUE=DURATION:PT1H
X-Robots-Tag:noindex
X-PUBLISHED-TTL:PT1H
BEGIN:VTIMEZONE
TZID:Europe/Berlin
BEGIN:DAYLIGHT
TZOFFSETFROM:+0100
TZOFFSETTO:+0200
TZNAME:CEST
DTSTART:20250330T010000
END:DAYLIGHT
BEGIN:STANDARD
TZOFFSETFROM:+0200
TZOFFSETTO:+0100
TZNAME:CET
DTSTART:20251026T010000
END:STANDARD
BEGIN:DAYLIGHT
TZOFFSETFROM:+0100
TZOFFSETTO:+0200
TZNAME:CEST
DTSTART:20260329T010000
END:DAYLIGHT
BEGIN:STANDARD
TZOFFSETFROM:+0200
TZOFFSETTO:+0100
TZNAME:CET
DTSTART:20261025T010000
END:STANDARD
BEGIN:DAYLIGHT
TZOFFSETFROM:+0100
TZOFFSETTO:+0200
TZNAME:CEST
DTSTART:20270328T010000
END:DAYLIGHT
BEGIN:STANDARD
TZOFFSETFROM:+0200
TZOFFSETTO:+0100
TZNAME:CET
DTSTART:20271031T010000
END:STANDARD
END:VTIMEZONE
BEGIN:VEVENT
DTSTART;TZID=Europe/Berlin:20260828T100000
DTEND;TZID=Europe/Berlin:20260828T123000
DTSTAMP:20260425T181643
CREATED:20220507T160942Z
LAST-MODIFIED:20220507T160942Z
UID:22949-1787911200-1787920200@kisdorf.de
SUMMARY:Malgruppe im Träger-Verein Dorfhaus Kisdorf e.V.
DESCRIPTION:Immer Freitags trifft sich die Malgruppe im Träger-Verein Dorfhaus Kisdorf e.V. zum kreativen und künstlerischen Austausch und zur Erstellung neuer Werke. \nEinige der Werke sind in der Groot Deel im Dorfhaus ausgestellt und können ganzjährig begutachtet werden.
URL:https://kisdorf.de/event/malgruppe-im-traeger-verein-dorfhaus-kisdorf-e-v/2026-08-28/
LOCATION:Margarethenhoff Peerstall\, Sengel 1\, Kisdorf\, 24629\, Deutschland
ORGANIZER;CN="Tr%C3%A4ger-Verein Dorfhaus Kisdorf e.V.":MAILTO:hroch@sh-mobile.de
END:VEVENT
BEGIN:VEVENT
DTSTART;TZID=Europe/Berlin:20260902T193000
DTEND;TZID=Europe/Berlin:20260902T220000
DTSTAMP:20260425T181643
CREATED:20260114T073508Z
LAST-MODIFIED:20260114T073508Z
UID:28245-1788377400-1788386400@kisdorf.de
SUMMARY:CDU Fraktionssitzung (geschlossene Veranstaltung)
DESCRIPTION:Fraktionssitzung
URL:https://kisdorf.de/event/cdu-fraktionssitzung-geschlossene-veranstaltung-9/
LOCATION:Margarethenhoff Peerstall\, Sengel 1\, Kisdorf\, 24629\, Deutschland
END:VEVENT
BEGIN:VEVENT
DTSTART;TZID=Europe/Berlin:20260904T100000
DTEND;TZID=Europe/Berlin:20260904T123000
DTSTAMP:20260425T181643
CREATED:20220507T160942Z
LAST-MODIFIED:20220507T160942Z
UID:23007-1788516000-1788525000@kisdorf.de
SUMMARY:Malgruppe im Träger-Verein Dorfhaus Kisdorf e.V.
DESCRIPTION:Immer Freitags trifft sich die Malgruppe im Träger-Verein Dorfhaus Kisdorf e.V. zum kreativen und künstlerischen Austausch und zur Erstellung neuer Werke. \nEinige der Werke sind in der Groot Deel im Dorfhaus ausgestellt und können ganzjährig begutachtet werden.
URL:https://kisdorf.de/event/malgruppe-im-traeger-verein-dorfhaus-kisdorf-e-v/2026-09-04/
LOCATION:Margarethenhoff Peerstall\, Sengel 1\, Kisdorf\, 24629\, Deutschland
ORGANIZER;CN="Tr%C3%A4ger-Verein Dorfhaus Kisdorf e.V.":MAILTO:hroch@sh-mobile.de
END:VEVENT
BEGIN:VEVENT
DTSTART;TZID=Europe/Berlin:20260908T193000
DTEND;TZID=Europe/Berlin:20260908T213000
DTSTAMP:20260425T181643
CREATED:20251218T075903Z
LAST-MODIFIED:20251218T075903Z
UID:28074-1788895800-1788903000@kisdorf.de
SUMMARY:Ausschuss für Verkehr und Umweltschutz
DESCRIPTION:Öffentliche Sitzung des Ausschusses für Verkehr und Umweltschutz
URL:https://kisdorf.de/event/ausschuss-fuer-verkehr-und-umweltschutz-16/
LOCATION:Margarethenhoff Peerstall\, Sengel 1\, Kisdorf\, 24629\, Deutschland
END:VEVENT
BEGIN:VEVENT
DTSTART;TZID=Europe/Berlin:20260911T100000
DTEND;TZID=Europe/Berlin:20260911T123000
DTSTAMP:20260425T181643
CREATED:20220507T160942Z
LAST-MODIFIED:20220507T160942Z
UID:23067-1789120800-1789129800@kisdorf.de
SUMMARY:Malgruppe im Träger-Verein Dorfhaus Kisdorf e.V.
DESCRIPTION:Immer Freitags trifft sich die Malgruppe im Träger-Verein Dorfhaus Kisdorf e.V. zum kreativen und künstlerischen Austausch und zur Erstellung neuer Werke. \nEinige der Werke sind in der Groot Deel im Dorfhaus ausgestellt und können ganzjährig begutachtet werden.
URL:https://kisdorf.de/event/malgruppe-im-traeger-verein-dorfhaus-kisdorf-e-v/2026-09-11/
LOCATION:Margarethenhoff Peerstall\, Sengel 1\, Kisdorf\, 24629\, Deutschland
ORGANIZER;CN="Tr%C3%A4ger-Verein Dorfhaus Kisdorf e.V.":MAILTO:hroch@sh-mobile.de
END:VEVENT
BEGIN:VEVENT
DTSTART;TZID=Europe/Berlin:20260918T100000
DTEND;TZID=Europe/Berlin:20260918T123000
DTSTAMP:20260425T181643
CREATED:20220507T160942Z
LAST-MODIFIED:20220507T160942Z
UID:23169-1789725600-1789734600@kisdorf.de
SUMMARY:Malgruppe im Träger-Verein Dorfhaus Kisdorf e.V.
DESCRIPTION:Immer Freitags trifft sich die Malgruppe im Träger-Verein Dorfhaus Kisdorf e.V. zum kreativen und künstlerischen Austausch und zur Erstellung neuer Werke. \nEinige der Werke sind in der Groot Deel im Dorfhaus ausgestellt und können ganzjährig begutachtet werden.
URL:https://kisdorf.de/event/malgruppe-im-traeger-verein-dorfhaus-kisdorf-e-v/2026-09-18/
LOCATION:Margarethenhoff Peerstall\, Sengel 1\, Kisdorf\, 24629\, Deutschland
ORGANIZER;CN="Tr%C3%A4ger-Verein Dorfhaus Kisdorf e.V.":MAILTO:hroch@sh-mobile.de
END:VEVENT
BEGIN:VEVENT
DTSTART;TZID=Europe/Berlin:20260924T193000
DTEND;TZID=Europe/Berlin:20260924T220000
DTSTAMP:20260425T181643
CREATED:20250128T105550Z
LAST-MODIFIED:20250128T105550Z
UID:26934-1790278200-1790287200@kisdorf.de
SUMMARY:WKB Fraktionssitzung
DESCRIPTION:monatliche Fraktionssitzung
URL:https://kisdorf.de/event/wkb-fraktionssitzung-2/2026-09-24/
LOCATION:Margarethenhoff Peerstall\, Sengel 1\, Kisdorf\, 24629\, Deutschland
END:VEVENT
BEGIN:VEVENT
DTSTART;TZID=Europe/Berlin:20260925T100000
DTEND;TZID=Europe/Berlin:20260925T123000
DTSTAMP:20260425T181643
CREATED:20220507T160942Z
LAST-MODIFIED:20220507T160942Z
UID:23226-1790330400-1790339400@kisdorf.de
SUMMARY:Malgruppe im Träger-Verein Dorfhaus Kisdorf e.V.
DESCRIPTION:Immer Freitags trifft sich die Malgruppe im Träger-Verein Dorfhaus Kisdorf e.V. zum kreativen und künstlerischen Austausch und zur Erstellung neuer Werke. \nEinige der Werke sind in der Groot Deel im Dorfhaus ausgestellt und können ganzjährig begutachtet werden.
URL:https://kisdorf.de/event/malgruppe-im-traeger-verein-dorfhaus-kisdorf-e-v/2026-09-25/
LOCATION:Margarethenhoff Peerstall\, Sengel 1\, Kisdorf\, 24629\, Deutschland
ORGANIZER;CN="Tr%C3%A4ger-Verein Dorfhaus Kisdorf e.V.":MAILTO:hroch@sh-mobile.de
END:VEVENT
BEGIN:VEVENT
DTSTART;TZID=Europe/Berlin:20261002T100000
DTEND;TZID=Europe/Berlin:20261002T123000
DTSTAMP:20260425T181643
CREATED:20220507T160942Z
LAST-MODIFIED:20220507T160942Z
UID:23298-1790935200-1790944200@kisdorf.de
SUMMARY:Malgruppe im Träger-Verein Dorfhaus Kisdorf e.V.
DESCRIPTION:Immer Freitags trifft sich die Malgruppe im Träger-Verein Dorfhaus Kisdorf e.V. zum kreativen und künstlerischen Austausch und zur Erstellung neuer Werke. \nEinige der Werke sind in der Groot Deel im Dorfhaus ausgestellt und können ganzjährig begutachtet werden.
URL:https://kisdorf.de/event/malgruppe-im-traeger-verein-dorfhaus-kisdorf-e-v/2026-10-02/
LOCATION:Margarethenhoff Peerstall\, Sengel 1\, Kisdorf\, 24629\, Deutschland
ORGANIZER;CN="Tr%C3%A4ger-Verein Dorfhaus Kisdorf e.V.":MAILTO:hroch@sh-mobile.de
END:VEVENT
BEGIN:VEVENT
DTSTART;TZID=Europe/Berlin:20261007T193000
DTEND;TZID=Europe/Berlin:20261007T220000
DTSTAMP:20260425T181643
CREATED:20260114T073513Z
LAST-MODIFIED:20260114T073513Z
UID:28249-1791401400-1791410400@kisdorf.de
SUMMARY:CDU Fraktionssitzung (geschlossene Veranstaltung)
DESCRIPTION:Fraktionssitzung
URL:https://kisdorf.de/event/cdu-fraktionssitzung-geschlossene-veranstaltung-10/
LOCATION:Margarethenhoff Peerstall\, Sengel 1\, Kisdorf\, 24629\, Deutschland
END:VEVENT
BEGIN:VEVENT
DTSTART;TZID=Europe/Berlin:20261009T100000
DTEND;TZID=Europe/Berlin:20261009T123000
DTSTAMP:20260425T181643
CREATED:20220507T160942Z
LAST-MODIFIED:20220507T160942Z
UID:23422-1791540000-1791549000@kisdorf.de
SUMMARY:Malgruppe im Träger-Verein Dorfhaus Kisdorf e.V.
DESCRIPTION:Immer Freitags trifft sich die Malgruppe im Träger-Verein Dorfhaus Kisdorf e.V. zum kreativen und künstlerischen Austausch und zur Erstellung neuer Werke. \nEinige der Werke sind in der Groot Deel im Dorfhaus ausgestellt und können ganzjährig begutachtet werden.
URL:https://kisdorf.de/event/malgruppe-im-traeger-verein-dorfhaus-kisdorf-e-v/2026-10-09/
LOCATION:Margarethenhoff Peerstall\, Sengel 1\, Kisdorf\, 24629\, Deutschland
ORGANIZER;CN="Tr%C3%A4ger-Verein Dorfhaus Kisdorf e.V.":MAILTO:hroch@sh-mobile.de
END:VEVENT
BEGIN:VEVENT
DTSTART;TZID=Europe/Berlin:20261013T193000
DTEND;TZID=Europe/Berlin:20261013T213000
DTSTAMP:20260425T181643
CREATED:20251218T075903Z
LAST-MODIFIED:20251218T075903Z
UID:28078-1791919800-1791927000@kisdorf.de
SUMMARY:Ausschuss für Verkehr und Umweltschutz
DESCRIPTION:Öffentliche Sitzung des Ausschusses für Verkehr und Umweltschutz
URL:https://kisdorf.de/event/ausschuss-fuer-verkehr-und-umweltschutz-17/
LOCATION:Margarethenhoff Peerstall\, Sengel 1\, Kisdorf\, 24629\, Deutschland
END:VEVENT
BEGIN:VEVENT
DTSTART;TZID=Europe/Berlin:20261016T100000
DTEND;TZID=Europe/Berlin:20261016T123000
DTSTAMP:20260425T181643
CREATED:20220507T160942Z
LAST-MODIFIED:20220507T160942Z
UID:23485-1792144800-1792153800@kisdorf.de
SUMMARY:Malgruppe im Träger-Verein Dorfhaus Kisdorf e.V.
DESCRIPTION:Immer Freitags trifft sich die Malgruppe im Träger-Verein Dorfhaus Kisdorf e.V. zum kreativen und künstlerischen Austausch und zur Erstellung neuer Werke. \nEinige der Werke sind in der Groot Deel im Dorfhaus ausgestellt und können ganzjährig begutachtet werden.
URL:https://kisdorf.de/event/malgruppe-im-traeger-verein-dorfhaus-kisdorf-e-v/2026-10-16/
LOCATION:Margarethenhoff Peerstall\, Sengel 1\, Kisdorf\, 24629\, Deutschland
ORGANIZER;CN="Tr%C3%A4ger-Verein Dorfhaus Kisdorf e.V.":MAILTO:hroch@sh-mobile.de
END:VEVENT
BEGIN:VEVENT
DTSTART;TZID=Europe/Berlin:20261022T193000
DTEND;TZID=Europe/Berlin:20261022T220000
DTSTAMP:20260425T181643
CREATED:20250128T105550Z
LAST-MODIFIED:20250128T105550Z
UID:27417-1792697400-1792706400@kisdorf.de
SUMMARY:WKB Fraktionssitzung
DESCRIPTION:monatliche Fraktionssitzung
URL:https://kisdorf.de/event/wkb-fraktionssitzung-2/2026-10-22/
LOCATION:Margarethenhoff Peerstall\, Sengel 1\, Kisdorf\, 24629\, Deutschland
END:VEVENT
BEGIN:VEVENT
DTSTART;TZID=Europe/Berlin:20261022T193000
DTEND;TZID=Europe/Berlin:20261022T220000
DTSTAMP:20260425T181643
CREATED:20251019T135048Z
LAST-MODIFIED:20251019T135048Z
UID:27096-1792697400-1792706400@kisdorf.de
SUMMARY:WKB Fraktionssitzung
DESCRIPTION:monatliche WKB Fraktionssitzung
URL:https://kisdorf.de/event/wkb-fraktionssitzung-13/2026-10-22/
LOCATION:Margarethenhoff Peerstall\, Sengel 1\, Kisdorf\, 24629\, Deutschland
END:VEVENT
BEGIN:VEVENT
DTSTART;TZID=Europe/Berlin:20261023T100000
DTEND;TZID=Europe/Berlin:20261023T123000
DTSTAMP:20260425T181643
CREATED:20220507T160942Z
LAST-MODIFIED:20220507T160942Z
UID:23583-1792749600-1792758600@kisdorf.de
SUMMARY:Malgruppe im Träger-Verein Dorfhaus Kisdorf e.V.
DESCRIPTION:Immer Freitags trifft sich die Malgruppe im Träger-Verein Dorfhaus Kisdorf e.V. zum kreativen und künstlerischen Austausch und zur Erstellung neuer Werke. \nEinige der Werke sind in der Groot Deel im Dorfhaus ausgestellt und können ganzjährig begutachtet werden.
URL:https://kisdorf.de/event/malgruppe-im-traeger-verein-dorfhaus-kisdorf-e-v/2026-10-23/
LOCATION:Margarethenhoff Peerstall\, Sengel 1\, Kisdorf\, 24629\, Deutschland
ORGANIZER;CN="Tr%C3%A4ger-Verein Dorfhaus Kisdorf e.V.":MAILTO:hroch@sh-mobile.de
END:VEVENT
BEGIN:VEVENT
DTSTART;TZID=Europe/Berlin:20261030T100000
DTEND;TZID=Europe/Berlin:20261030T123000
DTSTAMP:20260425T181643
CREATED:20220507T160942Z
LAST-MODIFIED:20220507T160942Z
UID:23656-1793354400-1793363400@kisdorf.de
SUMMARY:Malgruppe im Träger-Verein Dorfhaus Kisdorf e.V.
DESCRIPTION:Immer Freitags trifft sich die Malgruppe im Träger-Verein Dorfhaus Kisdorf e.V. zum kreativen und künstlerischen Austausch und zur Erstellung neuer Werke. \nEinige der Werke sind in der Groot Deel im Dorfhaus ausgestellt und können ganzjährig begutachtet werden.
URL:https://kisdorf.de/event/malgruppe-im-traeger-verein-dorfhaus-kisdorf-e-v/2026-10-30/
LOCATION:Margarethenhoff Peerstall\, Sengel 1\, Kisdorf\, 24629\, Deutschland
ORGANIZER;CN="Tr%C3%A4ger-Verein Dorfhaus Kisdorf e.V.":MAILTO:hroch@sh-mobile.de
END:VEVENT
BEGIN:VEVENT
DTSTART;TZID=Europe/Berlin:20261106T100000
DTEND;TZID=Europe/Berlin:20261106T123000
DTSTAMP:20260425T181643
CREATED:20220507T160942Z
LAST-MODIFIED:20220507T160942Z
UID:23726-1793959200-1793968200@kisdorf.de
SUMMARY:Malgruppe im Träger-Verein Dorfhaus Kisdorf e.V.
DESCRIPTION:Immer Freitags trifft sich die Malgruppe im Träger-Verein Dorfhaus Kisdorf e.V. zum kreativen und künstlerischen Austausch und zur Erstellung neuer Werke. \nEinige der Werke sind in der Groot Deel im Dorfhaus ausgestellt und können ganzjährig begutachtet werden.
URL:https://kisdorf.de/event/malgruppe-im-traeger-verein-dorfhaus-kisdorf-e-v/2026-11-06/
LOCATION:Margarethenhoff Peerstall\, Sengel 1\, Kisdorf\, 24629\, Deutschland
ORGANIZER;CN="Tr%C3%A4ger-Verein Dorfhaus Kisdorf e.V.":MAILTO:hroch@sh-mobile.de
END:VEVENT
BEGIN:VEVENT
DTSTART;TZID=Europe/Berlin:20261110T193000
DTEND;TZID=Europe/Berlin:20261110T213000
DTSTAMP:20260425T181643
CREATED:20251218T075903Z
LAST-MODIFIED:20251218T075903Z
UID:28082-1794339000-1794346200@kisdorf.de
SUMMARY:Ausschuss für Verkehr und Umweltschutz
DESCRIPTION:Öffentliche Sitzung des Ausschusses für Verkehr und Umweltschutz
URL:https://kisdorf.de/event/ausschuss-fuer-verkehr-und-umweltschutz-18/
LOCATION:Margarethenhoff Peerstall\, Sengel 1\, Kisdorf\, 24629\, Deutschland
END:VEVENT
BEGIN:VEVENT
DTSTART;TZID=Europe/Berlin:20261113T100000
DTEND;TZID=Europe/Berlin:20261113T123000
DTSTAMP:20260425T181643
CREATED:20220507T160942Z
LAST-MODIFIED:20220507T160942Z
UID:23797-1794564000-1794573000@kisdorf.de
SUMMARY:Malgruppe im Träger-Verein Dorfhaus Kisdorf e.V.
DESCRIPTION:Immer Freitags trifft sich die Malgruppe im Träger-Verein Dorfhaus Kisdorf e.V. zum kreativen und künstlerischen Austausch und zur Erstellung neuer Werke. \nEinige der Werke sind in der Groot Deel im Dorfhaus ausgestellt und können ganzjährig begutachtet werden.
URL:https://kisdorf.de/event/malgruppe-im-traeger-verein-dorfhaus-kisdorf-e-v/2026-11-13/
LOCATION:Margarethenhoff Peerstall\, Sengel 1\, Kisdorf\, 24629\, Deutschland
ORGANIZER;CN="Tr%C3%A4ger-Verein Dorfhaus Kisdorf e.V.":MAILTO:hroch@sh-mobile.de
END:VEVENT
BEGIN:VEVENT
DTSTART;TZID=Europe/Berlin:20261120T100000
DTEND;TZID=Europe/Berlin:20261120T123000
DTSTAMP:20260425T181643
CREATED:20220507T160942Z
LAST-MODIFIED:20220507T160942Z
UID:23898-1795168800-1795177800@kisdorf.de
SUMMARY:Malgruppe im Träger-Verein Dorfhaus Kisdorf e.V.
DESCRIPTION:Immer Freitags trifft sich die Malgruppe im Träger-Verein Dorfhaus Kisdorf e.V. zum kreativen und künstlerischen Austausch und zur Erstellung neuer Werke. \nEinige der Werke sind in der Groot Deel im Dorfhaus ausgestellt und können ganzjährig begutachtet werden.
URL:https://kisdorf.de/event/malgruppe-im-traeger-verein-dorfhaus-kisdorf-e-v/2026-11-20/
LOCATION:Margarethenhoff Peerstall\, Sengel 1\, Kisdorf\, 24629\, Deutschland
ORGANIZER;CN="Tr%C3%A4ger-Verein Dorfhaus Kisdorf e.V.":MAILTO:hroch@sh-mobile.de
END:VEVENT
BEGIN:VEVENT
DTSTART;TZID=Europe/Berlin:20261126T193000
DTEND;TZID=Europe/Berlin:20261126T220000
DTSTAMP:20260425T181643
CREATED:20250128T105550Z
LAST-MODIFIED:20250128T105550Z
UID:27777-1795721400-1795730400@kisdorf.de
SUMMARY:WKB Fraktionssitzung
DESCRIPTION:monatliche Fraktionssitzung
URL:https://kisdorf.de/event/wkb-fraktionssitzung-2/2026-11-26/
LOCATION:Margarethenhoff Peerstall\, Sengel 1\, Kisdorf\, 24629\, Deutschland
END:VEVENT
BEGIN:VEVENT
DTSTART;TZID=Europe/Berlin:20261126T193000
DTEND;TZID=Europe/Berlin:20261126T220000
DTSTAMP:20260425T181643
CREATED:20251019T135048Z
LAST-MODIFIED:20251019T135048Z
UID:27776-1795721400-1795730400@kisdorf.de
SUMMARY:WKB Fraktionssitzung
DESCRIPTION:monatliche WKB Fraktionssitzung
URL:https://kisdorf.de/event/wkb-fraktionssitzung-13/2026-11-26/
LOCATION:Margarethenhoff Peerstall\, Sengel 1\, Kisdorf\, 24629\, Deutschland
END:VEVENT
BEGIN:VEVENT
DTSTART;TZID=Europe/Berlin:20261127T100000
DTEND;TZID=Europe/Berlin:20261127T123000
DTSTAMP:20260425T181643
CREATED:20220507T160942Z
LAST-MODIFIED:20220507T160942Z
UID:27788-1795773600-1795782600@kisdorf.de
SUMMARY:Malgruppe im Träger-Verein Dorfhaus Kisdorf e.V.
DESCRIPTION:Immer Freitags trifft sich die Malgruppe im Träger-Verein Dorfhaus Kisdorf e.V. zum kreativen und künstlerischen Austausch und zur Erstellung neuer Werke. \nEinige der Werke sind in der Groot Deel im Dorfhaus ausgestellt und können ganzjährig begutachtet werden.
URL:https://kisdorf.de/event/malgruppe-im-traeger-verein-dorfhaus-kisdorf-e-v/2026-11-27/
LOCATION:Margarethenhoff Peerstall\, Sengel 1\, Kisdorf\, 24629\, Deutschland
ORGANIZER;CN="Tr%C3%A4ger-Verein Dorfhaus Kisdorf e.V.":MAILTO:hroch@sh-mobile.de
END:VEVENT
BEGIN:VEVENT
DTSTART;TZID=Europe/Berlin:20261202T193000
DTEND;TZID=Europe/Berlin:20261202T220000
DTSTAMP:20260425T181643
CREATED:20260114T073517Z
LAST-MODIFIED:20260114T073517Z
UID:28253-1796239800-1796248800@kisdorf.de
SUMMARY:CDU Fraktionssitzung (geschlossene Veranstaltung)
DESCRIPTION:Fraktionssitzung
URL:https://kisdorf.de/event/cdu-fraktionssitzung-geschlossene-veranstaltung-11/
LOCATION:Margarethenhoff Peerstall\, Sengel 1\, Kisdorf\, 24629\, Deutschland
END:VEVENT
BEGIN:VEVENT
DTSTART;TZID=Europe/Berlin:20261204T100000
DTEND;TZID=Europe/Berlin:20261204T123000
DTSTAMP:20260425T181643
CREATED:20220507T160942Z
LAST-MODIFIED:20220507T160942Z
UID:27854-1796378400-1796387400@kisdorf.de
SUMMARY:Malgruppe im Träger-Verein Dorfhaus Kisdorf e.V.
DESCRIPTION:Immer Freitags trifft sich die Malgruppe im Träger-Verein Dorfhaus Kisdorf e.V. zum kreativen und künstlerischen Austausch und zur Erstellung neuer Werke. \nEinige der Werke sind in der Groot Deel im Dorfhaus ausgestellt und können ganzjährig begutachtet werden.
URL:https://kisdorf.de/event/malgruppe-im-traeger-verein-dorfhaus-kisdorf-e-v/2026-12-04/
LOCATION:Margarethenhoff Peerstall\, Sengel 1\, Kisdorf\, 24629\, Deutschland
ORGANIZER;CN="Tr%C3%A4ger-Verein Dorfhaus Kisdorf e.V.":MAILTO:hroch@sh-mobile.de
END:VEVENT
BEGIN:VEVENT
DTSTART;TZID=Europe/Berlin:20261208T193000
DTEND;TZID=Europe/Berlin:20261208T213000
DTSTAMP:20260425T181643
CREATED:20251218T075904Z
LAST-MODIFIED:20251218T075904Z
UID:28086-1796758200-1796765400@kisdorf.de
SUMMARY:Ausschuss für Verkehr und Umweltschutz
DESCRIPTION:Öffentliche Sitzung des Ausschusses für Verkehr und Umweltschutz
URL:https://kisdorf.de/event/ausschuss-fuer-verkehr-und-umweltschutz-19/
LOCATION:Margarethenhoff Peerstall\, Sengel 1\, Kisdorf\, 24629\, Deutschland
END:VEVENT
BEGIN:VEVENT
DTSTART;TZID=Europe/Berlin:20261211T100000
DTEND;TZID=Europe/Berlin:20261211T123000
DTSTAMP:20260425T181643
CREATED:20220507T160942Z
LAST-MODIFIED:20220507T160942Z
UID:27976-1796983200-1796992200@kisdorf.de
SUMMARY:Malgruppe im Träger-Verein Dorfhaus Kisdorf e.V.
DESCRIPTION:Immer Freitags trifft sich die Malgruppe im Träger-Verein Dorfhaus Kisdorf e.V. zum kreativen und künstlerischen Austausch und zur Erstellung neuer Werke. \nEinige der Werke sind in der Groot Deel im Dorfhaus ausgestellt und können ganzjährig begutachtet werden.
URL:https://kisdorf.de/event/malgruppe-im-traeger-verein-dorfhaus-kisdorf-e-v/2026-12-11/
LOCATION:Margarethenhoff Peerstall\, Sengel 1\, Kisdorf\, 24629\, Deutschland
ORGANIZER;CN="Tr%C3%A4ger-Verein Dorfhaus Kisdorf e.V.":MAILTO:hroch@sh-mobile.de
END:VEVENT
BEGIN:VEVENT
DTSTART;TZID=Europe/Berlin:20261218T100000
DTEND;TZID=Europe/Berlin:20261218T123000
DTSTAMP:20260425T181643
CREATED:20220507T160942Z
LAST-MODIFIED:20220507T160942Z
UID:28099-1797588000-1797597000@kisdorf.de
SUMMARY:Malgruppe im Träger-Verein Dorfhaus Kisdorf e.V.
DESCRIPTION:Immer Freitags trifft sich die Malgruppe im Träger-Verein Dorfhaus Kisdorf e.V. zum kreativen und künstlerischen Austausch und zur Erstellung neuer Werke. \nEinige der Werke sind in der Groot Deel im Dorfhaus ausgestellt und können ganzjährig begutachtet werden.
URL:https://kisdorf.de/event/malgruppe-im-traeger-verein-dorfhaus-kisdorf-e-v/2026-12-18/
LOCATION:Margarethenhoff Peerstall\, Sengel 1\, Kisdorf\, 24629\, Deutschland
ORGANIZER;CN="Tr%C3%A4ger-Verein Dorfhaus Kisdorf e.V.":MAILTO:hroch@sh-mobile.de
END:VEVENT
BEGIN:VEVENT
DTSTART;TZID=Europe/Berlin:20261224T193000
DTEND;TZID=Europe/Berlin:20261224T220000
DTSTAMP:20260425T181643
CREATED:20250128T105550Z
LAST-MODIFIED:20250128T105550Z
UID:28127-1798140600-1798149600@kisdorf.de
SUMMARY:WKB Fraktionssitzung
DESCRIPTION:monatliche Fraktionssitzung
URL:https://kisdorf.de/event/wkb-fraktionssitzung-2/2026-12-24/
LOCATION:Margarethenhoff Peerstall\, Sengel 1\, Kisdorf\, 24629\, Deutschland
END:VEVENT
END:VCALENDAR