BEGIN:VCALENDAR
VERSION:2.0
PRODID:-//Kisdorf.de - ECPv6.15.12.2//NONSGML v1.0//EN
CALSCALE:GREGORIAN
METHOD:PUBLISH
X-ORIGINAL-URL:https://kisdorf.de
X-WR-CALDESC:Veranstaltungen für Kisdorf.de
REFRESH-INTERVAL;VALUE=DURATION:PT1H
X-Robots-Tag:noindex
X-PUBLISHED-TTL:PT1H
BEGIN:VTIMEZONE
TZID:Europe/Berlin
BEGIN:DAYLIGHT
TZOFFSETFROM:+0100
TZOFFSETTO:+0200
TZNAME:CEST
DTSTART:20250330T010000
END:DAYLIGHT
BEGIN:STANDARD
TZOFFSETFROM:+0200
TZOFFSETTO:+0100
TZNAME:CET
DTSTART:20251026T010000
END:STANDARD
BEGIN:DAYLIGHT
TZOFFSETFROM:+0100
TZOFFSETTO:+0200
TZNAME:CEST
DTSTART:20260329T010000
END:DAYLIGHT
BEGIN:STANDARD
TZOFFSETFROM:+0200
TZOFFSETTO:+0100
TZNAME:CET
DTSTART:20261025T010000
END:STANDARD
BEGIN:DAYLIGHT
TZOFFSETFROM:+0100
TZOFFSETTO:+0200
TZNAME:CEST
DTSTART:20270328T010000
END:DAYLIGHT
BEGIN:STANDARD
TZOFFSETFROM:+0200
TZOFFSETTO:+0100
TZNAME:CET
DTSTART:20271031T010000
END:STANDARD
END:VTIMEZONE
BEGIN:VEVENT
DTSTART;TZID=Europe/Berlin:20260523T080000
DTEND;TZID=Europe/Berlin:20260524T075959
DTSTAMP:20260424T135503
CREATED:20230226T201403Z
LAST-MODIFIED:20230226T201403Z
UID:21389-1779523200-1779609599@kisdorf.de
SUMMARY:Gastronomische Veranstaltung
DESCRIPTION:private Veranstaltung
URL:https://kisdorf.de/event/gastronomische-veranstaltung-5/2026-05-23/
LOCATION:Margarethenhoff (Gesamt)\, Sengel 1\, Kisdorf\, 24269\, Deutschland
ORGANIZER;CN="Restaurant Pellegrini":MAILTO:info@margarethenhoff.de
END:VEVENT
BEGIN:VEVENT
DTSTART;TZID=Europe/Berlin:20260524T080000
DTEND;TZID=Europe/Berlin:20260525T075959
DTSTAMP:20260424T135503
CREATED:20230226T201403Z
LAST-MODIFIED:20230226T201403Z
UID:21488-1779609600-1779695999@kisdorf.de
SUMMARY:Gastronomische Veranstaltung
DESCRIPTION:private Veranstaltung
URL:https://kisdorf.de/event/gastronomische-veranstaltung-5/2026-05-24/
LOCATION:Margarethenhoff (Gesamt)\, Sengel 1\, Kisdorf\, 24269\, Deutschland
ORGANIZER;CN="Restaurant Pellegrini":MAILTO:info@margarethenhoff.de
END:VEVENT
BEGIN:VEVENT
DTSTART;TZID=Europe/Berlin:20260530T080000
DTEND;TZID=Europe/Berlin:20260531T075959
DTSTAMP:20260424T135503
CREATED:20230226T201403Z
LAST-MODIFIED:20230226T201403Z
UID:21487-1780128000-1780214399@kisdorf.de
SUMMARY:Gastronomische Veranstaltung
DESCRIPTION:private Veranstaltung
URL:https://kisdorf.de/event/gastronomische-veranstaltung-5/2026-05-30/
LOCATION:Margarethenhoff (Gesamt)\, Sengel 1\, Kisdorf\, 24269\, Deutschland
ORGANIZER;CN="Restaurant Pellegrini":MAILTO:info@margarethenhoff.de
END:VEVENT
BEGIN:VEVENT
DTSTART;TZID=Europe/Berlin:20260531T080000
DTEND;TZID=Europe/Berlin:20260601T075959
DTSTAMP:20260424T135503
CREATED:20230226T201403Z
LAST-MODIFIED:20230226T201403Z
UID:21593-1780214400-1780300799@kisdorf.de
SUMMARY:Gastronomische Veranstaltung
DESCRIPTION:private Veranstaltung
URL:https://kisdorf.de/event/gastronomische-veranstaltung-5/2026-05-31/
LOCATION:Margarethenhoff (Gesamt)\, Sengel 1\, Kisdorf\, 24269\, Deutschland
ORGANIZER;CN="Restaurant Pellegrini":MAILTO:info@margarethenhoff.de
END:VEVENT
BEGIN:VEVENT
DTSTART;TZID=Europe/Berlin:20260605T080000
DTEND;TZID=Europe/Berlin:20260605T170000
DTSTAMP:20260424T135503
CREATED:20250217T072157Z
LAST-MODIFIED:20250217T072157Z
UID:24736-1780646400-1780678800@kisdorf.de
SUMMARY:Kulturelle Veranstaltung TV Dorfhaus Kisdorf
DESCRIPTION:Details folgen
URL:https://kisdorf.de/event/kulturelle-veranstaltung-tv-dorfhaus-kisdorf-4/
LOCATION:Margarethenhoff (Gesamt)\, Sengel 1\, Kisdorf\, 24269\, Deutschland
ORGANIZER;CN="Tr%C3%A4ger-Verein Dorfhaus Kisdorf e.V.":MAILTO:hroch@sh-mobile.de
END:VEVENT
BEGIN:VEVENT
DTSTART;TZID=Europe/Berlin:20260606T080000
DTEND;TZID=Europe/Berlin:20260607T075959
DTSTAMP:20260424T135503
CREATED:20230226T201403Z
LAST-MODIFIED:20230226T201403Z
UID:21592-1780732800-1780819199@kisdorf.de
SUMMARY:Gastronomische Veranstaltung
DESCRIPTION:private Veranstaltung
URL:https://kisdorf.de/event/gastronomische-veranstaltung-5/2026-06-06/
LOCATION:Margarethenhoff (Gesamt)\, Sengel 1\, Kisdorf\, 24269\, Deutschland
ORGANIZER;CN="Restaurant Pellegrini":MAILTO:info@margarethenhoff.de
END:VEVENT
BEGIN:VEVENT
DTSTART;TZID=Europe/Berlin:20260607T080000
DTEND;TZID=Europe/Berlin:20260608T075959
DTSTAMP:20260424T135503
CREATED:20230226T201403Z
LAST-MODIFIED:20230226T201403Z
UID:21753-1780819200-1780905599@kisdorf.de
SUMMARY:Gastronomische Veranstaltung
DESCRIPTION:private Veranstaltung
URL:https://kisdorf.de/event/gastronomische-veranstaltung-5/2026-06-07/
LOCATION:Margarethenhoff (Gesamt)\, Sengel 1\, Kisdorf\, 24269\, Deutschland
ORGANIZER;CN="Restaurant Pellegrini":MAILTO:info@margarethenhoff.de
END:VEVENT
BEGIN:VEVENT
DTSTART;TZID=Europe/Berlin:20260613T080000
DTEND;TZID=Europe/Berlin:20260614T075959
DTSTAMP:20260424T135503
CREATED:20230226T201403Z
LAST-MODIFIED:20230226T201403Z
UID:21752-1781337600-1781423999@kisdorf.de
SUMMARY:Gastronomische Veranstaltung
DESCRIPTION:private Veranstaltung
URL:https://kisdorf.de/event/gastronomische-veranstaltung-5/2026-06-13/
LOCATION:Margarethenhoff (Gesamt)\, Sengel 1\, Kisdorf\, 24269\, Deutschland
ORGANIZER;CN="Restaurant Pellegrini":MAILTO:info@margarethenhoff.de
END:VEVENT
BEGIN:VEVENT
DTSTART;TZID=Europe/Berlin:20260614T080000
DTEND;TZID=Europe/Berlin:20260615T075959
DTSTAMP:20260424T135503
CREATED:20230226T201403Z
LAST-MODIFIED:20230226T201403Z
UID:21830-1781424000-1781510399@kisdorf.de
SUMMARY:Gastronomische Veranstaltung
DESCRIPTION:private Veranstaltung
URL:https://kisdorf.de/event/gastronomische-veranstaltung-5/2026-06-14/
LOCATION:Margarethenhoff (Gesamt)\, Sengel 1\, Kisdorf\, 24269\, Deutschland
ORGANIZER;CN="Restaurant Pellegrini":MAILTO:info@margarethenhoff.de
END:VEVENT
BEGIN:VEVENT
DTSTART;TZID=Europe/Berlin:20260620T080000
DTEND;TZID=Europe/Berlin:20260621T075959
DTSTAMP:20260424T135503
CREATED:20230226T201403Z
LAST-MODIFIED:20230226T201403Z
UID:21829-1781942400-1782028799@kisdorf.de
SUMMARY:Gastronomische Veranstaltung
DESCRIPTION:private Veranstaltung
URL:https://kisdorf.de/event/gastronomische-veranstaltung-5/2026-06-20/
LOCATION:Margarethenhoff (Gesamt)\, Sengel 1\, Kisdorf\, 24269\, Deutschland
ORGANIZER;CN="Restaurant Pellegrini":MAILTO:info@margarethenhoff.de
END:VEVENT
BEGIN:VEVENT
DTSTART;TZID=Europe/Berlin:20260621T080000
DTEND;TZID=Europe/Berlin:20260622T075959
DTSTAMP:20260424T135503
CREATED:20230226T201403Z
LAST-MODIFIED:20230226T201403Z
UID:21890-1782028800-1782115199@kisdorf.de
SUMMARY:Gastronomische Veranstaltung
DESCRIPTION:private Veranstaltung
URL:https://kisdorf.de/event/gastronomische-veranstaltung-5/2026-06-21/
LOCATION:Margarethenhoff (Gesamt)\, Sengel 1\, Kisdorf\, 24269\, Deutschland
ORGANIZER;CN="Restaurant Pellegrini":MAILTO:info@margarethenhoff.de
END:VEVENT
BEGIN:VEVENT
DTSTART;TZID=Europe/Berlin:20260627T080000
DTEND;TZID=Europe/Berlin:20260628T075959
DTSTAMP:20260424T135503
CREATED:20230226T201403Z
LAST-MODIFIED:20230226T201403Z
UID:21889-1782547200-1782633599@kisdorf.de
SUMMARY:Gastronomische Veranstaltung
DESCRIPTION:private Veranstaltung
URL:https://kisdorf.de/event/gastronomische-veranstaltung-5/2026-06-27/
LOCATION:Margarethenhoff (Gesamt)\, Sengel 1\, Kisdorf\, 24269\, Deutschland
ORGANIZER;CN="Restaurant Pellegrini":MAILTO:info@margarethenhoff.de
END:VEVENT
BEGIN:VEVENT
DTSTART;TZID=Europe/Berlin:20260628T080000
DTEND;TZID=Europe/Berlin:20260629T075959
DTSTAMP:20260424T135503
CREATED:20230226T201403Z
LAST-MODIFIED:20230226T201403Z
UID:22025-1782633600-1782719999@kisdorf.de
SUMMARY:Gastronomische Veranstaltung
DESCRIPTION:private Veranstaltung
URL:https://kisdorf.de/event/gastronomische-veranstaltung-5/2026-06-28/
LOCATION:Margarethenhoff (Gesamt)\, Sengel 1\, Kisdorf\, 24269\, Deutschland
ORGANIZER;CN="Restaurant Pellegrini":MAILTO:info@margarethenhoff.de
END:VEVENT
BEGIN:VEVENT
DTSTART;TZID=Europe/Berlin:20260704T080000
DTEND;TZID=Europe/Berlin:20260705T075959
DTSTAMP:20260424T135503
CREATED:20230226T201403Z
LAST-MODIFIED:20230226T201403Z
UID:22024-1783152000-1783238399@kisdorf.de
SUMMARY:Gastronomische Veranstaltung
DESCRIPTION:private Veranstaltung
URL:https://kisdorf.de/event/gastronomische-veranstaltung-5/2026-07-04/
LOCATION:Margarethenhoff (Gesamt)\, Sengel 1\, Kisdorf\, 24269\, Deutschland
ORGANIZER;CN="Restaurant Pellegrini":MAILTO:info@margarethenhoff.de
END:VEVENT
BEGIN:VEVENT
DTSTART;TZID=Europe/Berlin:20260705T080000
DTEND;TZID=Europe/Berlin:20260706T075959
DTSTAMP:20260424T135503
CREATED:20230226T201403Z
LAST-MODIFIED:20230226T201403Z
UID:22188-1783238400-1783324799@kisdorf.de
SUMMARY:Gastronomische Veranstaltung
DESCRIPTION:private Veranstaltung
URL:https://kisdorf.de/event/gastronomische-veranstaltung-5/2026-07-05/
LOCATION:Margarethenhoff (Gesamt)\, Sengel 1\, Kisdorf\, 24269\, Deutschland
ORGANIZER;CN="Restaurant Pellegrini":MAILTO:info@margarethenhoff.de
END:VEVENT
BEGIN:VEVENT
DTSTART;TZID=Europe/Berlin:20260711T080000
DTEND;TZID=Europe/Berlin:20260712T075959
DTSTAMP:20260424T135503
CREATED:20230226T201403Z
LAST-MODIFIED:20230226T201403Z
UID:22187-1783756800-1783843199@kisdorf.de
SUMMARY:Gastronomische Veranstaltung
DESCRIPTION:private Veranstaltung
URL:https://kisdorf.de/event/gastronomische-veranstaltung-5/2026-07-11/
LOCATION:Margarethenhoff (Gesamt)\, Sengel 1\, Kisdorf\, 24269\, Deutschland
ORGANIZER;CN="Restaurant Pellegrini":MAILTO:info@margarethenhoff.de
END:VEVENT
BEGIN:VEVENT
DTSTART;TZID=Europe/Berlin:20260712T080000
DTEND;TZID=Europe/Berlin:20260713T075959
DTSTAMP:20260424T135503
CREATED:20230226T201403Z
LAST-MODIFIED:20230226T201403Z
UID:22333-1783843200-1783929599@kisdorf.de
SUMMARY:Gastronomische Veranstaltung
DESCRIPTION:private Veranstaltung
URL:https://kisdorf.de/event/gastronomische-veranstaltung-5/2026-07-12/
LOCATION:Margarethenhoff (Gesamt)\, Sengel 1\, Kisdorf\, 24269\, Deutschland
ORGANIZER;CN="Restaurant Pellegrini":MAILTO:info@margarethenhoff.de
END:VEVENT
BEGIN:VEVENT
DTSTART;TZID=Europe/Berlin:20260718T080000
DTEND;TZID=Europe/Berlin:20260719T075959
DTSTAMP:20260424T135503
CREATED:20230226T201403Z
LAST-MODIFIED:20230226T201403Z
UID:22332-1784361600-1784447999@kisdorf.de
SUMMARY:Gastronomische Veranstaltung
DESCRIPTION:private Veranstaltung
URL:https://kisdorf.de/event/gastronomische-veranstaltung-5/2026-07-18/
LOCATION:Margarethenhoff (Gesamt)\, Sengel 1\, Kisdorf\, 24269\, Deutschland
ORGANIZER;CN="Restaurant Pellegrini":MAILTO:info@margarethenhoff.de
END:VEVENT
BEGIN:VEVENT
DTSTART;TZID=Europe/Berlin:20260719T080000
DTEND;TZID=Europe/Berlin:20260720T075959
DTSTAMP:20260424T135503
CREATED:20230226T201403Z
LAST-MODIFIED:20230226T201403Z
UID:22481-1784448000-1784534399@kisdorf.de
SUMMARY:Gastronomische Veranstaltung
DESCRIPTION:private Veranstaltung
URL:https://kisdorf.de/event/gastronomische-veranstaltung-5/2026-07-19/
LOCATION:Margarethenhoff (Gesamt)\, Sengel 1\, Kisdorf\, 24269\, Deutschland
ORGANIZER;CN="Restaurant Pellegrini":MAILTO:info@margarethenhoff.de
END:VEVENT
BEGIN:VEVENT
DTSTART;TZID=Europe/Berlin:20260725T080000
DTEND;TZID=Europe/Berlin:20260726T075959
DTSTAMP:20260424T135503
CREATED:20230226T201403Z
LAST-MODIFIED:20230226T201403Z
UID:22480-1784966400-1785052799@kisdorf.de
SUMMARY:Gastronomische Veranstaltung
DESCRIPTION:private Veranstaltung
URL:https://kisdorf.de/event/gastronomische-veranstaltung-5/2026-07-25/
LOCATION:Margarethenhoff (Gesamt)\, Sengel 1\, Kisdorf\, 24269\, Deutschland
ORGANIZER;CN="Restaurant Pellegrini":MAILTO:info@margarethenhoff.de
END:VEVENT
BEGIN:VEVENT
DTSTART;TZID=Europe/Berlin:20260726T080000
DTEND;TZID=Europe/Berlin:20260727T075959
DTSTAMP:20260424T135503
CREATED:20230226T201403Z
LAST-MODIFIED:20230226T201403Z
UID:22683-1785052800-1785139199@kisdorf.de
SUMMARY:Gastronomische Veranstaltung
DESCRIPTION:private Veranstaltung
URL:https://kisdorf.de/event/gastronomische-veranstaltung-5/2026-07-26/
LOCATION:Margarethenhoff (Gesamt)\, Sengel 1\, Kisdorf\, 24269\, Deutschland
ORGANIZER;CN="Restaurant Pellegrini":MAILTO:info@margarethenhoff.de
END:VEVENT
BEGIN:VEVENT
DTSTART;TZID=Europe/Berlin:20260801T080000
DTEND;TZID=Europe/Berlin:20260802T075959
DTSTAMP:20260424T135503
CREATED:20230226T201403Z
LAST-MODIFIED:20230226T201403Z
UID:22682-1785571200-1785657599@kisdorf.de
SUMMARY:Gastronomische Veranstaltung
DESCRIPTION:private Veranstaltung
URL:https://kisdorf.de/event/gastronomische-veranstaltung-5/2026-08-01/
LOCATION:Margarethenhoff (Gesamt)\, Sengel 1\, Kisdorf\, 24269\, Deutschland
ORGANIZER;CN="Restaurant Pellegrini":MAILTO:info@margarethenhoff.de
END:VEVENT
BEGIN:VEVENT
DTSTART;TZID=Europe/Berlin:20260802T080000
DTEND;TZID=Europe/Berlin:20260803T075959
DTSTAMP:20260424T135503
CREATED:20230226T201403Z
LAST-MODIFIED:20230226T201403Z
UID:22754-1785657600-1785743999@kisdorf.de
SUMMARY:Gastronomische Veranstaltung
DESCRIPTION:private Veranstaltung
URL:https://kisdorf.de/event/gastronomische-veranstaltung-5/2026-08-02/
LOCATION:Margarethenhoff (Gesamt)\, Sengel 1\, Kisdorf\, 24269\, Deutschland
ORGANIZER;CN="Restaurant Pellegrini":MAILTO:info@margarethenhoff.de
END:VEVENT
BEGIN:VEVENT
DTSTART;TZID=Europe/Berlin:20260808T080000
DTEND;TZID=Europe/Berlin:20260809T075959
DTSTAMP:20260424T135503
CREATED:20230226T201403Z
LAST-MODIFIED:20230226T201403Z
UID:22753-1786176000-1786262399@kisdorf.de
SUMMARY:Gastronomische Veranstaltung
DESCRIPTION:private Veranstaltung
URL:https://kisdorf.de/event/gastronomische-veranstaltung-5/2026-08-08/
LOCATION:Margarethenhoff (Gesamt)\, Sengel 1\, Kisdorf\, 24269\, Deutschland
ORGANIZER;CN="Restaurant Pellegrini":MAILTO:info@margarethenhoff.de
END:VEVENT
BEGIN:VEVENT
DTSTART;TZID=Europe/Berlin:20260809T080000
DTEND;TZID=Europe/Berlin:20260810T075959
DTSTAMP:20260424T135503
CREATED:20230226T201403Z
LAST-MODIFIED:20230226T201403Z
UID:22822-1786262400-1786348799@kisdorf.de
SUMMARY:Gastronomische Veranstaltung
DESCRIPTION:private Veranstaltung
URL:https://kisdorf.de/event/gastronomische-veranstaltung-5/2026-08-09/
LOCATION:Margarethenhoff (Gesamt)\, Sengel 1\, Kisdorf\, 24269\, Deutschland
ORGANIZER;CN="Restaurant Pellegrini":MAILTO:info@margarethenhoff.de
END:VEVENT
BEGIN:VEVENT
DTSTART;TZID=Europe/Berlin:20260815T080000
DTEND;TZID=Europe/Berlin:20260816T075959
DTSTAMP:20260424T135503
CREATED:20230226T201403Z
LAST-MODIFIED:20230226T201403Z
UID:22821-1786780800-1786867199@kisdorf.de
SUMMARY:Gastronomische Veranstaltung
DESCRIPTION:private Veranstaltung
URL:https://kisdorf.de/event/gastronomische-veranstaltung-5/2026-08-15/
LOCATION:Margarethenhoff (Gesamt)\, Sengel 1\, Kisdorf\, 24269\, Deutschland
ORGANIZER;CN="Restaurant Pellegrini":MAILTO:info@margarethenhoff.de
END:VEVENT
BEGIN:VEVENT
DTSTART;TZID=Europe/Berlin:20260816T080000
DTEND;TZID=Europe/Berlin:20260817T075959
DTSTAMP:20260424T135503
CREATED:20230226T201403Z
LAST-MODIFIED:20230226T201403Z
UID:22895-1786867200-1786953599@kisdorf.de
SUMMARY:Gastronomische Veranstaltung
DESCRIPTION:private Veranstaltung
URL:https://kisdorf.de/event/gastronomische-veranstaltung-5/2026-08-16/
LOCATION:Margarethenhoff (Gesamt)\, Sengel 1\, Kisdorf\, 24269\, Deutschland
ORGANIZER;CN="Restaurant Pellegrini":MAILTO:info@margarethenhoff.de
END:VEVENT
BEGIN:VEVENT
DTSTART;VALUE=DATE:20260821
DTEND;VALUE=DATE:20260823
DTSTAMP:20260424T135503
CREATED:20250217T072157Z
LAST-MODIFIED:20250217T072157Z
UID:24740-1787299200-1787385599@kisdorf.de
SUMMARY:Kulturelle Veranstaltung TV Dorfhaus Kisdorf
DESCRIPTION:Details folgen
URL:https://kisdorf.de/event/kulturelle-veranstaltung-tv-dorfhaus-kisdorf-5/
LOCATION:Margarethenhoff (Gesamt)\, Sengel 1\, Kisdorf\, 24269\, Deutschland
ORGANIZER;CN="Tr%C3%A4ger-Verein Dorfhaus Kisdorf e.V.":MAILTO:hroch@sh-mobile.de
END:VEVENT
BEGIN:VEVENT
DTSTART;TZID=Europe/Berlin:20260822T080000
DTEND;TZID=Europe/Berlin:20260823T075959
DTSTAMP:20260424T135503
CREATED:20230226T201403Z
LAST-MODIFIED:20230226T201403Z
UID:22894-1787385600-1787471999@kisdorf.de
SUMMARY:Gastronomische Veranstaltung
DESCRIPTION:private Veranstaltung
URL:https://kisdorf.de/event/gastronomische-veranstaltung-5/2026-08-22/
LOCATION:Margarethenhoff (Gesamt)\, Sengel 1\, Kisdorf\, 24269\, Deutschland
ORGANIZER;CN="Restaurant Pellegrini":MAILTO:info@margarethenhoff.de
END:VEVENT
BEGIN:VEVENT
DTSTART;TZID=Europe/Berlin:20260823T080000
DTEND;TZID=Europe/Berlin:20260824T075959
DTSTAMP:20260424T135503
CREATED:20230226T201403Z
LAST-MODIFIED:20230226T201403Z
UID:22970-1787472000-1787558399@kisdorf.de
SUMMARY:Gastronomische Veranstaltung
DESCRIPTION:private Veranstaltung
URL:https://kisdorf.de/event/gastronomische-veranstaltung-5/2026-08-23/
LOCATION:Margarethenhoff (Gesamt)\, Sengel 1\, Kisdorf\, 24269\, Deutschland
ORGANIZER;CN="Restaurant Pellegrini":MAILTO:info@margarethenhoff.de
END:VEVENT
END:VCALENDAR